Back
From: metabase:user:322078bc-2aae-11df-837a-5e0a49663a4f
Subject: PASS Curses-UI-0.9607 v5.13.10 NetBSD
Date: 2011-03-29T06:38:39Z
This distribution has been tested as part of the CPAN Testers
project, supporting the Perl programming language. See
http://wiki.cpantesters.org/ for more information or email
questions to cpan-testers-discuss@perl.org
--
Dear Shawn Boyette,
This is a computer-generated error report created automatically by
CPANPLUS, version 0.9103. Testers personal comments may appear
at the end of this report.
MAKE TEST passed: /home/cpan/pit/thr/perl-5.13.10/bin/perl5.13.10 "-Iinc" /home/cpan/pit/thr/conf/perl-5.13.10/.cpanplus/5.13.10/build/Curses-UI-0.9607/Makefile.PL --config= --installdeps=Curses,0,Term::ReadKey,0
Cannot determine perl version info from lib/Curses/UI.pm
WARNING: 'All rights reserved' in copyright may invalidate Open Source license.
PERL_DL_NONLAZY=1 /home/cpan/pit/thr/perl-5.13.10/bin/perl5.13.10 "-MExtUtils::Command::MM" "-e" "test_harness(0, 'inc', 'blib/lib', 'blib/arch')" t/01base_classes.t t/02widget_classes.t t/03dialog_classes.t t/04language_classes.t t/05pod.t t/06ui.t t/07widget.t t/08common.t t/09label.t t/10texteditor.t t/11listbox.t t/12gpm_handler.t t/13notebook.t t/99misc.t
Prototype after '@' for Curses::UI::Widget::width_by_windowscrwidth : $@; at /home/cpan/pit/thr/conf/perl-5.13.10/.cpanplus/5.13.10/build/Curses-UI-0.9607/t/../lib/Curses/UI/Widget.pm line 356.
Prototype after '@' for Curses::UI::Widget::height_by_windowscrheight : $@; at /home/cpan/pit/thr/conf/perl-5.13.10/.cpanplus/5.13.10/build/Curses-UI-0.9607/t/../lib/Curses/UI/Widget.pm line 380.
Prototype after '@' for Curses::UI::Widget::set_binding : $@; at /home/cpan/pit/thr/conf/perl-5.13.10/.cpanplus/5.13.10/build/Curses-UI-0.9607/t/../lib/Curses/UI/Widget.pm line 898.
Prototype after '@' for Curses::UI::Widget::set_mouse_binding : $@; at /home/cpan/pit/thr/conf/perl-5.13.10/.cpanplus/5.13.10/build/Curses-UI-0.9607/t/../lib/Curses/UI/Widget.pm line 924.
Prototype after '@' for Curses::UI::Container::add : $@; at /home/cpan/pit/thr/conf/perl-5.13.10/.cpanplus/5.13.10/build/Curses-UI-0.9607/t/../lib/Curses/UI/Container.pm line 67.
Prototype after '@' for Curses::UI::Container::set_focusorder : @; at /home/cpan/pit/thr/conf/perl-5.13.10/.cpanplus/5.13.10/build/Curses-UI-0.9607/t/../lib/Curses/UI/Container.pm line 475.
Prototype after '@' for Curses::UI::Container::set_draworder : @; at /home/cpan/pit/thr/conf/perl-5.13.10/.cpanplus/5.13.10/build/Curses-UI-0.9607/t/../lib/Curses/UI/Container.pm line 483.
t/01base_classes.t ...... ok
Prototype after '@' for Curses::UI::Widget::width_by_windowscrwidth : $@; at /home/cpan/pit/thr/conf/perl-5.13.10/.cpanplus/5.13.10/build/Curses-UI-0.9607/blib/lib/Curses/UI/Widget.pm line 356.
Prototype after '@' for Curses::UI::Widget::height_by_windowscrheight : $@; at /home/cpan/pit/thr/conf/perl-5.13.10/.cpanplus/5.13.10/build/Curses-UI-0.9607/blib/lib/Curses/UI/Widget.pm line 380.
Prototype after '@' for Curses::UI::Widget::set_binding : $@; at /home/cpan/pit/thr/conf/perl-5.13.10/.cpanplus/5.13.10/build/Curses-UI-0.9607/blib/lib/Curses/UI/Widget.pm line 898.
Prototype after '@' for Curses::UI::Widget::set_mouse_binding : $@; at /home/cpan/pit/thr/conf/perl-5.13.10/.cpanplus/5.13.10/build/Curses-UI-0.9607/blib/lib/Curses/UI/Widget.pm line 924.
Prototype after '@' for Curses::UI::Container::add : $@; at /home/cpan/pit/thr/conf/perl-5.13.10/.cpanplus/5.13.10/build/Curses-UI-0.9607/blib/lib/Curses/UI/Container.pm line 67.
Prototype after '@' for Curses::UI::Container::set_focusorder : @; at /home/cpan/pit/thr/conf/perl-5.13.10/.cpanplus/5.13.10/build/Curses-UI-0.9607/blib/lib/Curses/UI/Container.pm line 475.
Prototype after '@' for Curses::UI::Container::set_draworder : @; at /home/cpan/pit/thr/conf/perl-5.13.10/.cpanplus/5.13.10/build/Curses-UI-0.9607/blib/lib/Curses/UI/Container.pm line 483.
Prototype after '@' for Curses::UI::Listbox::maxlabelwidth : @; at /home/cpan/pit/thr/conf/perl-5.13.10/.cpanplus/5.13.10/build/Curses-UI-0.9607/blib/lib/Curses/UI/Listbox.pm line 221.
t/02widget_classes.t .... ok
Prototype after '@' for Curses::UI::Widget::width_by_windowscrwidth : $@; at /home/cpan/pit/thr/conf/perl-5.13.10/.cpanplus/5.13.10/build/Curses-UI-0.9607/blib/lib/Curses/UI/Widget.pm line 356.
Prototype after '@' for Curses::UI::Widget::height_by_windowscrheight : $@; at /home/cpan/pit/thr/conf/perl-5.13.10/.cpanplus/5.13.10/build/Curses-UI-0.9607/blib/lib/Curses/UI/Widget.pm line 380.
Prototype after '@' for Curses::UI::Widget::set_binding : $@; at /home/cpan/pit/thr/conf/perl-5.13.10/.cpanplus/5.13.10/build/Curses-UI-0.9607/blib/lib/Curses/UI/Widget.pm line 898.
Prototype after '@' for Curses::UI::Widget::set_mouse_binding : $@; at /home/cpan/pit/thr/conf/perl-5.13.10/.cpanplus/5.13.10/build/Curses-UI-0.9607/blib/lib/Curses/UI/Widget.pm line 924.
Prototype after '@' for Curses::UI::Container::add : $@; at /home/cpan/pit/thr/conf/perl-5.13.10/.cpanplus/5.13.10/build/Curses-UI-0.9607/blib/lib/Curses/UI/Container.pm line 67.
Prototype after '@' for Curses::UI::Container::set_focusorder : @; at /home/cpan/pit/thr/conf/perl-5.13.10/.cpanplus/5.13.10/build/Curses-UI-0.9607/blib/lib/Curses/UI/Container.pm line 475.
Prototype after '@' for Curses::UI::Container::set_draworder : @; at /home/cpan/pit/thr/conf/perl-5.13.10/.cpanplus/5.13.10/build/Curses-UI-0.9607/blib/lib/Curses/UI/Container.pm line 483.
t/03dialog_classes.t .... ok
Prototype after '@' for Curses::UI::Widget::width_by_windowscrwidth : $@; at /home/cpan/pit/thr/conf/perl-5.13.10/.cpanplus/5.13.10/build/Curses-UI-0.9607/t/../lib/Curses/UI/Widget.pm line 356.
Prototype after '@' for Curses::UI::Widget::height_by_windowscrheight : $@; at /home/cpan/pit/thr/conf/perl-5.13.10/.cpanplus/5.13.10/build/Curses-UI-0.9607/t/../lib/Curses/UI/Widget.pm line 380.
Prototype after '@' for Curses::UI::Widget::set_binding : $@; at /home/cpan/pit/thr/conf/perl-5.13.10/.cpanplus/5.13.10/build/Curses-UI-0.9607/t/../lib/Curses/UI/Widget.pm line 898.
Prototype after '@' for Curses::UI::Widget::set_mouse_binding : $@; at /home/cpan/pit/thr/conf/perl-5.13.10/.cpanplus/5.13.10/build/Curses-UI-0.9607/t/../lib/Curses/UI/Widget.pm line 924.
Prototype after '@' for Curses::UI::Container::add : $@; at /home/cpan/pit/thr/conf/perl-5.13.10/.cpanplus/5.13.10/build/Curses-UI-0.9607/t/../lib/Curses/UI/Container.pm line 67.
Prototype after '@' for Curses::UI::Container::set_focusorder : @; at /home/cpan/pit/thr/conf/perl-5.13.10/.cpanplus/5.13.10/build/Curses-UI-0.9607/t/../lib/Curses/UI/Container.pm line 475.
Prototype after '@' for Curses::UI::Container::set_draworder : @; at /home/cpan/pit/thr/conf/perl-5.13.10/.cpanplus/5.13.10/build/Curses-UI-0.9607/t/../lib/Curses/UI/Container.pm line 483.
t/04language_classes.t .. ok
t/05pod.t ............... skipped: Test::Pod required for testing POD
Prototype after '@' for Curses::UI::Widget::width_by_windowscrwidth : $@; at /home/cpan/pit/thr/conf/perl-5.13.10/.cpanplus/5.13.10/build/Curses-UI-0.9607/blib/lib/Curses/UI/Widget.pm line 356.
Prototype after '@' for Curses::UI::Widget::height_by_windowscrheight : $@; at /home/cpan/pit/thr/conf/perl-5.13.10/.cpanplus/5.13.10/build/Curses-UI-0.9607/blib/lib/Curses/UI/Widget.pm line 380.
Prototype after '@' for Curses::UI::Widget::set_binding : $@; at /home/cpan/pit/thr/conf/perl-5.13.10/.cpanplus/5.13.10/build/Curses-UI-0.9607/blib/lib/Curses/UI/Widget.pm line 898.
Prototype after '@' for Curses::UI::Widget::set_mouse_binding : $@; at /home/cpan/pit/thr/conf/perl-5.13.10/.cpanplus/5.13.10/build/Curses-UI-0.9607/blib/lib/Curses/UI/Widget.pm line 924.
Prototype after '@' for Curses::UI::Container::add : $@; at /home/cpan/pit/thr/conf/perl-5.13.10/.cpanplus/5.13.10/build/Curses-UI-0.9607/blib/lib/Curses/UI/Container.pm line 67.
Prototype after '@' for Curses::UI::Container::set_focusorder : @; at /home/cpan/pit/thr/conf/perl-5.13.10/.cpanplus/5.13.10/build/Curses-UI-0.9607/blib/lib/Curses/UI/Container.pm line 475.
Prototype after '@' for Curses::UI::Container::set_draworder : @; at /home/cpan/pit/thr/conf/perl-5.13.10/.cpanplus/5.13.10/build/Curses-UI-0.9607/blib/lib/Curses/UI/Container.pm line 483.
t/06ui.t ................ ok
Prototype after '@' for Curses::UI::Widget::width_by_windowscrwidth : $@; at /home/cpan/pit/thr/conf/perl-5.13.10/.cpanplus/5.13.10/build/Curses-UI-0.9607/blib/lib/Curses/UI/Widget.pm line 356.
Prototype after '@' for Curses::UI::Widget::height_by_windowscrheight : $@; at /home/cpan/pit/thr/conf/perl-5.13.10/.cpanplus/5.13.10/build/Curses-UI-0.9607/blib/lib/Curses/UI/Widget.pm line 380.
Prototype after '@' for Curses::UI::Widget::set_binding : $@; at /home/cpan/pit/thr/conf/perl-5.13.10/.cpanplus/5.13.10/build/Curses-UI-0.9607/blib/lib/Curses/UI/Widget.pm line 898.
Prototype after '@' for Curses::UI::Widget::set_mouse_binding : $@; at /home/cpan/pit/thr/conf/perl-5.13.10/.cpanplus/5.13.10/build/Curses-UI-0.9607/blib/lib/Curses/UI/Widget.pm line 924.
Prototype after '@' for Curses::UI::Container::add : $@; at /home/cpan/pit/thr/conf/perl-5.13.10/.cpanplus/5.13.10/build/Curses-UI-0.9607/blib/lib/Curses/UI/Container.pm line 67.
Prototype after '@' for Curses::UI::Container::set_focusorder : @; at /home/cpan/pit/thr/conf/perl-5.13.10/.cpanplus/5.13.10/build/Curses-UI-0.9607/blib/lib/Curses/UI/Container.pm line 475.
Prototype after '@' for Curses::UI::Container::set_draworder : @; at /home/cpan/pit/thr/conf/perl-5.13.10/.cpanplus/5.13.10/build/Curses-UI-0.9607/blib/lib/Curses/UI/Container.pm line 483.
t/07widget.t ............ ok
Prototype after '@' for Curses::UI::Widget::width_by_windowscrwidth : $@; at /home/cpan/pit/thr/conf/perl-5.13.10/.cpanplus/5.13.10/build/Curses-UI-0.9607/blib/lib/Curses/UI/Widget.pm line 356.
Prototype after '@' for Curses::UI::Widget::height_by_windowscrheight : $@; at /home/cpan/pit/thr/conf/perl-5.13.10/.cpanplus/5.13.10/build/Curses-UI-0.9607/blib/lib/Curses/UI/Widget.pm line 380.
Prototype after '@' for Curses::UI::Widget::set_binding : $@; at /home/cpan/pit/thr/conf/perl-5.13.10/.cpanplus/5.13.10/build/Curses-UI-0.9607/blib/lib/Curses/UI/Widget.pm line 898.
Prototype after '@' for Curses::UI::Widget::set_mouse_binding : $@; at /home/cpan/pit/thr/conf/perl-5.13.10/.cpanplus/5.13.10/build/Curses-UI-0.9607/blib/lib/Curses/UI/Widget.pm line 924.
Prototype after '@' for Curses::UI::Container::add : $@; at /home/cpan/pit/thr/conf/perl-5.13.10/.cpanplus/5.13.10/build/Curses-UI-0.9607/blib/lib/Curses/UI/Container.pm line 67.
Prototype after '@' for Curses::UI::Container::set_focusorder : @; at /home/cpan/pit/thr/conf/perl-5.13.10/.cpanplus/5.13.10/build/Curses-UI-0.9607/blib/lib/Curses/UI/Container.pm line 475.
Prototype after '@' for Curses::UI::Container::set_draworder : @; at /home/cpan/pit/thr/conf/perl-5.13.10/.cpanplus/5.13.10/build/Curses-UI-0.9607/blib/lib/Curses/UI/Container.pm line 483.
t/08common.t ............ ok
Prototype after '@' for Curses::UI::Widget::width_by_windowscrwidth : $@; at /home/cpan/pit/thr/conf/perl-5.13.10/.cpanplus/5.13.10/build/Curses-UI-0.9607/blib/lib/Curses/UI/Widget.pm line 356.
Prototype after '@' for Curses::UI::Widget::height_by_windowscrheight : $@; at /home/cpan/pit/thr/conf/perl-5.13.10/.cpanplus/5.13.10/build/Curses-UI-0.9607/blib/lib/Curses/UI/Widget.pm line 380.
Prototype after '@' for Curses::UI::Widget::set_binding : $@; at /home/cpan/pit/thr/conf/perl-5.13.10/.cpanplus/5.13.10/build/Curses-UI-0.9607/blib/lib/Curses/UI/Widget.pm line 898.
Prototype after '@' for Curses::UI::Widget::set_mouse_binding : $@; at /home/cpan/pit/thr/conf/perl-5.13.10/.cpanplus/5.13.10/build/Curses-UI-0.9607/blib/lib/Curses/UI/Widget.pm line 924.
Prototype after '@' for Curses::UI::Container::add : $@; at /home/cpan/pit/thr/conf/perl-5.13.10/.cpanplus/5.13.10/build/Curses-UI-0.9607/blib/lib/Curses/UI/Container.pm line 67.
Prototype after '@' for Curses::UI::Container::set_focusorder : @; at /home/cpan/pit/thr/conf/perl-5.13.10/.cpanplus/5.13.10/build/Curses-UI-0.9607/blib/lib/Curses/UI/Container.pm line 475.
Prototype after '@' for Curses::UI::Container::set_draworder : @; at /home/cpan/pit/thr/conf/perl-5.13.10/.cpanplus/5.13.10/build/Curses-UI-0.9607/blib/lib/Curses/UI/Container.pm line 483.
t/09label.t ............. ok
Prototype after '@' for Curses::UI::Widget::width_by_windowscrwidth : $@; at /home/cpan/pit/thr/conf/perl-5.13.10/.cpanplus/5.13.10/build/Curses-UI-0.9607/blib/lib/Curses/UI/Widget.pm line 356.
Prototype after '@' for Curses::UI::Widget::height_by_windowscrheight : $@; at /home/cpan/pit/thr/conf/perl-5.13.10/.cpanplus/5.13.10/build/Curses-UI-0.9607/blib/lib/Curses/UI/Widget.pm line 380.
Prototype after '@' for Curses::UI::Widget::set_binding : $@; at /home/cpan/pit/thr/conf/perl-5.13.10/.cpanplus/5.13.10/build/Curses-UI-0.9607/blib/lib/Curses/UI/Widget.pm line 898.
Prototype after '@' for Curses::UI::Widget::set_mouse_binding : $@; at /home/cpan/pit/thr/conf/perl-5.13.10/.cpanplus/5.13.10/build/Curses-UI-0.9607/blib/lib/Curses/UI/Widget.pm line 924.
Prototype after '@' for Curses::UI::Container::add : $@; at /home/cpan/pit/thr/conf/perl-5.13.10/.cpanplus/5.13.10/build/Curses-UI-0.9607/blib/lib/Curses/UI/Container.pm line 67.
Prototype after '@' for Curses::UI::Container::set_focusorder : @; at /home/cpan/pit/thr/conf/perl-5.13.10/.cpanplus/5.13.10/build/Curses-UI-0.9607/blib/lib/Curses/UI/Container.pm line 475.
Prototype after '@' for Curses::UI::Container::set_draworder : @; at /home/cpan/pit/thr/conf/perl-5.13.10/.cpanplus/5.13.10/build/Curses-UI-0.9607/blib/lib/Curses/UI/Container.pm line 483.
t/10texteditor.t ........ ok
Prototype after '@' for Curses::UI::Widget::width_by_windowscrwidth : $@; at /home/cpan/pit/thr/conf/perl-5.13.10/.cpanplus/5.13.10/build/Curses-UI-0.9607/blib/lib/Curses/UI/Widget.pm line 356.
Prototype after '@' for Curses::UI::Widget::height_by_windowscrheight : $@; at /home/cpan/pit/thr/conf/perl-5.13.10/.cpanplus/5.13.10/build/Curses-UI-0.9607/blib/lib/Curses/UI/Widget.pm line 380.
Prototype after '@' for Curses::UI::Widget::set_binding : $@; at /home/cpan/pit/thr/conf/perl-5.13.10/.cpanplus/5.13.10/build/Curses-UI-0.9607/blib/lib/Curses/UI/Widget.pm line 898.
Prototype after '@' for Curses::UI::Widget::set_mouse_binding : $@; at /home/cpan/pit/thr/conf/perl-5.13.10/.cpanplus/5.13.10/build/Curses-UI-0.9607/blib/lib/Curses/UI/Widget.pm line 924.
Prototype after '@' for Curses::UI::Container::add : $@; at /home/cpan/pit/thr/conf/perl-5.13.10/.cpanplus/5.13.10/build/Curses-UI-0.9607/blib/lib/Curses/UI/Container.pm line 67.
Prototype after '@' for Curses::UI::Container::set_focusorder : @; at /home/cpan/pit/thr/conf/perl-5.13.10/.cpanplus/5.13.10/build/Curses-UI-0.9607/blib/lib/Curses/UI/Container.pm line 475.
Prototype after '@' for Curses::UI::Container::set_draworder : @; at /home/cpan/pit/thr/conf/perl-5.13.10/.cpanplus/5.13.10/build/Curses-UI-0.9607/blib/lib/Curses/UI/Container.pm line 483.
Prototype after '@' for Curses::UI::Listbox::maxlabelwidth : @; at /home/cpan/pit/thr/conf/perl-5.13.10/.cpanplus/5.13.10/build/Curses-UI-0.9607/blib/lib/Curses/UI/Listbox.pm line 221.
t/11listbox.t ........... ok
Prototype after '@' for Curses::UI::Widget::width_by_windowscrwidth : $@; at /home/cpan/pit/thr/conf/perl-5.13.10/.cpanplus/5.13.10/build/Curses-UI-0.9607/blib/lib/Curses/UI/Widget.pm line 356.
Prototype after '@' for Curses::UI::Widget::height_by_windowscrheight : $@; at /home/cpan/pit/thr/conf/perl-5.13.10/.cpanplus/5.13.10/build/Curses-UI-0.9607/blib/lib/Curses/UI/Widget.pm line 380.
Prototype after '@' for Curses::UI::Widget::set_binding : $@; at /home/cpan/pit/thr/conf/perl-5.13.10/.cpanplus/5.13.10/build/Curses-UI-0.9607/blib/lib/Curses/UI/Widget.pm line 898.
Prototype after '@' for Curses::UI::Widget::set_mouse_binding : $@; at /home/cpan/pit/thr/conf/perl-5.13.10/.cpanplus/5.13.10/build/Curses-UI-0.9607/blib/lib/Curses/UI/Widget.pm line 924.
Prototype after '@' for Curses::UI::Container::add : $@; at /home/cpan/pit/thr/conf/perl-5.13.10/.cpanplus/5.13.10/build/Curses-UI-0.9607/blib/lib/Curses/UI/Container.pm line 67.
Prototype after '@' for Curses::UI::Container::set_focusorder : @; at /home/cpan/pit/thr/conf/perl-5.13.10/.cpanplus/5.13.10/build/Curses-UI-0.9607/blib/lib/Curses/UI/Container.pm line 475.
Prototype after '@' for Curses::UI::Container::set_draworder : @; at /home/cpan/pit/thr/conf/perl-5.13.10/.cpanplus/5.13.10/build/Curses-UI-0.9607/blib/lib/Curses/UI/Container.pm line 483.
t/12gpm_handler.t ....... ok
Prototype after '@' for Curses::UI::Widget::width_by_windowscrwidth : $@; at /home/cpan/pit/thr/conf/perl-5.13.10/.cpanplus/5.13.10/build/Curses-UI-0.9607/blib/lib/Curses/UI/Widget.pm line 356.
Prototype after '@' for Curses::UI::Widget::height_by_windowscrheight : $@; at /home/cpan/pit/thr/conf/perl-5.13.10/.cpanplus/5.13.10/build/Curses-UI-0.9607/blib/lib/Curses/UI/Widget.pm line 380.
Prototype after '@' for Curses::UI::Widget::set_binding : $@; at /home/cpan/pit/thr/conf/perl-5.13.10/.cpanplus/5.13.10/build/Curses-UI-0.9607/blib/lib/Curses/UI/Widget.pm line 898.
Prototype after '@' for Curses::UI::Widget::set_mouse_binding : $@; at /home/cpan/pit/thr/conf/perl-5.13.10/.cpanplus/5.13.10/build/Curses-UI-0.9607/blib/lib/Curses/UI/Widget.pm line 924.
Prototype after '@' for Curses::UI::Container::add : $@; at /home/cpan/pit/thr/conf/perl-5.13.10/.cpanplus/5.13.10/build/Curses-UI-0.9607/blib/lib/Curses/UI/Container.pm line 67.
Prototype after '@' for Curses::UI::Container::set_focusorder : @; at /home/cpan/pit/thr/conf/perl-5.13.10/.cpanplus/5.13.10/build/Curses-UI-0.9607/blib/lib/Curses/UI/Container.pm line 475.
Prototype after '@' for Curses::UI::Container::set_draworder : @; at /home/cpan/pit/thr/conf/perl-5.13.10/.cpanplus/5.13.10/build/Curses-UI-0.9607/blib/lib/Curses/UI/Container.pm line 483.
t/13notebook.t .......... ok
Prototype after '@' for Curses::UI::Widget::width_by_windowscrwidth : $@; at /home/cpan/pit/thr/conf/perl-5.13.10/.cpanplus/5.13.10/build/Curses-UI-0.9607/blib/lib/Curses/UI/Widget.pm line 356.
Prototype after '@' for Curses::UI::Widget::height_by_windowscrheight : $@; at /home/cpan/pit/thr/conf/perl-5.13.10/.cpanplus/5.13.10/build/Curses-UI-0.9607/blib/lib/Curses/UI/Widget.pm line 380.
Prototype after '@' for Curses::UI::Widget::set_binding : $@; at /home/cpan/pit/thr/conf/perl-5.13.10/.cpanplus/5.13.10/build/Curses-UI-0.9607/blib/lib/Curses/UI/Widget.pm line 898.
Prototype after '@' for Curses::UI::Widget::set_mouse_binding : $@; at /home/cpan/pit/thr/conf/perl-5.13.10/.cpanplus/5.13.10/build/Curses-UI-0.9607/blib/lib/Curses/UI/Widget.pm line 924.
Prototype after '@' for Curses::UI::Container::add : $@; at /home/cpan/pit/thr/conf/perl-5.13.10/.cpanplus/5.13.10/build/Curses-UI-0.9607/blib/lib/Curses/UI/Container.pm line 67.
Prototype after '@' for Curses::UI::Container::set_focusorder : @; at /home/cpan/pit/thr/conf/perl-5.13.10/.cpanplus/5.13.10/build/Curses-UI-0.9607/blib/lib/Curses/UI/Container.pm line 475.
Prototype after '@' for Curses::UI::Container::set_draworder : @; at /home/cpan/pit/thr/conf/perl-5.13.10/.cpanplus/5.13.10/build/Curses-UI-0.9607/blib/lib/Curses/UI/Container.pm line 483.
t/99misc.t .............. ok
All tests successful.
Files=14, Tests=124, 1 wallclock secs ( 0.07 usr 0.02 sys + 1.40 cusr 0.20 csys = 1.69 CPU)
Result: PASS
[MSG] [Tue Mar 29 08:46:31 2011] Sending test report for 'Curses-UI-0.9607'
This report was machine-generated by CPANPLUS::Dist::YACSmoke 0.62.
Powered by minismokebox version 0.44
------------------------------
ENVIRONMENT AND OTHER CONTEXT
------------------------------
Environment variables:
AUTOMATED_TESTING = 1
PATH = /home/cpan/bin:/bin:/sbin:/usr/bin:/usr/sbin:/usr/X11R7/bin:/usr/X11R6/bin:/usr/pkg/bin:/usr/pkg/sbin:/usr/games:/usr/local/bin:/usr/local/sbin
PERL5LIB = :/home/cpan/pit/thr/conf/perl-5.13.10/.cpanplus/5.13.10/build/Config-Any-0.20/blib/lib:/home/cpan/pit/thr/conf/perl-5.13.10/.cpanplus/5.13.10/build/Config-Any-0.20/blib/arch:/home/cpan/pit/thr/conf/perl-5.13.10/.cpanplus/5.13.10/build/Curses-1.28/blib/lib:/home/cpan/pit/thr/conf/perl-5.13.10/.cpanplus/5.13.10/build/Curses-1.28/blib/arch:/home/cpan/pit/thr/conf/perl-5.13.10/.cpanplus/5.13.10/build/TermReadKey-2.30/blib/lib:/home/cpan/pit/thr/conf/perl-5.13.10/.cpanplus/5.13.10/build/TermReadKey-2.30/blib/arch:/home/cpan/pit/thr/conf/perl-5.13.10/.cpanplus/5.13.10/build/Curses-UI-0.9607/blib/lib:/home/cpan/pit/thr/conf/perl-5.13.10/.cpanplus/5.13.10/build/Curses-UI-0.9607/blib/arch
PERL5_CPANPLUS_IS_RUNNING = 1001
PERL5_CPANPLUS_IS_VERSION = 0.9103
PERL5_MINISMOKEBOX = 0.44
PERL5_YACSMOKE_BASE = /home/cpan/pit/thr/conf/perl-5.13.10
PERL_EXTUTILS_AUTOINSTALL = --defaultdeps
PERL_MM_USE_DEFAULT = 1
SHELL = /usr/pkg/bin/bash
TERM = screen
Perl special variables (and OS-specific diagnostics, for MSWin32):
Perl: $^X = /home/cpan/pit/thr/perl-5.13.10/bin/perl5.13.10
UID: $< = 1001
EUID: $> = 1001
GID: $( = 100 100
EGID: $) = 100 100
-------------------------------
--
Summary of my perl5 (revision 5 version 13 subversion 10) configuration:
Platform:
osname=netbsd, osvers=5.1_rc3, archname=amd64-netbsd-thread-multi
uname='netbsd fubar.bingosnet.co.uk 5.1_rc3 netbsd 5.1_rc3 (generic) #0: sat jun 12 20:26:01 utc 2010 builds@b8.netbsd.org:homebuildsabnetbsd-5-1-rc3amd64201006130031z-objhomebuildsabnetbsd-5-1-rc3srcsysarchamd64compilegeneric amd64 '
config_args='-des -Dprefix=/home/cpan/pit/thr/perl-5.13.10 -Dusemallocwrap=y -Dusemymalloc=n -Dusethreads -Dusedevel'
hint=recommended, useposix=true, d_sigaction=define
useithreads=define, usemultiplicity=define
useperlio=define, d_sfio=undef, uselargefiles=define, usesocks=undef
use64bitint=define, use64bitall=define, uselongdouble=undef
usemymalloc=n, bincompat5005=undef
Compiler:
cc='cc', ccflags ='-fno-strict-aliasing -pipe -fstack-protector -I/usr/pkg/include',
optimize='-O',
cppflags='-fno-strict-aliasing -pipe -fstack-protector -I/usr/pkg/include'
ccversion='', gccversion='4.1.3 20080704 prerelease (NetBSD nb2 20081120)', gccosandvers=''
intsize=4, longsize=8, ptrsize=8, doublesize=8, byteorder=12345678
d_longlong=define, longlongsize=8, d_longdbl=define, longdblsize=16
ivtype='long', ivsize=8, nvtype='double', nvsize=8, Off_t='off_t', lseeksize=8
alignbytes=8, prototype=define
Linker and Libraries:
ld='cc', ldflags =' -Wl,-rpath,/usr/pkg/lib -Wl,-rpath,/usr/local/lib -fstack-protector -L/usr/pkg/lib'
libpth=/usr/pkg/lib /lib /usr/lib
libs=-lm -lcrypt -lutil -lc -lposix -lpthread
perllibs=-lm -lcrypt -lutil -lc -lposix -lpthread
libc=/lib/libc.so, so=so, useshrplib=false, libperl=libperl.a
gnulibc_version=''
Dynamic Linking:
dlsrc=dl_dlopen.xs, dlext=so, d_dlsymun=undef, ccdlflags='-Wl,-E '
cccdlflags='-DPIC -fPIC ', lddlflags='--whole-archive -shared -L/usr/pkg/lib -fstack-protector'
Characteristics of this binary (from libperl):
Compile-time options: MULTIPLICITY PERL_DONT_CREATE_GVSV
PERL_IMPLICIT_CONTEXT PERL_MALLOC_WRAP PERL_USE_DEVEL
USE_64_BIT_ALL USE_64_BIT_INT USE_ITHREADS
USE_LARGE_FILES USE_PERLIO USE_PERL_ATOF
USE_REENTRANT_API
Built under netbsd
Compiled at Feb 22 2011 15:07:08
%ENV:
PERL5LIB=":/home/cpan/pit/thr/conf/perl-5.13.10/.cpanplus/5.13.10/build/Config-Any-0.20/blib/lib:/home/cpan/pit/thr/conf/perl-5.13.10/.cpanplus/5.13.10/build/Config-Any-0.20/blib/arch:/home/cpan/pit/thr/conf/perl-5.13.10/.cpanplus/5.13.10/build/Curses-1.28/blib/lib:/home/cpan/pit/thr/conf/perl-5.13.10/.cpanplus/5.13.10/build/Curses-1.28/blib/arch:/home/cpan/pit/thr/conf/perl-5.13.10/.cpanplus/5.13.10/build/TermReadKey-2.30/blib/lib:/home/cpan/pit/thr/conf/perl-5.13.10/.cpanplus/5.13.10/build/TermReadKey-2.30/blib/arch:/home/cpan/pit/thr/conf/perl-5.13.10/.cpanplus/5.13.10/build/Curses-UI-0.9607/blib/lib:/home/cpan/pit/thr/conf/perl-5.13.10/.cpanplus/5.13.10/build/Curses-UI-0.9607/blib/arch"
PERL5_CPANPLUS_IS_RUNNING="1001"
PERL5_CPANPLUS_IS_VERSION="0.9103"
PERL5_MINISMOKEBOX="0.44"
PERL5_YACSMOKE_BASE="/home/cpan/pit/thr/conf/perl-5.13.10"
PERL_EXTUTILS_AUTOINSTALL="--defaultdeps"
PERL_MM_USE_DEFAULT="1"
@INC:
/home/cpan/pit/thr/conf/perl-5.13.10/.cpanplus/5.13.10/build/Config-Any-0.20/blib/lib
/home/cpan/pit/thr/conf/perl-5.13.10/.cpanplus/5.13.10/build/Config-Any-0.20/blib/arch
/home/cpan/pit/thr/conf/perl-5.13.10/.cpanplus/5.13.10/build/Curses-1.28/blib/lib
/home/cpan/pit/thr/conf/perl-5.13.10/.cpanplus/5.13.10/build/Curses-1.28/blib/arch
/home/cpan/pit/thr/conf/perl-5.13.10/.cpanplus/5.13.10/build/TermReadKey-2.30/blib/lib
/home/cpan/pit/thr/conf/perl-5.13.10/.cpanplus/5.13.10/build/TermReadKey-2.30/blib/arch
/home/cpan/pit/thr/conf/perl-5.13.10/.cpanplus/5.13.10/build/Curses-UI-0.9607/blib/lib
/home/cpan/pit/thr/conf/perl-5.13.10/.cpanplus/5.13.10/build/Curses-UI-0.9607/blib/arch
/home/cpan/pit/thr/perl-5.13.10/lib/site_perl/5.13.10/amd64-netbsd-thread-multi
/home/cpan/pit/thr/perl-5.13.10/lib/site_perl/5.13.10
/home/cpan/pit/thr/perl-5.13.10/lib/5.13.10/amd64-netbsd-thread-multi
/home/cpan/pit/thr/perl-5.13.10/lib/5.13.10
.