Report for Module-Setup-0.09

Back
From: metabase:user:314402c4-2aae-11df-837a-5e0a49663a4f
Subject: PASS Module-Setup-0.09 v5.20.3 FreeBSD
Date: 2016-07-30T08:18:23Z

This distribution has been tested as part of the CPAN Testers
project, supporting the Perl programming language.  See
http://wiki.cpantesters.org/ for more information or email
questions to cpan-testers-discuss@perl.org


--
Dear Kazuhiro Osawa,

This is a computer-generated report for Module-Setup-0.09
on perl 5.20.3, created by CPAN-Reporter-1.2017.

Thank you for uploading your work to CPAN.  Congratulations!
All tests were successful.

Sections of this report:

    * Tester comments
    * Program output
    * Prerequisites
    * Environment and other context

------------------------------
TESTER COMMENTS
------------------------------

Additional comments from tester:

none provided

------------------------------
PROGRAM OUTPUT
------------------------------

Output from '/usr/bin/make test':

PERL_DL_NONLAZY=1 "/usr/perl5.20.3p/bin/perl" "-MExtUtils::Command::MM" "-MTest::Harness" "-e" "undef *Test::Harness::Switches; test_harness(0, 'inc', 'blib/lib', 'blib/arch')" t/*.t t/*/*.t
Possible precedence issue with control flow operator at /home/cpansand/.cpan/build/2016073009/Module-Setup-0.09-QcXnKB/inc/Test/Builder.pm line 858.
t/00_compile.t .................................... ok
Possible precedence issue with control flow operator at /home/cpansand/.cpan/build/2016073009/Module-Setup-0.09-QcXnKB/inc/Test/Builder.pm line 858.
t/010_core/detect-flavor-tests-error.t ............ ok
Possible precedence issue with control flow operator at /home/cpansand/.cpan/build/2016073009/Module-Setup-0.09-QcXnKB/inc/Test/Builder.pm line 858.
t/010_core/detect_module_and_flavor_name_error.t .. ok
Possible precedence issue with control flow operator at /home/cpansand/.cpan/build/2016073009/Module-Setup-0.09-QcXnKB/inc/Test/Builder.pm line 858.
t/010_core/dialog.t ............................... ok
Possible precedence issue with control flow operator at /home/cpansand/.cpan/build/2016073009/Module-Setup-0.09-QcXnKB/inc/Test/Builder.pm line 858.
t/010_core/distribute.t ........................... ok
Possible precedence issue with control flow operator at /home/cpansand/.cpan/build/2016073009/Module-Setup-0.09-QcXnKB/inc/Test/Builder.pm line 858.
t/010_core/flavor.t ............................... ok
Possible precedence issue with control flow operator at /home/cpansand/.cpan/build/2016073009/Module-Setup-0.09-QcXnKB/inc/Test/Builder.pm line 858.
t/010_core/load_argv.t ............................ ok
Possible precedence issue with control flow operator at /home/cpansand/.cpan/build/2016073009/Module-Setup-0.09-QcXnKB/inc/Test/Builder.pm line 858.
t/010_core/path.t ................................. ok
Possible precedence issue with control flow operator at /home/cpansand/.cpan/build/2016073009/Module-Setup-0.09-QcXnKB/inc/Test/Builder.pm line 858.
t/010_core/select-flavor.t ........................ ok
Possible precedence issue with control flow operator at /home/cpansand/.cpan/build/2016073009/Module-Setup-0.09-QcXnKB/inc/Test/Builder.pm line 858.
t/010_core/setup_base_dir.t ....................... ok
Possible precedence issue with control flow operator at /home/cpansand/.cpan/build/2016073009/Module-Setup-0.09-QcXnKB/inc/Test/Builder.pm line 858.
t/010_core/setup_options.t ........................ ok
Possible precedence issue with control flow operator at /home/cpansand/.cpan/build/2016073009/Module-Setup-0.09-QcXnKB/inc/Test/Builder.pm line 858.
t/010_core/setup_options_code.t ................... ok
Possible precedence issue with control flow operator at /home/cpansand/.cpan/build/2016073009/Module-Setup-0.09-QcXnKB/inc/Test/Builder.pm line 858.
t/010_core/stdout-log.t ........................... ok
Possible precedence issue with control flow operator at /home/cpansand/.cpan/build/2016073009/Module-Setup-0.09-QcXnKB/inc/Test/Builder.pm line 858.
t/010_core/system.t ............................... ok
Possible precedence issue with control flow operator at /home/cpansand/.cpan/build/2016073009/Module-Setup-0.09-QcXnKB/inc/Test/Builder.pm line 858.
t/010_core/test_util.t ............................ ok
Possible precedence issue with control flow operator at /home/cpansand/.cpan/build/2016073009/Module-Setup-0.09-QcXnKB/inc/Test/Builder.pm line 858.
t/020_run/additional.t ............................ ok
Possible precedence issue with control flow operator at /home/cpansand/.cpan/build/2016073009/Module-Setup-0.09-QcXnKB/inc/Test/Builder.pm line 858.
t/020_run/binary.t ................................ ok
Possible precedence issue with control flow operator at /home/cpansand/.cpan/build/2016073009/Module-Setup-0.09-QcXnKB/inc/Test/Builder.pm line 858.
t/020_run/direct.t ................................ ok
Possible precedence issue with control flow operator at /home/cpansand/.cpan/build/2016073009/Module-Setup-0.09-QcXnKB/inc/Test/Builder.pm line 858.
t/020_run/dupe-flavor.t ........................... ok
Possible precedence issue with control flow operator at /home/cpansand/.cpan/build/2016073009/Module-Setup-0.09-QcXnKB/inc/Test/Builder.pm line 858.
t/020_run/dupe.t .................................. ok
Possible precedence issue with control flow operator at /home/cpansand/.cpan/build/2016073009/Module-Setup-0.09-QcXnKB/inc/Test/Builder.pm line 858.
t/020_run/empty_dir.t ............................. ok
Possible precedence issue with control flow operator at /home/cpansand/.cpan/build/2016073009/Module-Setup-0.09-QcXnKB/inc/Test/Builder.pm line 858.
t/020_run/fail_flavor.t ........................... ok
Possible precedence issue with control flow operator at /home/cpansand/.cpan/build/2016073009/Module-Setup-0.09-QcXnKB/inc/Test/Builder.pm line 858.
t/020_run/hasnt-flavorclass.t ..................... ok
Possible precedence issue with control flow operator at /home/cpansand/.cpan/build/2016073009/Module-Setup-0.09-QcXnKB/inc/Test/Builder.pm line 858.
t/020_run/init.t .................................. ok
Possible precedence issue with control flow operator at /home/cpansand/.cpan/build/2016073009/Module-Setup-0.09-QcXnKB/inc/Test/Builder.pm line 858.
t/020_run/nullflavors.t ........................... ok
Possible precedence issue with control flow operator at /home/cpansand/.cpan/build/2016073009/Module-Setup-0.09-QcXnKB/inc/Test/Builder.pm line 858.
t/020_run/pack-additional.t ....................... ok
Possible precedence issue with control flow operator at /home/cpansand/.cpan/build/2016073009/Module-Setup-0.09-QcXnKB/inc/Test/Builder.pm line 858.
t/020_run/pack.t .................................. ok
Possible precedence issue with control flow operator at /home/cpansand/.cpan/build/2016073009/Module-Setup-0.09-QcXnKB/inc/Test/Builder.pm line 858.
t/020_run/simple.t ................................ ok
Possible precedence issue with control flow operator at /home/cpansand/.cpan/build/2016073009/Module-Setup-0.09-QcXnKB/inc/Test/Builder.pm line 858.
t/030_plugin/append_template_file.t ............... ok
Possible precedence issue with control flow operator at /home/cpansand/.cpan/build/2016073009/Module-Setup-0.09-QcXnKB/inc/Test/Builder.pm line 858.
t/030_plugin/append_template_file2.t .............. ok
Possible precedence issue with control flow operator at /home/cpansand/.cpan/build/2016073009/Module-Setup-0.09-QcXnKB/inc/Test/Builder.pm line 858.
t/030_plugin/illegalplugin.t ...................... ok
Possible precedence issue with control flow operator at /home/cpansand/.cpan/build/2016073009/Module-Setup-0.09-QcXnKB/inc/Test/Builder.pm line 858.
t/030_plugin/illegalpluginconfig.t ................ ok
Possible precedence issue with control flow operator at /home/cpansand/.cpan/build/2016073009/Module-Setup-0.09-QcXnKB/inc/Test/Builder.pm line 858.
t/030_plugin/localplugin.t ........................ ok
Possible precedence issue with control flow operator at /home/cpansand/.cpan/build/2016073009/Module-Setup-0.09-QcXnKB/inc/Test/Builder.pm line 858.
t/030_plugin/plain.t .............................. ok
Possible precedence issue with control flow operator at /home/cpansand/.cpan/build/2016073009/Module-Setup-0.09-QcXnKB/inc/Test/Builder.pm line 858.
t/030_plugin/site_github.t ........................ ok
Possible precedence issue with control flow operator at /home/cpansand/.cpan/build/2016073009/Module-Setup-0.09-QcXnKB/inc/Test/Builder.pm line 858.
t/030_plugin/template.t ........................... ok
Possible precedence issue with control flow operator at /home/cpansand/.cpan/build/2016073009/Module-Setup-0.09-QcXnKB/inc/Test/Builder.pm line 858.
cannot remove path when cwd is /var/tmp/cpansmoker-1023/2016073009/b_9H5NtzMr/Test-Makefile3_3 for /var/tmp/cpansmoker-1023/2016073009/b_9H5NtzMr:  at /usr/perl5.20.3p/lib/5.20.3/File/Temp.pm line 1616.
t/030_plugin/test_makefile.t ...................... ok
Possible precedence issue with control flow operator at /home/cpansand/.cpan/build/2016073009/Module-Setup-0.09-QcXnKB/inc/Test/Builder.pm line 858.
error: pathspec 'commit' did not match any file(s) known to git.
cannot remove path when cwd is /var/tmp/cpansmoker-1023/2016073009/OZ0jqYhgfe/VC-Git3_2 for /var/tmp/cpansmoker-1023/2016073009/OZ0jqYhgfe:  at /usr/perl5.20.3p/lib/5.20.3/File/Temp.pm line 1616.
t/030_plugin/vc_git.t ............................. ok
Possible precedence issue with control flow operator at /home/cpansand/.cpan/build/2016073009/Module-Setup-0.09-QcXnKB/inc/Test/Builder.pm line 858.
Name "Module::Setup::Flavor::Default::setup_config" used only once: possible typo at t/030_plugin/vc_svk.t line 17.
t/030_plugin/vc_svk.t ............................. ok
Possible precedence issue with control flow operator at /home/cpansand/.cpan/build/2016073009/Module-Setup-0.09-QcXnKB/inc/Test/Builder.pm line 858.
t/030_plugin/vc_svn.t ............................. ok
Possible precedence issue with control flow operator at /home/cpansand/.cpan/build/2016073009/Module-Setup-0.09-QcXnKB/inc/Test/Builder.pm line 858.
t/040_flavor/coderepos.t .......................... ok
Possible precedence issue with control flow operator at /home/cpansand/.cpan/build/2016073009/Module-Setup-0.09-QcXnKB/inc/Test/Builder.pm line 858.
t/040_flavor/default-setup_config.t ............... ok
Possible precedence issue with control flow operator at /home/cpansand/.cpan/build/2016073009/Module-Setup-0.09-QcXnKB/inc/Test/Builder.pm line 858.
t/040_flavor/default.t ............................ ok
Possible precedence issue with control flow operator at /home/cpansand/.cpan/build/2016073009/Module-Setup-0.09-QcXnKB/inc/Test/Builder.pm line 858.
t/040_flavor/github.t ............................. ok
Possible precedence issue with control flow operator at /home/cpansand/.cpan/build/2016073009/Module-Setup-0.09-QcXnKB/inc/Test/Builder.pm line 858.
t/050_helper/basic-callback.t ..................... ok
Possible precedence issue with control flow operator at /home/cpansand/.cpan/build/2016073009/Module-Setup-0.09-QcXnKB/inc/Test/Builder.pm line 858.
t/050_helper/basic-foo.t .......................... ok
Possible precedence issue with control flow operator at /home/cpansand/.cpan/build/2016073009/Module-Setup-0.09-QcXnKB/inc/Test/Builder.pm line 858.
t/050_helper/basic.t .............................. ok
All tests successful.
Files=47, Tests=467, 10 wallclock secs ( 0.04 usr  0.20 sys +  7.39 cusr  1.15 csys =  8.78 CPU)
Result: PASS

------------------------------
PREREQUISITES
------------------------------

Prerequisite modules loaded:

requires:

    Module                       Need Have    
    ---------------------------- ---- --------
    Class::Trigger               0    0.14    
    Cwd                          0    3.48_01 
    ExtUtils::MakeMaker          0    7.18    
    File::Basename               0    2.85    
    File::Find::Rule             0    0.34    
    File::HomeDir                0    1.00    
    File::Path                   0    2.12    
    File::Temp                   0.2  0.2304  
    Filter::Util::Call           0    1.49    
    Getopt::Long                 0    2.49    
    IO::Scalar                   0    2.111   
    LWP::UserAgent               0    6.15    
    Module::Collect              0.06 0.06    
    Module::Install::AuthorTests 0    0.002   
    Module::Install::Repository  0    0.06    
    Path::Class                  0    0.36    
    Pod::Usage                   0    1.69    
    Scalar::Util                 0    1.45    
    Storable                     0    2.51    
    Template                     2.2  2.26    
    Test::More                   0    1.302049
    Test::Requires               0    0.10    
    Text::Patch                  0    1.8     
    YAML                         0    1.15    

build_requires:

    Module                       Need Have    
    ---------------------------- ---- --------
    ExtUtils::MakeMaker          0    7.18    

configure_requires:

    Module                       Need Have    
    ---------------------------- ---- --------
    ExtUtils::MakeMaker          6.42 7.18    


------------------------------
ENVIRONMENT AND OTHER CONTEXT
------------------------------

Environment variables:

    LC_ALL = de_DE.ISO8859-1
    PATH = /usr/local/bin:/usr/bin:/bin:/usr/local/sbin:/usr/sbin:/sbin:/home/cpansand/bin/freebsd10.1:/home/cpansand/bin/sh:/home/cpansand/bin:/usr/games:/home/cpansand/devel:/home/eserte/src/srezic-misc/scripts
    PERL5LIB = /home/cpansand/.cpan/build/2016073009/Module-Install-Repository-0.06-pAUUvq/blib/arch:/home/cpansand/.cpan/build/2016073009/Module-Install-Repository-0.06-pAUUvq/blib/lib:/home/cpansand/.cpan/build/2016073009/Module-Collect-0.06-D_SCHk/blib/arch:/home/cpansand/.cpan/build/2016073009/Module-Collect-0.06-D_SCHk/blib/lib
    PERL5OPT = 
    PERL5_CPANPLUS_IS_RUNNING = 3230
    PERL5_CPAN_IS_RUNNING = 3230
    PERL5_CPAN_IS_RUNNING_IN_RECURSION = 96429,3230
    PERLDOC = -MPod::Perldoc::ToTextOverstrike
    PERL_BATCH = yes
    PERL_CANARY_STABILITY_NOPROMPT = 1
    PERL_CPAN_REPORTER_CONFIG = /var/tmp/cpansmoker-1023/2016073009/cpanreporter_000_config.ini
    PERL_EXTUTILS_AUTOINSTALL = --defaultdeps
    SHELL = /usr/local/bin/zsh
    TERM = screen
    TMPDIR = /var/tmp/cpansmoker-1023/2016073009

Perl special variables (and OS-specific diagnostics, for MSWin32):

    $^X = /usr/perl5.20.3p/bin/perl
    $UID/$EUID = 1023 / 1023
    $GID = 1023 1023
    $EGID = 1023 1023

Perl module toolchain versions installed:

    Module              Have    
    ------------------- --------
    CPAN                2.05    
    CPAN::Meta          2.150005
    Cwd                 3.48_01 
    ExtUtils::CBuilder  0.280224
    ExtUtils::Command   7.18    
    ExtUtils::Install   1.67    
    ExtUtils::MakeMaker 7.18    
    ExtUtils::Manifest  1.70    
    ExtUtils::ParseXS   3.30    
    File::Spec          3.48_01 
    JSON                2.90    
    JSON::PP            2.27300 
    Module::Build       0.4214  
    Module::Signature   0.79    
    Parse::CPAN::Meta   1.4422  
    Test::Harness       3.35    
    Test::More          1.302049
    YAML                1.15    
    YAML::Syck          1.29    
    version             0.9917  


--

Summary of my perl5 (revision 5 version 20 subversion 3) configuration:
   
  Platform:
    osname=freebsd, osvers=10.1-release, archname=amd64-freebsd
    uname='freebsd cvrsnica-freebsd-101.herceg.de 10.1-release freebsd 10.1-release #0 r274401: tue nov 11 21:02:49 utc 2014 root@releng1.nyi.freebsd.org:usrobjusrsrcsysgeneric amd64 '
    config_args='-ds -e -Dprefix=/usr/perl5.20.3p -Dcf_email=srezic@cpan.org'
    hint=recommended, useposix=true, d_sigaction=define
    useithreads=undef, usemultiplicity=undef
    use64bitint=define, use64bitall=define, uselongdouble=undef
    usemymalloc=n, bincompat5005=undef
  Compiler:
    cc='cc', ccflags ='-DHAS_FPSETMASK -DHAS_FLOATINGPOINT_H -fno-strict-aliasing -pipe -fstack-protector -I/usr/local/include',
    optimize='-O',
    cppflags='-DHAS_FPSETMASK -DHAS_FLOATINGPOINT_H -fno-strict-aliasing -pipe -fstack-protector -I/usr/local/include'
    ccversion='', gccversion='4.2.1 Compatible FreeBSD Clang 3.4.1 (tags/RELEASE_34/dot1-final 208032)', gccosandvers=''
    intsize=4, longsize=8, ptrsize=8, doublesize=8, byteorder=12345678
    d_longlong=define, longlongsize=8, d_longdbl=define, longdblsize=16
    ivtype='long', ivsize=8, nvtype='double', nvsize=8, Off_t='off_t', lseeksize=8
    alignbytes=8, prototype=define
  Linker and Libraries:
    ld='cc', ldflags ='-pthread -Wl,-E  -fstack-protector -L/usr/local/lib'
    libpth=/usr/lib /usr/local/lib /usr/include/clang/3.4.1 /usr/lib
    libs=-lpthread -lgdbm -lm -lcrypt -lutil -lc
    perllibs=-lpthread -lm -lcrypt -lutil -lc
    libc=, so=so, useshrplib=false, libperl=libperl.a
    gnulibc_version=''
  Dynamic Linking:
    dlsrc=dl_dlopen.xs, dlext=so, d_dlsymun=undef, ccdlflags=' '
    cccdlflags='-DPIC -fPIC', lddlflags='-shared  -L/usr/local/lib -fstack-protector'


Characteristics of this binary (from libperl): 
  Compile-time options: HAS_TIMES PERLIO_LAYERS PERL_DONT_CREATE_GVSV
                        PERL_HASH_FUNC_ONE_AT_A_TIME_HARD PERL_MALLOC_WRAP
                        PERL_NEW_COPY_ON_WRITE PERL_PRESERVE_IVUV
                        USE_64_BIT_ALL USE_64_BIT_INT USE_LARGE_FILES
                        USE_LOCALE USE_LOCALE_COLLATE USE_LOCALE_CTYPE
                        USE_LOCALE_NUMERIC USE_PERLIO USE_PERL_ATOF
  Built under freebsd
  Compiled at Sep 12 2015 22:44:25
  %ENV:
    PERL5LIB="/home/cpansand/.cpan/build/2016073009/Module-Install-Repository-0.06-pAUUvq/blib/arch:/home/cpansand/.cpan/build/2016073009/Module-Install-Repository-0.06-pAUUvq/blib/lib:/home/cpansand/.cpan/build/2016073009/Module-Collect-0.06-D_SCHk/blib/arch:/home/cpansand/.cpan/build/2016073009/Module-Collect-0.06-D_SCHk/blib/lib"
    PERL5OPT=""
    PERL5_CPANPLUS_IS_RUNNING="3230"
    PERL5_CPAN_IS_RUNNING="3230"
    PERL5_CPAN_IS_RUNNING_IN_RECURSION="96429,3230"
    PERLDOC="-MPod::Perldoc::ToTextOverstrike"
    PERL_BATCH="yes"
    PERL_CANARY_STABILITY_NOPROMPT="1"
    PERL_CPAN_REPORTER_CONFIG="/var/tmp/cpansmoker-1023/2016073009/cpanreporter_000_config.ini"
    PERL_EXTUTILS_AUTOINSTALL="--defaultdeps"
  @INC:
    /home/cpansand/.cpan/build/2016073009/Module-Install-Repository-0.06-pAUUvq/blib/arch
    /home/cpansand/.cpan/build/2016073009/Module-Install-Repository-0.06-pAUUvq/blib/lib
    /home/cpansand/.cpan/build/2016073009/Module-Collect-0.06-D_SCHk/blib/arch
    /home/cpansand/.cpan/build/2016073009/Module-Collect-0.06-D_SCHk/blib/lib
    /usr/perl5.20.3p/lib/site_perl/5.20.3/amd64-freebsd
    /usr/perl5.20.3p/lib/site_perl/5.20.3
    /usr/perl5.20.3p/lib/5.20.3/amd64-freebsd
    /usr/perl5.20.3p/lib/5.20.3
    .