Image-ExifTool v13.25 Perl 5 v5.24.0 x86_64-linux-thread-multi-ld
- Status
- Pass
- From
- Andreas J. König (ANDK)
- Dist
-
Image-ExifTool v13.25
- Platform
- Perl 5 v5.24.0 x86_64-linux-thread-multi-ld
- Date
- 2025-03-21 21:33:51
- ID
- 2e90a872-069c-11f0-bc7e-ca0dac2ab1ac
This distribution has been tested as part of the CPAN Testers
project, supporting the Perl programming language. See
http://wiki.cpantesters.org/ for more information or email
questions to cpan-testers-discuss@perl.org
--
Dear Phil Harvey,
This is a computer-generated report for Image-ExifTool-13.25
on perl 5.24.0, created by CPAN-Reporter-1.2018.
Thank you for uploading your work to CPAN. Congratulations!
All tests were successful.
Sections of this report:
* Tester comments
* Program output
* Prerequisites
* Environment and other context
------------------------------
TESTER COMMENTS
------------------------------
Additional comments from tester:
this report is from an automated smoke testing program
and was not reviewed by a human for accuracy
------------------------------
PROGRAM OUTPUT
------------------------------
Output from '/usr/bin/make test':
PERL_DL_NONLAZY=1 "/home/sand/src/perl/repoperls/installed-perls/host/k93msid/v5.24.0/ac75/bin/perl" "-MExtUtils::Command::MM" "-MTest::Harness" "-e" "undef *Test::Harness::Switches; test_harness(0, 'blib/lib', 'blib/arch')" t/*.t
t/AAC.t ............ ok
t/AFCP.t ........... ok
t/AIFF.t ........... ok
t/APE.t ............ ok
t/Apple.t .......... ok
t/ASF.t ............ ok
t/Audible.t ........ ok
t/BigTIFF.t ........ ok
t/BMP.t ............ ok
t/BPG.t ............ ok
t/Canon.t .......... ok
t/CanonRaw.t ....... ok
t/CanonVRD.t ....... ok
t/Casio.t .......... ok
t/DICOM.t .......... ok
t/DjVu.t ........... ok
t/DNG.t ............ ok
t/DPX.t ............ ok
t/DV.t ............. ok
t/EXE.t ............ ok
t/ExifTool.t ....... ok
t/FITS.t ........... ok
t/FLAC.t ........... ok
t/Flash.t .......... ok
t/FlashPix.t ....... ok
t/FLIF.t ........... ok
t/FLIR.t ........... ok
t/Font.t ........... ok
t/FotoStation.t .... ok
t/FujiFilm.t ....... ok
t/GE.t ............. ok
t/Geolocation.t .... ok
t/Geotag.t ......... ok
t/GeoTiff.t ........ ok
t/GIF.t ............ ok
t/GIMP.t ........... ok
t/GoPro.t .......... ok
t/GPS.t ............ ok
t/HTML.t ........... ok
t/ICO.t ............ ok
t/InDesign.t ....... ok
t/InfiRay.t ........ ok
t/IPTC.t ........... ok
t/ISO.t ............ ok
t/ITC.t ............ ok
t/Jpeg2000.t ....... ok
t/JSON.t ........... ok
t/JVC.t ............ ok
t/JXL.t ............ ok
t/Kodak.t .......... ok
t/KyoceraRaw.t ..... ok
t/Lang.t ........... ok
t/LNK.t ............ ok
t/Lytro.t .......... ok
t/M2TS.t ........... ok
t/MacOS.t .......... ok
t/Matroska.t ....... ok
t/MIE.t ............ ok
t/MIFF.t ........... ok
t/Minolta.t ........ ok
t/MOI.t ............ ok
t/Motorola.t ....... ok
t/MP3.t ............ ok
t/MRC.t ............ ok
t/MWG.t ............ ok
t/MXF.t ............ ok
t/Nikon.t .......... ok
t/Olympus.t ........ ok
t/OpenEXR.t ........ ok
t/Opus.t ........... ok
t/Palm.t ........... ok
t/Panasonic.t ...... ok
t/PCAP.t ........... ok
t/PCX.t ............ ok
t/PDF.t ............ ok
t/Pentax.t ......... ok
t/PFM.t ............ ok
t/PGF.t ............ ok
t/PhaseOne.t ....... ok
t/PhotoCD.t ........ ok
t/PhotoMechanic.t .. ok
t/Photoshop.t ...... ok
t/PICT.t ........... ok
t/PLIST.t .......... ok
t/PLUS.t ........... ok
t/PNG.t ............ ok
t/PostScript.t ..... ok
t/PPM.t ............ ok
t/PSP.t ............ ok
t/QuickTime.t ...... ok
t/Radiance.t ....... ok
t/Real.t ........... ok
t/Red.t ............ ok
t/Ricoh.t .......... ok
t/RIFF.t ........... ok
t/RTF.t ............ ok
t/Sanyo.t .......... ok
t/Sigma.t .......... ok
t/Sony.t ........... ok
t/Text.t ........... ok
t/Torrent.t ........ ok
t/Unknown.t ........ ok
t/VCard.t .......... ok
t/Vorbis.t ......... ok
t/WPG.t ............ ok
t/Writer.t ......... ok
t/WTV.t ............ ok
t/XISF.t ........... ok
t/XMP.t ............ ok
t/ZIP.t ............ ok
t/ZISRAW.t ......... ok
All tests successful.
Files=111, Tests=595, 55 wallclock secs ( 0.37 usr 0.52 sys + 47.23 cusr 4.12 csys = 52.24 CPU)
Result: PASS
------------------------------
PREREQUISITES
------------------------------
Prerequisite modules loaded:
requires:
Module Need Have
-------------------------- ----- --------
perl 5.004 5.024000
build_requires:
Module Need Have
-------------------------- ----- --------
ExtUtils::MakeMaker 0 7.70
configure_requires:
Module Need Have
-------------------------- ----- --------
ExtUtils::MakeMaker 0 7.70
opt_requires:
Module Need Have
-------------------------- ----- --------
Archive::Zip 0 1.68
Compress::Raw::Lzma 0 2.213
Compress::Zlib 0 2.213
Digest::MD5 0 2.59
Digest::SHA 0 6.02
IO::Compress::Brotli 0 0.004001
IO::Compress::RawDeflate 0 2.213
IO::Uncompress::Brotli 0 0.004001
IO::Uncompress::RawInflate 0 2.213
POSIX::strptime 0 0.13
Time::HiRes 0 1.9764
------------------------------
ENVIRONMENT AND OTHER CONTEXT
------------------------------
Environment variables:
AUTOMATED_TESTING = 1
LANG = en_US.UTF-8
LANGUAGE = en_US:en
PATH = /home/sand/bin:/usr/local/bin:/usr/bin:/bin:/usr/games:/usr/local/perl/bin:/usr/X11/bin:/sbin:/usr/sbin
PERL5LIB =
PERL5OPT =
PERL5_CPANPLUS_IS_RUNNING = 1997373
PERL5_CPAN_IS_RUNNING = 1997373
PERL_CANARY_STABILITY_NOPROMPT = 1
PERL_MM_USE_DEFAULT = 1
PERL_USE_UNSAFE_INC = 1
SHELL = /usr/bin/zsh
TERM = screen
Perl special variables (and OS-specific diagnostics, for MSWin32):
$^X = /home/sand/src/perl/repoperls/installed-perls/host/k93msid/v5.24.0/ac75/bin/perl
$UID/$EUID = 1005 / 1005
$GID = 1005 1005
$EGID = 1005 1005
Perl module toolchain versions installed:
Module Have
------------------- --------
CPAN 2.37
CPAN::Meta 2.150010
Cwd 3.75
ExtUtils::CBuilder 0.280236
ExtUtils::Command 7.70
ExtUtils::Install 2.06
ExtUtils::MakeMaker 7.70
ExtUtils::Manifest 1.70
ExtUtils::ParseXS 3.51
File::Spec 3.75
JSON 4.10
JSON::PP 4.17_01
Module::Build 0.4234
Module::Signature 0.88
Parse::CPAN::Meta 2.150010
Test::Harness 3.51_01
Test::More 1.302209
YAML 1.30
YAML::Syck 1.34
version 0.9930
--
Summary of my perl5 (revision 5 version 24 subversion 0) configuration:
Derived from: be2c0c650b028f54e427f2469a59942edfdff8a9
Platform:
osname=linux, osvers=5.16.0-6-amd64, archname=x86_64-linux-thread-multi-ld
uname='linux k93msid 5.16.0-6-amd64 #1 smp preempt debian 5.16.18-1 (2022-03-29) x86_64 gnulinux '
config_args='-Dprefix=/home/sand/src/perl/repoperls/installed-perls/host/k93msid/v5.24.0/ac75 -Dmyhostname=k93msid -Dinstallusrbinperl=n -Uversiononly -Dusedevel -des -Ui_db -Dlibswanted=cl pthread socket inet nsl gdbm dbm malloc dl ld sun m crypt sec util c cposix posix ucb BSD gdbm_compat -Duseithreads -Duselongdouble -DEBUGGING=both'
hint=recommended, useposix=true, d_sigaction=define
useithreads=define, usemultiplicity=define
use64bitint=define, use64bitall=define, uselongdouble=define
usemymalloc=n, bincompat5005=undef
Compiler:
cc='cc', ccflags ='-D_REENTRANT -D_GNU_SOURCE -fwrapv -DDEBUGGING -fno-strict-aliasing -pipe -fstack-protector-strong -I/usr/local/include -D_LARGEFILE_SOURCE -D_FILE_OFFSET_BITS=64 -D_FORTIFY_SOURCE=2',
optimize='-O2 -g',
cppflags='-D_REENTRANT -D_GNU_SOURCE -fwrapv -DDEBUGGING -fno-strict-aliasing -pipe -fstack-protector-strong -I/usr/local/include'
ccversion='', gccversion='11.2.0', gccosandvers=''
intsize=4, longsize=8, ptrsize=8, doublesize=8, byteorder=12345678, doublekind=3
d_longlong=define, longlongsize=8, d_longdbl=define, longdblsize=16, longdblkind=3
ivtype='long', ivsize=8, nvtype='long double', nvsize=16, Off_t='off_t', lseeksize=8
alignbytes=16, prototype=define
Linker and Libraries:
ld='cc', ldflags =' -fstack-protector-strong -L/usr/local/lib'
libpth=/usr/local/lib /usr/include/x86_64-linux-gnu /usr/lib /lib/x86_64-linux-gnu /lib/../lib /usr/lib/x86_64-linux-gnu /usr/lib/../lib /lib
libs=-lpthread -lnsl -ldl -lm -lcrypt -lutil -lc
perllibs=-lpthread -lnsl -ldl -lm -lcrypt -lutil -lc
libc=libc-2.33.so, so=so, useshrplib=false, libperl=libperl.a
gnulibc_version='2.33'
Dynamic Linking:
dlsrc=dl_dlopen.xs, dlext=so, d_dlsymun=undef, ccdlflags='-Wl,-E'
cccdlflags='-fPIC', lddlflags='-shared -O2 -g -L/usr/local/lib -fstack-protector-strong'
Characteristics of this binary (from libperl):
Compile-time options: DEBUGGING HAS_TIMES MULTIPLICITY PERLIO_LAYERS
PERL_COPY_ON_WRITE PERL_DONT_CREATE_GVSV
PERL_HASH_FUNC_ONE_AT_A_TIME_HARD
PERL_IMPLICIT_CONTEXT PERL_MALLOC_WRAP
PERL_PRESERVE_IVUV PERL_TRACK_MEMPOOL PERL_USE_DEVEL
USE_64_BIT_ALL USE_64_BIT_INT USE_ITHREADS
USE_LARGE_FILES USE_LOCALE USE_LOCALE_COLLATE
USE_LOCALE_CTYPE USE_LOCALE_NUMERIC USE_LOCALE_TIME
USE_LONG_DOUBLE USE_PERLIO USE_PERL_ATOF
USE_REENTRANT_API
Locally applied patches:
uncommitted-changes
Built under linux
Compiled at Apr 23 2022 03:32:25
%ENV:
PERL5LIB=""
PERL5OPT=""
PERL5_CPANPLUS_IS_RUNNING="1997373"
PERL5_CPAN_IS_RUNNING="1997373"
PERL_CANARY_STABILITY_NOPROMPT="1"
PERL_MM_USE_DEFAULT="1"
PERL_USE_UNSAFE_INC="1"
@INC:
/home/sand/src/perl/repoperls/installed-perls/host/k93msid/v5.24.0/ac75/lib/site_perl/5.24.0/x86_64-linux-thread-multi-ld
/home/sand/src/perl/repoperls/installed-perls/host/k93msid/v5.24.0/ac75/lib/site_perl/5.24.0
/home/sand/src/perl/repoperls/installed-perls/host/k93msid/v5.24.0/ac75/lib/5.24.0/x86_64-linux-thread-multi-ld
/home/sand/src/perl/repoperls/installed-perls/host/k93msid/v5.24.0/ac75/lib/5.24.0
.