Report for MooseX-Role-AttributeOverride-0.0.9

Back
From: metabase:user:3198cbe2-2aae-11df-837a-5e0a49663a4f
Subject: PASS MooseX-Role-AttributeOverride-0.0.9 v5.14.2 GNU/Linux
Date: 2012-10-22T13:48:38Z

This distribution has been tested as part of the CPAN Testers
project, supporting the Perl programming language.  See
http://wiki.cpantesters.org/ for more information or email
questions to cpan-testers-discuss@perl.org


--
Dear Edward J. Allen III,

This is a computer-generated report for MooseX-Role-AttributeOverride-0.0.9
on perl 5.14.2, created by CPAN-Reporter-1.2006.

Thank you for uploading your work to CPAN.  Congratulations!
All tests were successful.

Sections of this report:

    * Tester comments
    * Program output
    * Prerequisites
    * Environment and other context

------------------------------
TESTER COMMENTS
------------------------------

Additional comments from tester:

this report is from an automated smoke testing program
and was not reviewed by a human for accuracy

------------------------------
PROGRAM OUTPUT
------------------------------

Output from './Build test':

t/00-compile.t ................ ok
# 
# 
# perl: v5.14.2 (wanted 5.008) on linux from /home/graham/perls/perl-5.14.2/bin/perl
# 
# File::Find                                    => 1.19       (want any version)
# File::Temp                                    => 0.22       (want any version)
# Module::Build                                 => 0.4003     (want 0.3601) 
# Moose                                         => 2.0604     (want 1.9900) 
# Moose::Util                                   => 2.0604     (want any version)
# Test::More                                    => 0.9803     (want 0.88)   
# Try::Tiny                                     => 0.11       (want any version)
# 
# Thanks for using my code.  I hope it works for you.
# If not, please try and include this output in the bug report.
# That will help me reproduce the issue and solve you problem.
# 
t/000-report-versions-tiny.t .. ok
t/basic.t ..................... ok
t/basicbuild.t ................ ok
t/basicbuild2.t ............... ok
t/composite.t ................. ok
t/composite2.t ................ ok
t/composite3.t ................ ok
t/error1.t .................... ok
t/error2.t .................... ok
t/error3.t .................... ok
t/ibasic.t .................... ok
t/ibasicbuild.t ............... ok
t/ibasicbuild2.t .............. ok
t/icomposite.t ................ ok
t/icomposite2.t ............... ok
t/icomposite3.t ............... ok
t/ierror1.t ................... ok
t/ierror2.t ................... ok
t/ierror3.t ................... ok
t/isecondhand.t ............... ok
t/meta.t ...................... ok
t/release-pod-coverage.t ...... skipped: these tests are for release candidate testing
t/release-pod-linkcheck.t ..... skipped: these tests are for release candidate testing
t/release-pod-spell.t ......... skipped: these tests are for release candidate testing
t/release-pod-syntax.t ........ skipped: these tests are for release candidate testing
t/secondhand.t ................ ok
t/synopsis.t .................. ok
t/trait.t ..................... ok
t/trait2.t .................... ok
All tests successful.
Files=30, Tests=41, 12 wallclock secs ( 0.12 usr  0.05 sys + 11.28 cusr  0.69 csys = 12.14 CPU)
Result: PASS

------------------------------
PREREQUISITES
------------------------------

Prerequisite modules loaded:

requires:

    Module        Need   Have    
    ------------- ------ --------
    Moose         1.9900 2.0604  
    perl          5.008  5.014002

build_requires:

    Module        Need   Have    
    ------------- ------ --------
    File::Find    0      1.19    
    File::Temp    0      0.22    
    Module::Build 0.3601 0.4003  
    Moose::Util   0      2.0604  
    Test::More    0.88   0.98_03 
    Try::Tiny     0      0.11    

configure_requires:

    Module        Need   Have    
    ------------- ------ --------
    Module::Build 0.3601 0.4003  


------------------------------
ENVIRONMENT AND OTHER CONTEXT
------------------------------

Environment variables:

    AUTOMATED_TESTING = 1
    LANG = C
    PATH = /home/graham/perls/perl-5.14.2/bin:/usr/local/bin:/usr/bin:/bin:/usr/local/sbin:/usr/sbin:/sbin:/usr/bin/core_perl
    PERL5LIB = 
    PERL5OPT = 
    PERL5_CPANPLUS_IS_RUNNING = 21431
    PERL5_CPAN_IS_RUNNING = 21431
    PERL5_CPAN_IS_RUNNING_IN_RECURSION = 485,21431
    PERL_CR_SMOKER_CURRENT = MooseX-Role-AttributeOverride-0.0.9
    PERL_EXTUTILS_AUTOINSTALL = --defaultdeps
    PERL_MM_USE_DEFAULT = 1
    SHELL = /bin/bash
    TERM = xterm

Perl special variables (and OS-specific diagnostics, for MSWin32):

    $^X = /home/graham/perls/perl-5.14.2/bin/perl
    $UID/$EUID = 1000 / 1000
    $GID = 100 100
    $EGID = 100 100

Perl module toolchain versions installed:

    Module              Have    
    ------------------- --------
    CPAN                1.99_51 
    CPAN::Meta          2.120351
    Cwd                 3.39_01 
    ExtUtils::CBuilder  0.280205
    ExtUtils::Command   1.17    
    ExtUtils::Install   1.56    
    ExtUtils::MakeMaker 6.63_02 
    ExtUtils::Manifest  1.61    
    ExtUtils::ParseXS   3.15    
    File::Spec          3.39_01 
    JSON                2.53    
    JSON::PP            2.27200 
    Module::Build       0.4003  
    Module::Signature   0.68    
    Parse::CPAN::Meta   1.4404  
    Test::Harness       3.25    
    Test::More          0.98_03 
    YAML                0.84    
    YAML::Syck          1.21    
    version             0.9901  


--

Summary of my perl5 (revision 5 version 14 subversion 2) configuration:
   
  Platform:
    osname=linux, osvers=3.5.6-1-arch, archname=x86_64-linux
    uname='linux grosics 3.5.6-1-arch #1 smp preempt sun oct 7 19:30:49 cest 2012 x86_64 gnulinux '
    config_args='-des -Dprefix=/home/graham/perls/perl-5.14.2'
    hint=recommended, useposix=true, d_sigaction=define
    useithreads=undef, usemultiplicity=undef
    useperlio=define, d_sfio=undef, uselargefiles=define, usesocks=undef
    use64bitint=define, use64bitall=define, uselongdouble=undef
    usemymalloc=n, bincompat5005=undef
  Compiler:
    cc='cc', ccflags ='-fno-strict-aliasing -pipe -fstack-protector -I/usr/local/include -D_LARGEFILE_SOURCE -D_FILE_OFFSET_BITS=64',
    optimize='-O2',
    cppflags='-fno-strict-aliasing -pipe -fstack-protector -I/usr/local/include'
    ccversion='', gccversion='4.7.2', gccosandvers=''
    intsize=4, longsize=8, ptrsize=8, doublesize=8, byteorder=12345678
    d_longlong=define, longlongsize=8, d_longdbl=define, longdblsize=16
    ivtype='long', ivsize=8, nvtype='double', nvsize=8, Off_t='off_t', lseeksize=8
    alignbytes=8, prototype=define
  Linker and Libraries:
    ld='cc', ldflags =' -fstack-protector -L/usr/local/lib'
    libpth=/usr/local/lib /lib/../lib /usr/lib/../lib /lib /usr/lib
    libs=-lnsl -lgdbm -ldb -ldl -lm -lcrypt -lutil -lc -lgdbm_compat
    perllibs=-lnsl -ldl -lm -lcrypt -lutil -lc
    libc=/lib/libc-2.16.so, so=so, useshrplib=false, libperl=libperl.a
    gnulibc_version='2.16'
  Dynamic Linking:
    dlsrc=dl_dlopen.xs, dlext=so, d_dlsymun=undef, ccdlflags='-Wl,-E'
    cccdlflags='-fPIC', lddlflags='-shared -O2 -L/usr/local/lib -fstack-protector'


Characteristics of this binary (from libperl): 
  Compile-time options: PERL_DONT_CREATE_GVSV PERL_MALLOC_WRAP
                        PERL_PRESERVE_IVUV USE_64_BIT_ALL USE_64_BIT_INT
                        USE_LARGE_FILES USE_PERLIO USE_PERL_ATOF
  Built under linux
  Compiled at Oct 12 2012 19:57:27
  %ENV:
    PERL5LIB=""
    PERL5OPT=""
    PERL5_CPANPLUS_IS_RUNNING="21431"
    PERL5_CPAN_IS_RUNNING="21431"
    PERL5_CPAN_IS_RUNNING_IN_RECURSION="485,21431"
    PERL_CR_SMOKER_CURRENT="MooseX-Role-AttributeOverride-0.0.9"
    PERL_EXTUTILS_AUTOINSTALL="--defaultdeps"
    PERL_MM_USE_DEFAULT="1"
  @INC:
    /home/graham/perls/perl-5.14.2/lib/site_perl/5.14.2/x86_64-linux
    /home/graham/perls/perl-5.14.2/lib/site_perl/5.14.2
    /home/graham/perls/perl-5.14.2/lib/5.14.2/x86_64-linux
    /home/graham/perls/perl-5.14.2/lib/5.14.2
    .