Sodium-FFI v0.009 Perl 5 v5.18.4 x86_64-linux

Status
Pass
From
Slaven Rezić
Dist
Sodium-FFI v0.009
Platform
Perl 5 v5.18.4 x86_64-linux
Date
2023-04-08 03:19:32
ID
2e87768e-d5bc-11ed-ad37-5a1d6e8775ea
This distribution has been tested as part of the CPAN Testers
project, supporting the Perl programming language.  See
http://wiki.cpantesters.org/ for more information or email
questions to cpan-testers-discuss@perl.org


--
Dear Chase Whitener,

This is a computer-generated report for Sodium-FFI-0.009
on perl 5.18.4, created by CPAN-Reporter-1.2018.

Thank you for uploading your work to CPAN.  Congratulations!
All tests were successful.

Sections of this report:

    * Tester comments
    * Program output
    * Prerequisites
    * Environment and other context

------------------------------
TESTER COMMENTS
------------------------------

Additional comments from tester:

none provided

------------------------------
PROGRAM OUTPUT
------------------------------

Output from '/usr/bin/make test':

"/opt/perl-5.18.4/bin/perl" -MFFI::Build::MM=cmd -e fbx_build
"/opt/perl-5.18.4/bin/perl" -MFFI::Build::MM=cmd -e fbx_test
PERL_DL_NONLAZY=1 "/opt/perl-5.18.4/bin/perl" "-MExtUtils::Command::MM" "-MTest::Harness" "-e" "undef *Test::Harness::Switches; test_harness(0, 'blib/lib', 'blib/arch')" t/*.t t/aead/*.t t/pub_key_crypto/*.t
# 
# Versions for all modules listed in MYMETA.json (including optional ones):
# 
# === Configure Requires ===
# 
#     Module                Want     Have
#     -------------------- ----- --------
#     Alien::Base::Wrapper   any     2.78
#     Alien::Sodium         2.00    2.000
#     ExtUtils::MakeMaker    any     7.68
#     FFI::Build::MM        0.83     2.05
#     perl                 5.008 5.018004
# 
# === Build Requires ===
# 
#     Module        Want  Have
#     ------------- ---- -----
#     Alien::Sodium  any 2.000
# 
# === Test Requires ===
# 
#     Module               Want     Have
#     ------------------- ----- --------
#     ExtUtils::MakeMaker   any     7.68
#     File::Spec            any     3.75
#     Test::More           0.88 1.302194
#     perl                5.008 5.018004
# 
# === Test Recommends ===
# 
#     Module         Want     Have
#     ---------- -------- --------
#     CPAN::Meta 2.120900 2.150010
# 
# === Runtime Requires ===
# 
#     Module                Want     Have
#     -------------------- ----- --------
#     Alien::Base::Wrapper   any     2.78
#     Alien::Sodium        2.000    2.000
#     Carp                   any     1.50
#     Cwd                    any     3.75
#     Exporter              5.57     5.77
#     FFI::Platypus         1.00     2.05
#     File::Basename         any     2.84
#     File::ShareDir         any    1.118
#     File::Spec             any     3.75
#     Path::Tiny             any    0.144
#     Ref::Util              any    0.204
#     Sub::Util              any     1.63
#     feature                any     1.32
#     perl                 5.008 5.018004
#     strict                 any     1.07
#     utf8                   any     1.10
#     warnings               any     1.18
# 
t/00-report-prereqs.t ........... ok
t/10-versions.t ................. ok
t/11-utils.t .................... ok
t/12-random.t ................... ok
t/aead/aes256gcm.t .............. skipped: AEAD_AES256 Not Available.
t/aead/chacha20poly1305.t ....... ok
t/aead/chacha20poly1305_ietf.t .. ok
t/crypto_auth.t ................. ok
t/pub_key_crypto/box.t .......... ok
t/pub_key_crypto/pubkey_sig.t ... ok
All tests successful.
Files=10, Tests=136,  1 wallclock secs ( 0.05 usr  0.02 sys +  0.87 cusr  0.11 csys =  1.05 CPU)
Result: PASS

------------------------------
PREREQUISITES
------------------------------

Prerequisite modules loaded:

requires:

    Module               Need  Have    
    -------------------- ----- --------
    Alien::Base::Wrapper 0     2.78    
    Alien::Sodium        2.000 2.000   
    Carp                 0     1.50    
    Cwd                  0     3.75    
    Exporter             5.57  5.77    
    feature              0     1.32    
    FFI::Platypus        1.00  2.05    
    File::Basename       0     2.84    
    File::ShareDir       0     1.118   
    File::Spec           0     3.75    
    Path::Tiny           0     0.144   
    Ref::Util            0     0.204   
    strict               0     1.07    
    Sub::Util            0     1.63    
    utf8                 0     1.10    
    warnings             0     1.18    

build_requires:

    Module               Need  Have    
    -------------------- ----- --------
    Alien::Sodium        0     2.000   
    ExtUtils::MakeMaker  0     7.68    
    File::Spec           0     3.75    
    Test::More           0.88  1.302194

configure_requires:

    Module               Need  Have    
    -------------------- ----- --------
    Alien::Base::Wrapper 0     2.78    
    Alien::Sodium        2.00  2.000   
    ExtUtils::MakeMaker  0     7.68    
    FFI::Build::MM       0.83  2.05    
    perl                 5.008 5.018004


------------------------------
ENVIRONMENT AND OTHER CONTEXT
------------------------------

Environment variables:

    LANG = en_US.UTF-8
    PATH = /usr/local/bin:/usr/bin:/bin:/usr/local/sbin:/usr/sbin:/sbin:/home/cpansand/bin/linux-gnu:/home/cpansand/bin/sh:/home/cpansand/bin:/usr/games:/home/cpansand/devel:/home/eserte/src/srezic-misc/scripts
    PERL5LIB = 
    PERL5OPT = 
    PERL5_CPANPLUS_IS_RUNNING = 4642
    PERL5_CPAN_IS_RUNNING = 4642
    PERL5_CPAN_IS_RUNNING_IN_RECURSION = 3923,4642
    PERLDOC = -MPod::Perldoc::ToTextOverstrike
    PERL_BATCH = yes
    PERL_CANARY_STABILITY_NOPROMPT = 1
    PERL_CPAN_REPORTER_CONFIG = /var/tmp/cpansmoker-1023/2023040803/cpanreporter_000_config.ini
    PERL_EXTUTILS_AUTOINSTALL = --defaultdeps
    PERL_USE_UNSAFE_INC = 1
    SHELL = /usr/bin/zsh
    TERM = screen
    TMPDIR = /var/tmp/cpansmoker-1023/2023040803

Perl special variables (and OS-specific diagnostics, for MSWin32):

    $^X = /opt/perl-5.18.4/bin/perl
    $UID/$EUID = 1023 / 1023
    $GID = 1023 1023
    $EGID = 1023 1023

Perl module toolchain versions installed:

    Module              Have    
    ------------------- --------
    CPAN                2.34    
    CPAN::Meta          2.150010
    Cwd                 3.75    
    ExtUtils::CBuilder  0.280236
    ExtUtils::Command   7.68    
    ExtUtils::Install   2.06    
    ExtUtils::MakeMaker 7.68    
    ExtUtils::Manifest  1.70    
    ExtUtils::ParseXS   3.44    
    File::Spec          3.75    
    JSON                4.10    
    JSON::PP            4.15    
    Module::Build       0.4232  
    Module::Signature   n/a     
    Parse::CPAN::Meta   2.150010
    Test::Harness       3.44    
    Test::More          1.302194
    YAML                1.30    
    YAML::Syck          1.34    
    version             0.9929  


--

Summary of my perl5 (revision 5 version 18 subversion 4) configuration:
   
  Platform:
    osname=linux, osvers=3.10.0-1160.81.1.el7.x86_64, archname=x86_64-linux
    uname='linux cloud3.bbbike.org 3.10.0-1160.81.1.el7.x86_64 #1 smp fri dec 16 17:29:43 utc 2022 x86_64 x86_64 x86_64 gnulinux '
    config_args='-ds -e -Dprefix=/opt/perl-5.18.4 -Dcf_email=srezic@cpan.org'
    hint=recommended, useposix=true, d_sigaction=define
    useithreads=undef, usemultiplicity=undef
    useperlio=define, d_sfio=undef, uselargefiles=define, usesocks=undef
    use64bitint=define, use64bitall=define, uselongdouble=undef
    usemymalloc=n, bincompat5005=undef
  Compiler:
    cc='cc', ccflags ='-fwrapv -fno-strict-aliasing -pipe -fstack-protector -I/usr/local/include -D_LARGEFILE_SOURCE -D_FILE_OFFSET_BITS=64',
    optimize='-O2',
    cppflags='-fwrapv -fno-strict-aliasing -pipe -fstack-protector -I/usr/local/include'
    ccversion='', gccversion='4.8.5 20150623 (Red Hat 4.8.5-44)', gccosandvers=''
    intsize=4, longsize=8, ptrsize=8, doublesize=8, byteorder=12345678
    d_longlong=define, longlongsize=8, d_longdbl=define, longdblsize=16
    ivtype='long', ivsize=8, nvtype='double', nvsize=8, Off_t='off_t', lseeksize=8
    alignbytes=8, prototype=define
  Linker and Libraries:
    ld='cc', ldflags =' -fstack-protector -L/usr/local/lib'
    libpth=/usr/local/lib /lib/../lib64 /usr/lib/../lib64 /lib /usr/lib /lib64 /usr/lib64 /usr/local/lib64
    libs=-lnsl -lgdbm -ldb -ldl -lm -lcrypt -lutil -lc -lgdbm_compat
    perllibs=-lnsl -ldl -lm -lcrypt -lutil -lc
    libc=libc-2.17.so, so=so, useshrplib=false, libperl=libperl.a
    gnulibc_version='2.17'
  Dynamic Linking:
    dlsrc=dl_dlopen.xs, dlext=so, d_dlsymun=undef, ccdlflags='-Wl,-E'
    cccdlflags='-fPIC', lddlflags='-shared -O2 -L/usr/local/lib -fstack-protector'


Characteristics of this binary (from libperl): 
  Compile-time options: HAS_TIMES PERLIO_LAYERS PERL_DONT_CREATE_GVSV
                        PERL_HASH_FUNC_ONE_AT_A_TIME_HARD PERL_MALLOC_WRAP
                        PERL_PRESERVE_IVUV PERL_SAWAMPERSAND USE_64_BIT_ALL
                        USE_64_BIT_INT USE_LARGE_FILES USE_LOCALE
                        USE_LOCALE_COLLATE USE_LOCALE_CTYPE
                        USE_LOCALE_NUMERIC USE_PERLIO USE_PERL_ATOF
  Locally applied patches:
	Devel::PatchPerl 2.08
  Built under linux
  Compiled at Dec 26 2022 19:19:09
  %ENV:
    PERL5LIB=""
    PERL5OPT=""
    PERL5_CPANPLUS_IS_RUNNING="4642"
    PERL5_CPAN_IS_RUNNING="4642"
    PERL5_CPAN_IS_RUNNING_IN_RECURSION="3923,4642"
    PERLDOC="-MPod::Perldoc::ToTextOverstrike"
    PERL_BATCH="yes"
    PERL_CANARY_STABILITY_NOPROMPT="1"
    PERL_CPAN_REPORTER_CONFIG="/var/tmp/cpansmoker-1023/2023040803/cpanreporter_000_config.ini"
    PERL_EXTUTILS_AUTOINSTALL="--defaultdeps"
    PERL_USE_UNSAFE_INC="1"
  @INC:
    /opt/perl-5.18.4/lib/site_perl/5.18.4/x86_64-linux
    /opt/perl-5.18.4/lib/site_perl/5.18.4
    /opt/perl-5.18.4/lib/5.18.4/x86_64-linux
    /opt/perl-5.18.4/lib/5.18.4
    .