Mail-Mbox-MessageParser v1.5111 Perl 5 v5.41.13 x86_64-linux-thread-multi

Status
Pass
From
Andreas J. König (ANDK)
Dist
Mail-Mbox-MessageParser v1.5111
Platform
Perl 5 v5.41.13 x86_64-linux-thread-multi
Date
2025-06-11 19:35:07
ID
2e67ff04-46fb-11f0-bad7-eb081afcdbda
This distribution has been tested as part of the CPAN Testers
project, supporting the Perl programming language.  See
http://wiki.cpantesters.org/ for more information or email
questions to cpan-testers-discuss@perl.org


--
Dear David Coppit,

This is a computer-generated report for Mail-Mbox-MessageParser-1.5111
on perl 5.41.13, created by CPAN-Reporter-1.2020.

Thank you for uploading your work to CPAN.  Congratulations!
All tests were successful.

Sections of this report:

    * Tester comments
    * Program output
    * Prerequisites
    * Environment and other context

------------------------------
TESTER COMMENTS
------------------------------

Additional comments from tester:

this report is from an automated smoke testing program
and was not reviewed by a human for accuracy

------------------------------
PROGRAM OUTPUT
------------------------------

Output from '/usr/bin/make test':

PERL_DL_NONLAZY=1 "/tmp/basesmoker-reloperl-4LZd/bin/perl" "-MExtUtils::Command::MM" "-MTest::Harness" "-e" "undef *Test::Harness::Switches; test_harness(1, 'blib/lib', 'blib/arch')" t/*.t
t/000_standard__compile.t ....... 
1..6
ok 1 - blib/lib/Mail/Mbox/MessageParser.pm compiles
ok 2 - blib/lib/Mail/Mbox/MessageParser/Cache.pm compiles
ok 3 - blib/lib/Mail/Mbox/MessageParser/Config.pm compiles
ok 4 - blib/lib/Mail/Mbox/MessageParser/Grep.pm compiles
ok 5 - blib/lib/Mail/Mbox/MessageParser/MetaInfo.pm compiles
ok 6 - blib/lib/Mail/Mbox/MessageParser/Perl.pm compiles
ok
t/000_standard__perl_critic.t ... skipped: Author test. Set $ENV{TEST_AUTHOR} to a true value to run.
t/000_standard__pod.t ........... 
1..6
ok 1 - POD test for blib/lib/Mail/Mbox/MessageParser.pm
ok 2 - POD test for blib/lib/Mail/Mbox/MessageParser/Grep.pm
ok 3 - POD test for blib/lib/Mail/Mbox/MessageParser/MetaInfo.pm
ok 4 - POD test for blib/lib/Mail/Mbox/MessageParser/Cache.pm
ok 5 - POD test for blib/lib/Mail/Mbox/MessageParser/Config.pm
ok 6 - POD test for blib/lib/Mail/Mbox/MessageParser/Perl.pm
ok
t/000_standard__pod_coverage.t .. 
1..6
ok 1 - Pod coverage on Mail::Mbox::MessageParser
ok 2 - Pod coverage on Mail::Mbox::MessageParser::Grep
ok 3 - Pod coverage on Mail::Mbox::MessageParser::MetaInfo
ok 4 - Pod coverage on Mail::Mbox::MessageParser::Cache
ok 5 - Pod coverage on Mail::Mbox::MessageParser::Config
ok 6 - Pod coverage on Mail::Mbox::MessageParser::Perl
ok
t/appended_mailbox.t ............ 
1..6
Testing modified mailbox with Perl implementation
Comparing /tmp/dCUy1bsVxt to t/mailboxes/mailarc-1.txt
Output /tmp/dCUy1bsVxt looks good.
ok 1 - Computing differences
Testing modified mailbox with Cache implementation
Comparing /tmp/ZqHROzsiC1 to t/mailboxes/mailarc-1.txt
Output /tmp/ZqHROzsiC1 looks good.
ok 2 - Computing differences
Testing modified mailbox with Grep implementation
ok 3 # skip GNU grep not available
Testing modified mailbox with Perl implementation
Comparing /tmp/M_u5UPAFGT to t/mailboxes/mailarc-1.txt
Output /tmp/M_u5UPAFGT looks good.
ok 4 - Computing differences
Testing modified mailbox with Cache implementation
Comparing /tmp/9hBDqDawHO to t/mailboxes/mailarc-1.txt
Output /tmp/9hBDqDawHO looks good.
ok 5 - Computing differences
Testing modified mailbox with Grep implementation
ok 6 # skip GNU grep not available
ok
t/bzip2.t ....................... 
1..1
Running test:
  "/usr/bin/cat" "t/mailboxes/mailarc-2.txt.bz2" | "/usr/bin/bzip2" -cd
Comparing /tmp/6RM1pWosY3 to t/results/mailarc-2.txt
Output /tmp/6RM1pWosY3 looks good.
Comparing /tmp/SzK1H9NkSo to t/results/none
Output /tmp/SzK1H9NkSo looks good.
ok 1 - Computing differences
ok
t/endline.t ..................... 
1..8
Testing filename: t/mailboxes/mailarc-1-dos.txt
ok 1 - Dos endline expected
ok 2 - Dos endline expected
ok 3 - Dos endline expected
ok 4 # skip GNU grep not available
Testing filename: t/mailboxes/mailarc-1.txt
ok 5 - Unix endline expected
ok 6 - Unix endline expected
ok 7 - Unix endline expected
ok 8 # skip GNU grep not available
ok
t/filehandle_compressed.t ....... 
1..16
Testing filename: t/mailboxes/mailarc-2.txt.bz2
Comparing /tmp/kg4ZfYadDr to t/mailboxes/mailarc-2.txt
Output /tmp/kg4ZfYadDr looks good.
ok 1 - Computing differences
Comparing /tmp/hN2zqSy7IX to t/mailboxes/mailarc-2.txt
Output /tmp/hN2zqSy7IX looks good.
ok 2 - Computing differences
Comparing /tmp/0wk91iWASQ to t/mailboxes/mailarc-2.txt
Output /tmp/0wk91iWASQ looks good.
ok 3 - Computing differences
ok 4 # skip GNU grep not available
Testing filename: t/mailboxes/mailarc-2.txt.gz
Comparing /tmp/uBqozNaO4R to t/mailboxes/mailarc-2.txt
Output /tmp/uBqozNaO4R looks good.
ok 5 - Computing differences
Comparing /tmp/Dzrj4XelRZ to t/mailboxes/mailarc-2.txt
Output /tmp/Dzrj4XelRZ looks good.
ok 6 - Computing differences
Comparing /tmp/gymOdaEm6z to t/mailboxes/mailarc-2.txt
Output /tmp/gymOdaEm6z looks good.
ok 7 - Computing differences
ok 8 # skip GNU grep not available
Testing filename: t/mailboxes/mailarc-2.txt.lz
ok 9 # skip lzip not available
ok 10 # skip lzip not available
ok 11 # skip lzip not available
ok 12 # skip lzip not available
Testing filename: t/mailboxes/mailarc-2.txt.xz
Comparing /tmp/PfhKSF6Ac4 to t/mailboxes/mailarc-2.txt
Output /tmp/PfhKSF6Ac4 looks good.
ok 13 - Computing differences
Comparing /tmp/yrF0SMijT6 to t/mailboxes/mailarc-2.txt
Output /tmp/yrF0SMijT6 looks good.
ok 14 - Computing differences
Comparing /tmp/DWbQPR_q1T to t/mailboxes/mailarc-2.txt
Output /tmp/DWbQPR_q1T looks good.
ok 15 - Computing differences
ok 16 # skip GNU grep not available
ok
t/filehandle_noncompressed.t .... 
1..44
Testing filename: t/mailboxes/binary_body.txt
Comparing /tmp/3fn1LQpEf3 to t/mailboxes/binary_body.txt
Output /tmp/3fn1LQpEf3 looks good.
ok 1 - Computing differences
Comparing /tmp/FfbFxoC7xU to t/mailboxes/binary_body.txt
Output /tmp/FfbFxoC7xU looks good.
ok 2 - Computing differences
Comparing /tmp/g593oNpgRs to t/mailboxes/binary_body.txt
Output /tmp/g593oNpgRs looks good.
ok 3 - Computing differences
ok 4 # skip GNU grep not available
Testing filename: t/mailboxes/hessbug.txt
Comparing /tmp/dH3np_bGpb to t/mailboxes/hessbug.txt
Output /tmp/dH3np_bGpb looks good.
ok 5 - Computing differences
Comparing /tmp/DQA3WPiPyl to t/mailboxes/hessbug.txt
Output /tmp/DQA3WPiPyl looks good.
ok 6 - Computing differences
Comparing /tmp/iuXnwZEp6c to t/mailboxes/hessbug.txt
Output /tmp/iuXnwZEp6c looks good.
ok 7 - Computing differences
ok 8 # skip GNU grep not available
Testing filename: t/mailboxes/invalid-boundaries.txt
Comparing /tmp/tInhuIkXCe to t/mailboxes/invalid-boundaries.txt
Output /tmp/tInhuIkXCe looks good.
ok 9 - Computing differences
Comparing /tmp/p8a8Bnv6rY to t/mailboxes/invalid-boundaries.txt
Output /tmp/p8a8Bnv6rY looks good.
ok 10 - Computing differences
Comparing /tmp/49GyTmCwSB to t/mailboxes/invalid-boundaries.txt
Output /tmp/49GyTmCwSB looks good.
ok 11 - Computing differences
ok 12 # skip GNU grep not available
Testing filename: t/mailboxes/mailarc-1-dos.txt
Comparing /tmp/haat0xlj4S to t/mailboxes/mailarc-1-dos.txt
Output /tmp/haat0xlj4S looks good.
ok 13 - Computing differences
Comparing /tmp/RufdbbLAWR to t/mailboxes/mailarc-1-dos.txt
Output /tmp/RufdbbLAWR looks good.
ok 14 - Computing differences
Comparing /tmp/wQfNbTkG5v to t/mailboxes/mailarc-1-dos.txt
Output /tmp/wQfNbTkG5v looks good.
ok 15 - Computing differences
ok 16 # skip GNU grep not available
Testing filename: t/mailboxes/mailarc-1.txt
Comparing /tmp/HtQ7G3Owtd to t/mailboxes/mailarc-1.txt
Output /tmp/HtQ7G3Owtd looks good.
ok 17 - Computing differences
Comparing /tmp/0_fuJGFHdU to t/mailboxes/mailarc-1.txt
Output /tmp/0_fuJGFHdU looks good.
ok 18 - Computing differences
Comparing /tmp/UMwkmQy0rb to t/mailboxes/mailarc-1.txt
Output /tmp/UMwkmQy0rb looks good.
ok 19 - Computing differences
ok 20 # skip GNU grep not available
Testing filename: t/mailboxes/mailarc-2.txt
Comparing /tmp/ZxnqfmwIsQ to t/mailboxes/mailarc-2.txt
Output /tmp/ZxnqfmwIsQ looks good.
ok 21 - Computing differences
Comparing /tmp/WihuGgFeJj to t/mailboxes/mailarc-2.txt
Output /tmp/WihuGgFeJj looks good.
ok 22 - Computing differences
Comparing /tmp/k1vmJotbqf to t/mailboxes/mailarc-2.txt
Output /tmp/k1vmJotbqf looks good.
ok 23 - Computing differences
ok 24 # skip GNU grep not available
Testing filename: t/mailboxes/mailarc-3.txt
Comparing /tmp/E4D3G_QZpk to t/mailboxes/mailarc-3.txt
Output /tmp/E4D3G_QZpk looks good.
ok 25 - Computing differences
Comparing /tmp/dAFKYnxFDE to t/mailboxes/mailarc-3.txt
Output /tmp/dAFKYnxFDE looks good.
ok 26 - Computing differences
Comparing /tmp/AQSWK8PrGS to t/mailboxes/mailarc-3.txt
Output /tmp/AQSWK8PrGS looks good.
ok 27 - Computing differences
ok 28 # skip GNU grep not available
Testing filename: t/mailboxes/mailseparators.txt
Comparing /tmp/q_U8uBCG6y to t/mailboxes/mailseparators.txt
Output /tmp/q_U8uBCG6y looks good.
ok 29 - Computing differences
Comparing /tmp/ND0JTKkpYU to t/mailboxes/mailseparators.txt
Output /tmp/ND0JTKkpYU looks good.
ok 30 - Computing differences
Comparing /tmp/GA9Iu5nOUU to t/mailboxes/mailseparators.txt
Output /tmp/GA9Iu5nOUU looks good.
ok 31 - Computing differences
ok 32 # skip GNU grep not available
Testing filename: t/mailboxes/malformed.txt
Comparing /tmp/VhoDzI7RhD to t/mailboxes/malformed.txt
Output /tmp/VhoDzI7RhD looks good.
ok 33 - Computing differences
Comparing /tmp/6GEX1aLJFG to t/mailboxes/malformed.txt
Output /tmp/6GEX1aLJFG looks good.
ok 34 - Computing differences
Comparing /tmp/HIlHNHFUAc to t/mailboxes/malformed.txt
Output /tmp/HIlHNHFUAc looks good.
ok 35 - Computing differences
ok 36 # skip GNU grep not available
Testing filename: t/mailboxes/newlines_at_beginning.txt
Comparing /tmp/svjMM62h6C to t/mailboxes/newlines_at_beginning.txt
Output /tmp/svjMM62h6C looks good.
ok 37 - Computing differences
Comparing /tmp/1FNvDWS_JL to t/mailboxes/newlines_at_beginning.txt
Output /tmp/1FNvDWS_JL looks good.
ok 38 - Computing differences
Comparing /tmp/Zarlu7AS_q to t/mailboxes/newlines_at_beginning.txt
Output /tmp/Zarlu7AS_q looks good.
ok 39 - Computing differences
ok 40 # skip GNU grep not available
Testing filename: t/mailboxes/vm-emacs.txt
Comparing /tmp/uzqwi8nqPU to t/mailboxes/vm-emacs.txt
Output /tmp/uzqwi8nqPU looks good.
ok 41 - Computing differences
Comparing /tmp/6mBhzRzSDz to t/mailboxes/vm-emacs.txt
Output /tmp/6mBhzRzSDz looks good.
ok 42 - Computing differences
Comparing /tmp/ba43tQPqUz to t/mailboxes/vm-emacs.txt
Output /tmp/ba43tQPqUz looks good.
ok 43 - Computing differences
ok 44 # skip GNU grep not available
ok
t/filename_compressed.t ......... 
1..4
Testing filename: t/mailboxes/mailarc-2.txt.bz2
Comparing /tmp/SSsXvfij4r to t/mailboxes/mailarc-2.txt
Output /tmp/SSsXvfij4r looks good.
ok 1 - Computing differences
Testing filename: t/mailboxes/mailarc-2.txt.gz
Comparing /tmp/vgCy6Jie0C to t/mailboxes/mailarc-2.txt
Output /tmp/vgCy6Jie0C looks good.
ok 2 - Computing differences
Testing filename: t/mailboxes/mailarc-2.txt.lz
ok 3 # skip lzip not available
Testing filename: t/mailboxes/mailarc-2.txt.xz
Comparing /tmp/p_mQkP4MOw to t/mailboxes/mailarc-2.txt
Output /tmp/p_mQkP4MOw looks good.
ok 4 - Computing differences
ok
t/filename_noncompressed.t ...... 
1..11
Testing filename: t/mailboxes/binary_body.txt
Comparing /tmp/O5eeFQYUNJ to t/mailboxes/binary_body.txt
Output /tmp/O5eeFQYUNJ looks good.
ok 1 - Computing differences
Testing filename: t/mailboxes/hessbug.txt
Comparing /tmp/wQUoflltTn to t/mailboxes/hessbug.txt
Output /tmp/wQUoflltTn looks good.
ok 2 - Computing differences
Testing filename: t/mailboxes/invalid-boundaries.txt
Comparing /tmp/f0sPq_M6Sv to t/mailboxes/invalid-boundaries.txt
Output /tmp/f0sPq_M6Sv looks good.
ok 3 - Computing differences
Testing filename: t/mailboxes/mailarc-1-dos.txt
Comparing /tmp/dU7vK6eguA to t/mailboxes/mailarc-1-dos.txt
Output /tmp/dU7vK6eguA looks good.
ok 4 - Computing differences
Testing filename: t/mailboxes/mailarc-1.txt
Comparing /tmp/vwrgZGSuJm to t/mailboxes/mailarc-1.txt
Output /tmp/vwrgZGSuJm looks good.
ok 5 - Computing differences
Testing filename: t/mailboxes/mailarc-2.txt
Comparing /tmp/zMk6zycEyF to t/mailboxes/mailarc-2.txt
Output /tmp/zMk6zycEyF looks good.
ok 6 - Computing differences
Testing filename: t/mailboxes/mailarc-3.txt
Comparing /tmp/i0OCiPhdol to t/mailboxes/mailarc-3.txt
Output /tmp/i0OCiPhdol looks good.
ok 7 - Computing differences
Testing filename: t/mailboxes/mailseparators.txt
Comparing /tmp/INfLV1tHYt to t/mailboxes/mailseparators.txt
Output /tmp/INfLV1tHYt looks good.
ok 8 - Computing differences
Testing filename: t/mailboxes/malformed.txt
Comparing /tmp/YINNrGgPQf to t/mailboxes/malformed.txt
Output /tmp/YINNrGgPQf looks good.
ok 9 - Computing differences
Testing filename: t/mailboxes/newlines_at_beginning.txt
Comparing /tmp/l43pI0FgZQ to t/mailboxes/newlines_at_beginning.txt
Output /tmp/l43pI0FgZQ looks good.
ok 10 - Computing differences
Testing filename: t/mailboxes/vm-emacs.txt
Comparing /tmp/tjg4p4UAwR to t/mailboxes/vm-emacs.txt
Output /tmp/tjg4p4UAwR looks good.
ok 11 - Computing differences
ok
t/grep.t ........................ 
1..4
Running test:
  unset LC_ALL LC_COLLATE LANG LC_CTYPE LC_MESSAGES; grep --extended-regexp --line-number --byte-offset --binary-files=text "^From [^:]+(:[0-9][0-9]){1,2}(  *([A-Z]{2,6}|[+-]?[0-9]{4})){1,3}( remote from .*)?
?$" t/mailboxes/mailarc-1.txt
ok 1 # skip 1
Running test:
  unset LC_ALL LC_COLLATE LANG LC_CTYPE LC_MESSAGES; grep --extended-regexp --line-number --byte-offset --binary-files=text "^From [^:]+(:[0-9][0-9]){1,2}(  *([A-Z]{2,6}|[+-]?[0-9]{4})){1,3}( remote from .*)?
?$" t/mailboxes/mailarc-2.txt
ok 2 # skip 1
Running test:
  unset LC_ALL LC_COLLATE LANG LC_CTYPE LC_MESSAGES; grep --extended-regexp --line-number --byte-offset --binary-files=text "^From [^:]+(:[0-9][0-9]){1,2}(  *([A-Z]{2,6}|[+-]?[0-9]{4})){1,3}( remote from .*)?
?$" t/mailboxes/mailarc-3.txt
ok 3 # skip 1
Running test:
  unset LC_ALL LC_COLLATE LANG LC_CTYPE LC_MESSAGES; grep --extended-regexp --line-number --byte-offset --binary-files=text "^From [^:]+(:[0-9][0-9]){1,2}(  *([A-Z]{2,6}|[+-]?[0-9]{4})){1,3}( remote from .*)?
?$" t/mailboxes/mailseparators.txt
ok 4 # skip 1
ok
t/gzip.t ........................ 
1..1
Running test:
  "/usr/bin/cat" "t/mailboxes/mailarc-2.txt.gz" | "/usr/bin/gzip" -cd
Comparing /tmp/3zNgcPGxXy to t/results/mailarc-2.txt
Output /tmp/3zNgcPGxXy looks good.
Comparing /tmp/JUxOrU3rk2 to t/results/none
Output /tmp/JUxOrU3rk2 looks good.
ok 1 - Computing differences
ok
t/length.t ...................... 
1..30
Testing filename: t/mailboxes/binary_body.txt
Comparing /tmp/jHNt_NaEG4 to t/results/length_binary_body.stdout
Output /tmp/jHNt_NaEG4 looks good.
ok 1 - Computing differences
Comparing /tmp/I9ZbZCI9pH to t/results/length_binary_body.stdout
Output /tmp/I9ZbZCI9pH looks good.
ok 2 - Computing differences
ok 3 # skip GNU grep not available
Testing filename: t/mailboxes/hessbug.txt
Comparing /tmp/ZWXTeWhMZK to t/results/length_hessbug.stdout
Output /tmp/ZWXTeWhMZK looks good.
ok 4 - Computing differences
Comparing /tmp/3miDrRGWQH to t/results/length_hessbug.stdout
Output /tmp/3miDrRGWQH looks good.
ok 5 - Computing differences
ok 6 # skip GNU grep not available
Testing filename: t/mailboxes/invalid-boundaries.txt
Comparing /tmp/8gulyoPBdC to t/results/length_invalid-boundaries.stdout
Output /tmp/8gulyoPBdC looks good.
ok 7 - Computing differences
Comparing /tmp/ZqsptAXTOz to t/results/length_invalid-boundaries.stdout
Output /tmp/ZqsptAXTOz looks good.
ok 8 - Computing differences
ok 9 # skip GNU grep not available
Testing filename: t/mailboxes/mailarc-1-dos.txt
Comparing /tmp/OZNT0BXKfF to t/results/length_mailarc-1-dos.stdout
Output /tmp/OZNT0BXKfF looks good.
ok 10 - Computing differences
Comparing /tmp/VxgfTeg8AE to t/results/length_mailarc-1-dos.stdout
Output /tmp/VxgfTeg8AE looks good.
ok 11 - Computing differences
ok 12 # skip GNU grep not available
Testing filename: t/mailboxes/mailarc-1.txt
Comparing /tmp/hsZu3PiDIJ to t/results/length_mailarc-1.stdout
Output /tmp/hsZu3PiDIJ looks good.
ok 13 - Computing differences
Comparing /tmp/_vs60E0Im7 to t/results/length_mailarc-1.stdout
Output /tmp/_vs60E0Im7 looks good.
ok 14 - Computing differences
ok 15 # skip GNU grep not available
Testing filename: t/mailboxes/mailarc-2.txt
Comparing /tmp/gihHrgLOh9 to t/results/length_mailarc-2.stdout
Output /tmp/gihHrgLOh9 looks good.
ok 16 - Computing differences
Comparing /tmp/BaDhdJepgr to t/results/length_mailarc-2.stdout
Output /tmp/BaDhdJepgr looks good.
ok 17 - Computing differences
ok 18 # skip GNU grep not available
Testing filename: t/mailboxes/mailarc-3.txt
Comparing /tmp/SUnCnWo6XD to t/results/length_mailarc-3.stdout
Output /tmp/SUnCnWo6XD looks good.
ok 19 - Computing differences
Comparing /tmp/7_XLKSqO7p to t/results/length_mailarc-3.stdout
Output /tmp/7_XLKSqO7p looks good.
ok 20 - Computing differences
ok 21 # skip GNU grep not available
Testing filename: t/mailboxes/mailseparators.txt
Comparing /tmp/RRskqoqRz5 to t/results/length_mailseparators.stdout
Output /tmp/RRskqoqRz5 looks good.
ok 22 - Computing differences
Comparing /tmp/q5VQxSCAOd to t/results/length_mailseparators.stdout
Output /tmp/q5VQxSCAOd looks good.
ok 23 - Computing differences
ok 24 # skip GNU grep not available
Testing filename: t/mailboxes/malformed.txt
Comparing /tmp/EnlBVqs5IG to t/results/length_malformed.stdout
Output /tmp/EnlBVqs5IG looks good.
ok 25 - Computing differences
Comparing /tmp/Oh0Js5dJre to t/results/length_malformed.stdout
Output /tmp/Oh0Js5dJre looks good.
ok 26 - Computing differences
ok 27 # skip GNU grep not available
Testing filename: t/mailboxes/newlines_at_beginning.txt
Comparing /tmp/_JVtfXbGp7 to t/results/length_newlines_at_beginning.stdout
Output /tmp/_JVtfXbGp7 looks good.
ok 28 - Computing differences
Comparing /tmp/gRvHSLCluu to t/results/length_newlines_at_beginning.stdout
Output /tmp/gRvHSLCluu looks good.
ok 29 - Computing differences
ok 30 # skip GNU grep not available
ok
t/line_number.t ................. 
1..30
Testing filename: t/mailboxes/binary_body.txt
Comparing /tmp/4yFsabrlOL to t/results/line_number_binary_body.stdout
Output /tmp/4yFsabrlOL looks good.
ok 1 - Computing differences
Comparing /tmp/Gu7MEEDcAU to t/results/line_number_binary_body.stdout
Output /tmp/Gu7MEEDcAU looks good.
ok 2 - Computing differences
ok 3 # skip GNU grep not available
Testing filename: t/mailboxes/hessbug.txt
Comparing /tmp/e834wZ8BEW to t/results/line_number_hessbug.stdout
Output /tmp/e834wZ8BEW looks good.
ok 4 - Computing differences
Comparing /tmp/c9_K67AMTt to t/results/line_number_hessbug.stdout
Output /tmp/c9_K67AMTt looks good.
ok 5 - Computing differences
ok 6 # skip GNU grep not available
Testing filename: t/mailboxes/invalid-boundaries.txt
Comparing /tmp/rLvFDuBpL2 to t/results/line_number_invalid-boundaries.stdout
Output /tmp/rLvFDuBpL2 looks good.
ok 7 - Computing differences
Comparing /tmp/sHU4zk8oIs to t/results/line_number_invalid-boundaries.stdout
Output /tmp/sHU4zk8oIs looks good.
ok 8 - Computing differences
ok 9 # skip GNU grep not available
Testing filename: t/mailboxes/mailarc-1-dos.txt
Comparing /tmp/Fn62cP3bFt to t/results/line_number_mailarc-1-dos.stdout
Output /tmp/Fn62cP3bFt looks good.
ok 10 - Computing differences
Comparing /tmp/EGhc_d76UD to t/results/line_number_mailarc-1-dos.stdout
Output /tmp/EGhc_d76UD looks good.
ok 11 - Computing differences
ok 12 # skip GNU grep not available
Testing filename: t/mailboxes/mailarc-1.txt
Comparing /tmp/FBGpt1Jzcu to t/results/line_number_mailarc-1.stdout
Output /tmp/FBGpt1Jzcu looks good.
ok 13 - Computing differences
Comparing /tmp/co9eDYDFj2 to t/results/line_number_mailarc-1.stdout
Output /tmp/co9eDYDFj2 looks good.
ok 14 - Computing differences
ok 15 # skip GNU grep not available
Testing filename: t/mailboxes/mailarc-2.txt
Comparing /tmp/WIHDv3yeuc to t/results/line_number_mailarc-2.stdout
Output /tmp/WIHDv3yeuc looks good.
ok 16 - Computing differences
Comparing /tmp/HHDeQ245i0 to t/results/line_number_mailarc-2.stdout
Output /tmp/HHDeQ245i0 looks good.
ok 17 - Computing differences
ok 18 # skip GNU grep not available
Testing filename: t/mailboxes/mailarc-3.txt
Comparing /tmp/W08hXoP2_Q to t/results/line_number_mailarc-3.stdout
Output /tmp/W08hXoP2_Q looks good.
ok 19 - Computing differences
Comparing /tmp/VUvGySU5qw to t/results/line_number_mailarc-3.stdout
Output /tmp/VUvGySU5qw looks good.
ok 20 - Computing differences
ok 21 # skip GNU grep not available
Testing filename: t/mailboxes/mailseparators.txt
Comparing /tmp/J8D7WiJZ5c to t/results/line_number_mailseparators.stdout
Output /tmp/J8D7WiJZ5c looks good.
ok 22 - Computing differences
Comparing /tmp/bqJGgH1FHb to t/results/line_number_mailseparators.stdout
Output /tmp/bqJGgH1FHb looks good.
ok 23 - Computing differences
ok 24 # skip GNU grep not available
Testing filename: t/mailboxes/malformed.txt
Comparing /tmp/ROeEdaJnwE to t/results/line_number_malformed.stdout
Output /tmp/ROeEdaJnwE looks good.
ok 25 - Computing differences
Comparing /tmp/I1xlSDe9pM to t/results/line_number_malformed.stdout
Output /tmp/I1xlSDe9pM looks good.
ok 26 - Computing differences
ok 27 # skip GNU grep not available
Testing filename: t/mailboxes/newlines_at_beginning.txt
Comparing /tmp/qsFZtROt60 to t/results/line_number_newlines_at_beginning.stdout
Output /tmp/qsFZtROt60 looks good.
ok 28 - Computing differences
Comparing /tmp/R6yFp6HF5H to t/results/line_number_newlines_at_beginning.stdout
Output /tmp/R6yFp6HF5H looks good.
ok 29 - Computing differences
ok 30 # skip GNU grep not available
ok
t/lzip.t ........................ 
1..1
Running test:
  "/usr/bin/cat" "t/mailboxes/mailarc-2.txt.lz" | "lzip" -cd
ok 1 # skip lzip not available
ok
t/number.t ...................... 
1..30
Testing filename: t/mailboxes/binary_body.txt
Comparing /tmp/DUACJfu1AT to t/results/number_binary_body.stdout
Output /tmp/DUACJfu1AT looks good.
ok 1 - Computing differences
Comparing /tmp/XAI7TnSIMp to t/results/number_binary_body.stdout
Output /tmp/XAI7TnSIMp looks good.
ok 2 - Computing differences
ok 3 # skip GNU grep not available
Testing filename: t/mailboxes/hessbug.txt
Comparing /tmp/JclMIIGwLr to t/results/number_hessbug.stdout
Output /tmp/JclMIIGwLr looks good.
ok 4 - Computing differences
Comparing /tmp/fxMtZTqFZV to t/results/number_hessbug.stdout
Output /tmp/fxMtZTqFZV looks good.
ok 5 - Computing differences
ok 6 # skip GNU grep not available
Testing filename: t/mailboxes/invalid-boundaries.txt
Comparing /tmp/lvI4X8PSCE to t/results/number_invalid-boundaries.stdout
Output /tmp/lvI4X8PSCE looks good.
ok 7 - Computing differences
Comparing /tmp/7oK0SPwTAj to t/results/number_invalid-boundaries.stdout
Output /tmp/7oK0SPwTAj looks good.
ok 8 - Computing differences
ok 9 # skip GNU grep not available
Testing filename: t/mailboxes/mailarc-1-dos.txt
Comparing /tmp/Gx0fOnV3Nm to t/results/number_mailarc-1-dos.stdout
Output /tmp/Gx0fOnV3Nm looks good.
ok 10 - Computing differences
Comparing /tmp/1txz0bQXjV to t/results/number_mailarc-1-dos.stdout
Output /tmp/1txz0bQXjV looks good.
ok 11 - Computing differences
ok 12 # skip GNU grep not available
Testing filename: t/mailboxes/mailarc-1.txt
Comparing /tmp/4YYJevWNON to t/results/number_mailarc-1.stdout
Output /tmp/4YYJevWNON looks good.
ok 13 - Computing differences
Comparing /tmp/sqZrihveMN to t/results/number_mailarc-1.stdout
Output /tmp/sqZrihveMN looks good.
ok 14 - Computing differences
ok 15 # skip GNU grep not available
Testing filename: t/mailboxes/mailarc-2.txt
Comparing /tmp/Pf9BF5EAQb to t/results/number_mailarc-2.stdout
Output /tmp/Pf9BF5EAQb looks good.
ok 16 - Computing differences
Comparing /tmp/luE3ZKCgCr to t/results/number_mailarc-2.stdout
Output /tmp/luE3ZKCgCr looks good.
ok 17 - Computing differences
ok 18 # skip GNU grep not available
Testing filename: t/mailboxes/mailarc-3.txt
Comparing /tmp/IYgaruNocr to t/results/number_mailarc-3.stdout
Output /tmp/IYgaruNocr looks good.
ok 19 - Computing differences
Comparing /tmp/RhmEVVRwGR to t/results/number_mailarc-3.stdout
Output /tmp/RhmEVVRwGR looks good.
ok 20 - Computing differences
ok 21 # skip GNU grep not available
Testing filename: t/mailboxes/mailseparators.txt
Comparing /tmp/sf21YbHCqw to t/results/number_mailseparators.stdout
Output /tmp/sf21YbHCqw looks good.
ok 22 - Computing differences
Comparing /tmp/SDZXAuhXME to t/results/number_mailseparators.stdout
Output /tmp/SDZXAuhXME looks good.
ok 23 - Computing differences
ok 24 # skip GNU grep not available
Testing filename: t/mailboxes/malformed.txt
Comparing /tmp/r2ucB66HmO to t/results/number_malformed.stdout
Output /tmp/r2ucB66HmO looks good.
ok 25 - Computing differences
Comparing /tmp/Kz4a47fkWh to t/results/number_malformed.stdout
Output /tmp/Kz4a47fkWh looks good.
ok 26 - Computing differences
ok 27 # skip GNU grep not available
Testing filename: t/mailboxes/newlines_at_beginning.txt
Comparing /tmp/gDLtulWxNa to t/results/number_newlines_at_beginning.stdout
Output /tmp/gDLtulWxNa looks good.
ok 28 - Computing differences
Comparing /tmp/0RbOZ1sYes to t/results/number_newlines_at_beginning.stdout
Output /tmp/0RbOZ1sYes looks good.
ok 29 - Computing differences
ok 30 # skip GNU grep not available
ok
t/offset.t ...................... 
1..30
Testing filename: t/mailboxes/binary_body.txt
Comparing /tmp/BwqPAZFQdj to t/results/offset_binary_body.stdout
Output /tmp/BwqPAZFQdj looks good.
ok 1 - Computing differences
Comparing /tmp/c8ZQgOkyoV to t/results/offset_binary_body.stdout
Output /tmp/c8ZQgOkyoV looks good.
ok 2 - Computing differences
ok 3 # skip GNU grep not available
Testing filename: t/mailboxes/hessbug.txt
Comparing /tmp/uHvws81h3b to t/results/offset_hessbug.stdout
Output /tmp/uHvws81h3b looks good.
ok 4 - Computing differences
Comparing /tmp/nNa5tQw8nO to t/results/offset_hessbug.stdout
Output /tmp/nNa5tQw8nO looks good.
ok 5 - Computing differences
ok 6 # skip GNU grep not available
Testing filename: t/mailboxes/invalid-boundaries.txt
Comparing /tmp/neOXrFK_3k to t/results/offset_invalid-boundaries.stdout
Output /tmp/neOXrFK_3k looks good.
ok 7 - Computing differences
Comparing /tmp/MUv4ldnf25 to t/results/offset_invalid-boundaries.stdout
Output /tmp/MUv4ldnf25 looks good.
ok 8 - Computing differences
ok 9 # skip GNU grep not available
Testing filename: t/mailboxes/mailarc-1-dos.txt
Comparing /tmp/PcUvZFw7J5 to t/results/offset_mailarc-1-dos.stdout
Output /tmp/PcUvZFw7J5 looks good.
ok 10 - Computing differences
Comparing /tmp/JIqgHr6P4w to t/results/offset_mailarc-1-dos.stdout
Output /tmp/JIqgHr6P4w looks good.
ok 11 - Computing differences
ok 12 # skip GNU grep not available
Testing filename: t/mailboxes/mailarc-1.txt
Comparing /tmp/ACCFsOjxTh to t/results/offset_mailarc-1.stdout
Output /tmp/ACCFsOjxTh looks good.
ok 13 - Computing differences
Comparing /tmp/FXhw3B2pfK to t/results/offset_mailarc-1.stdout
Output /tmp/FXhw3B2pfK looks good.
ok 14 - Computing differences
ok 15 # skip GNU grep not available
Testing filename: t/mailboxes/mailarc-2.txt
Comparing /tmp/J61MvlE3ec to t/results/offset_mailarc-2.stdout
Output /tmp/J61MvlE3ec looks good.
ok 16 - Computing differences
Comparing /tmp/zvRHmkdY8K to t/results/offset_mailarc-2.stdout
Output /tmp/zvRHmkdY8K looks good.
ok 17 - Computing differences
ok 18 # skip GNU grep not available
Testing filename: t/mailboxes/mailarc-3.txt
Comparing /tmp/KLMUJqqQG1 to t/results/offset_mailarc-3.stdout
Output /tmp/KLMUJqqQG1 looks good.
ok 19 - Computing differences
Comparing /tmp/zHlkLOfC3r to t/results/offset_mailarc-3.stdout
Output /tmp/zHlkLOfC3r looks good.
ok 20 - Computing differences
ok 21 # skip GNU grep not available
Testing filename: t/mailboxes/mailseparators.txt
Comparing /tmp/tYfLysjaaX to t/results/offset_mailseparators.stdout
Output /tmp/tYfLysjaaX looks good.
ok 22 - Computing differences
Comparing /tmp/jZJsGhOJzZ to t/results/offset_mailseparators.stdout
Output /tmp/jZJsGhOJzZ looks good.
ok 23 - Computing differences
ok 24 # skip GNU grep not available
Testing filename: t/mailboxes/malformed.txt
Comparing /tmp/ypM61XKH9l to t/results/offset_malformed.stdout
Output /tmp/ypM61XKH9l looks good.
ok 25 - Computing differences
Comparing /tmp/VLB9EH9lvc to t/results/offset_malformed.stdout
Output /tmp/VLB9EH9lvc looks good.
ok 26 - Computing differences
ok 27 # skip GNU grep not available
Testing filename: t/mailboxes/newlines_at_beginning.txt
Comparing /tmp/V1C8QTLA6x to t/results/offset_newlines_at_beginning.stdout
Output /tmp/V1C8QTLA6x looks good.
ok 28 - Computing differences
Comparing /tmp/w_If2xaoaB to t/results/offset_newlines_at_beginning.stdout
Output /tmp/w_If2xaoaB looks good.
ok 29 - Computing differences
ok 30 # skip GNU grep not available
ok
t/prologue.t .................... 
1..33
Testing filename: t/mailboxes/binary_body.txt
Comparing /tmp/v4jR87By0U to t/mailboxes/binary_body.txt
Output /tmp/v4jR87By0U looks good.
ok 1 - Computing differences
Comparing /tmp/8T8j0p9JJU to t/mailboxes/binary_body.txt
Output /tmp/8T8j0p9JJU looks good.
ok 2 - Computing differences
ok 3 # skip GNU grep not available
Testing filename: t/mailboxes/hessbug.txt
Comparing /tmp/pKhFmR9Sqi to t/mailboxes/hessbug.txt
Output /tmp/pKhFmR9Sqi looks good.
ok 4 - Computing differences
Comparing /tmp/3sJ3VpkPzm to t/mailboxes/hessbug.txt
Output /tmp/3sJ3VpkPzm looks good.
ok 5 - Computing differences
ok 6 # skip GNU grep not available
Testing filename: t/mailboxes/invalid-boundaries.txt
Comparing /tmp/DCkyR7zuJG to t/mailboxes/invalid-boundaries.txt
Output /tmp/DCkyR7zuJG looks good.
ok 7 - Computing differences
Comparing /tmp/1NTY5yBXen to t/mailboxes/invalid-boundaries.txt
Output /tmp/1NTY5yBXen looks good.
ok 8 - Computing differences
ok 9 # skip GNU grep not available
Testing filename: t/mailboxes/mailarc-1-dos.txt
Comparing /tmp/tenSGH8Hgz to t/mailboxes/mailarc-1-dos.txt
Output /tmp/tenSGH8Hgz looks good.
ok 10 - Computing differences
Comparing /tmp/dG1KWlGgud to t/mailboxes/mailarc-1-dos.txt
Output /tmp/dG1KWlGgud looks good.
ok 11 - Computing differences
ok 12 # skip GNU grep not available
Testing filename: t/mailboxes/mailarc-1.txt
Comparing /tmp/c8OU_95mzc to t/mailboxes/mailarc-1.txt
Output /tmp/c8OU_95mzc looks good.
ok 13 - Computing differences
Comparing /tmp/wQuEqpJDAF to t/mailboxes/mailarc-1.txt
Output /tmp/wQuEqpJDAF looks good.
ok 14 - Computing differences
ok 15 # skip GNU grep not available
Testing filename: t/mailboxes/mailarc-2.txt
Comparing /tmp/NosiBAYjDN to t/mailboxes/mailarc-2.txt
Output /tmp/NosiBAYjDN looks good.
ok 16 - Computing differences
Comparing /tmp/CtpaQVXswy to t/mailboxes/mailarc-2.txt
Output /tmp/CtpaQVXswy looks good.
ok 17 - Computing differences
ok 18 # skip GNU grep not available
Testing filename: t/mailboxes/mailarc-3.txt
Comparing /tmp/R5VgjdeiPA to t/mailboxes/mailarc-3.txt
Output /tmp/R5VgjdeiPA looks good.
ok 19 - Computing differences
Comparing /tmp/YnFqKcB8w6 to t/mailboxes/mailarc-3.txt
Output /tmp/YnFqKcB8w6 looks good.
ok 20 - Computing differences
ok 21 # skip GNU grep not available
Testing filename: t/mailboxes/mailseparators.txt
Comparing /tmp/XjvdeIYWnc to t/mailboxes/mailseparators.txt
Output /tmp/XjvdeIYWnc looks good.
ok 22 - Computing differences
Comparing /tmp/cqPYO3FXqd to t/mailboxes/mailseparators.txt
Output /tmp/cqPYO3FXqd looks good.
ok 23 - Computing differences
ok 24 # skip GNU grep not available
Testing filename: t/mailboxes/malformed.txt
Comparing /tmp/eb1rM0vISf to t/mailboxes/malformed.txt
Output /tmp/eb1rM0vISf looks good.
ok 25 - Computing differences
Comparing /tmp/KdnI2GDp9V to t/mailboxes/malformed.txt
Output /tmp/KdnI2GDp9V looks good.
ok 26 - Computing differences
ok 27 # skip GNU grep not available
Testing filename: t/mailboxes/newlines_at_beginning.txt
Comparing /tmp/s0R5gbXNVv to t/mailboxes/newlines_at_beginning.txt
Output /tmp/s0R5gbXNVv looks good.
ok 28 - Computing differences
Comparing /tmp/vR2Pp7FIMv to t/mailboxes/newlines_at_beginning.txt
Output /tmp/vR2Pp7FIMv looks good.
ok 29 - Computing differences
ok 30 # skip GNU grep not available
Testing filename: t/mailboxes/vm-emacs.txt
Comparing /tmp/cBpj9ZD3bw to t/mailboxes/vm-emacs.txt
Output /tmp/cBpj9ZD3bw looks good.
ok 31 - Computing differences
Comparing /tmp/ubDg2nFNJE to t/mailboxes/vm-emacs.txt
Output /tmp/ubDg2nFNJE looks good.
ok 32 - Computing differences
ok 33 # skip GNU grep not available
ok
t/reset.t ....................... 
1..60
Testing filename: t/mailboxes/binary_body.txt
Testing partial mailbox reset with Perl implementation
Comparing /tmp/j2goB5PgpF to t/results/reset_binary_body.stdout
Output /tmp/j2goB5PgpF looks good.
ok 1 - Computing differences
Testing partial mailbox reset with Cache implementation
Comparing /tmp/GzmUYKmg1W to t/results/reset_binary_body.stdout
Output /tmp/GzmUYKmg1W looks good.
ok 2 - Computing differences
Testing partial mailbox reset with Grep implementation
ok 3 # skip GNU grep not available
Testing full mailbox reset with Perl implementation
Comparing /tmp/FUPSoU6456 to t/results/reset_binary_body.stdout
Output /tmp/FUPSoU6456 looks good.
ok 4 - Computing differences
Testing full mailbox reset with Cache implementation
Comparing /tmp/9iDUDz8JLd to t/results/reset_binary_body.stdout
Output /tmp/9iDUDz8JLd looks good.
ok 5 - Computing differences
Testing full mailbox reset with Grep implementation
ok 6 # skip GNU grep not available
Testing filename: t/mailboxes/hessbug.txt
Testing partial mailbox reset with Perl implementation
Comparing /tmp/DyPsLTO6e8 to t/results/reset_hessbug.stdout
Output /tmp/DyPsLTO6e8 looks good.
ok 7 - Computing differences
Testing partial mailbox reset with Cache implementation
Comparing /tmp/X4ukau2c3E to t/results/reset_hessbug.stdout
Output /tmp/X4ukau2c3E looks good.
ok 8 - Computing differences
Testing partial mailbox reset with Grep implementation
ok 9 # skip GNU grep not available
Testing full mailbox reset with Perl implementation
Comparing /tmp/nSRUcXfGv0 to t/results/reset_hessbug.stdout
Output /tmp/nSRUcXfGv0 looks good.
ok 10 - Computing differences
Testing full mailbox reset with Cache implementation
Comparing /tmp/rwCQ2gcQYe to t/results/reset_hessbug.stdout
Output /tmp/rwCQ2gcQYe looks good.
ok 11 - Computing differences
Testing full mailbox reset with Grep implementation
ok 12 # skip GNU grep not available
Testing filename: t/mailboxes/invalid-boundaries.txt
Testing partial mailbox reset with Perl implementation
Comparing /tmp/GFLskfkmvV to t/results/reset_invalid-boundaries.stdout
Output /tmp/GFLskfkmvV looks good.
ok 13 - Computing differences
Testing partial mailbox reset with Cache implementation
Comparing /tmp/BBBdlxcRNZ to t/results/reset_invalid-boundaries.stdout
Output /tmp/BBBdlxcRNZ looks good.
ok 14 - Computing differences
Testing partial mailbox reset with Grep implementation
ok 15 # skip GNU grep not available
Testing full mailbox reset with Perl implementation
Comparing /tmp/Y2QcuVQD2s to t/results/reset_invalid-boundaries.stdout
Output /tmp/Y2QcuVQD2s looks good.
ok 16 - Computing differences
Testing full mailbox reset with Cache implementation
Comparing /tmp/Ws83Wq6sUd to t/results/reset_invalid-boundaries.stdout
Output /tmp/Ws83Wq6sUd looks good.
ok 17 - Computing differences
Testing full mailbox reset with Grep implementation
ok 18 # skip GNU grep not available
Testing filename: t/mailboxes/mailarc-1-dos.txt
Testing partial mailbox reset with Perl implementation
Comparing /tmp/kCFGsk0iL1 to t/results/reset_mailarc-1-dos.stdout
Output /tmp/kCFGsk0iL1 looks good.
ok 19 - Computing differences
Testing partial mailbox reset with Cache implementation
Comparing /tmp/g90SAbxv9m to t/results/reset_mailarc-1-dos.stdout
Output /tmp/g90SAbxv9m looks good.
ok 20 - Computing differences
Testing partial mailbox reset with Grep implementation
ok 21 # skip GNU grep not available
Testing full mailbox reset with Perl implementation
Comparing /tmp/W0DvabNbIG to t/results/reset_mailarc-1-dos.stdout
Output /tmp/W0DvabNbIG looks good.
ok 22 - Computing differences
Testing full mailbox reset with Cache implementation
Comparing /tmp/QZjWAAzojs to t/results/reset_mailarc-1-dos.stdout
Output /tmp/QZjWAAzojs looks good.
ok 23 - Computing differences
Testing full mailbox reset with Grep implementation
ok 24 # skip GNU grep not available
Testing filename: t/mailboxes/mailarc-1.txt
Testing partial mailbox reset with Perl implementation
Comparing /tmp/W2yTTQjYd3 to t/results/reset_mailarc-1.stdout
Output /tmp/W2yTTQjYd3 looks good.
ok 25 - Computing differences
Testing partial mailbox reset with Cache implementation
Comparing /tmp/cK9fmP6q7m to t/results/reset_mailarc-1.stdout
Output /tmp/cK9fmP6q7m looks good.
ok 26 - Computing differences
Testing partial mailbox reset with Grep implementation
ok 27 # skip GNU grep not available
Testing full mailbox reset with Perl implementation
Comparing /tmp/NUButOgEtv to t/results/reset_mailarc-1.stdout
Output /tmp/NUButOgEtv looks good.
ok 28 - Computing differences
Testing full mailbox reset with Cache implementation
Comparing /tmp/XvBY3uleFf to t/results/reset_mailarc-1.stdout
Output /tmp/XvBY3uleFf looks good.
ok 29 - Computing differences
Testing full mailbox reset with Grep implementation
ok 30 # skip GNU grep not available
Testing filename: t/mailboxes/mailarc-2.txt
Testing partial mailbox reset with Perl implementation
Comparing /tmp/PdDOZ3T0Tp to t/results/reset_mailarc-2.stdout
Output /tmp/PdDOZ3T0Tp looks good.
ok 31 - Computing differences
Testing partial mailbox reset with Cache implementation
Comparing /tmp/IMiuciUeli to t/results/reset_mailarc-2.stdout
Output /tmp/IMiuciUeli looks good.
ok 32 - Computing differences
Testing partial mailbox reset with Grep implementation
ok 33 # skip GNU grep not available
Testing full mailbox reset with Perl implementation
Comparing /tmp/qsS9ynVOZQ to t/results/reset_mailarc-2.stdout
Output /tmp/qsS9ynVOZQ looks good.
ok 34 - Computing differences
Testing full mailbox reset with Cache implementation
Comparing /tmp/SgIZuZwuK3 to t/results/reset_mailarc-2.stdout
Output /tmp/SgIZuZwuK3 looks good.
ok 35 - Computing differences
Testing full mailbox reset with Grep implementation
ok 36 # skip GNU grep not available
Testing filename: t/mailboxes/mailarc-3.txt
Testing partial mailbox reset with Perl implementation
Comparing /tmp/9fxsn_WPfL to t/results/reset_mailarc-3.stdout
Output /tmp/9fxsn_WPfL looks good.
ok 37 - Computing differences
Testing partial mailbox reset with Cache implementation
Comparing /tmp/mHgNMjBeOm to t/results/reset_mailarc-3.stdout
Output /tmp/mHgNMjBeOm looks good.
ok 38 - Computing differences
Testing partial mailbox reset with Grep implementation
ok 39 # skip GNU grep not available
Testing full mailbox reset with Perl implementation
Comparing /tmp/xEEQvi2ECZ to t/results/reset_mailarc-3.stdout
Output /tmp/xEEQvi2ECZ looks good.
ok 40 - Computing differences
Testing full mailbox reset with Cache implementation
Comparing /tmp/KYg_Zb6V8Y to t/results/reset_mailarc-3.stdout
Output /tmp/KYg_Zb6V8Y looks good.
ok 41 - Computing differences
Testing full mailbox reset with Grep implementation
ok 42 # skip GNU grep not available
Testing filename: t/mailboxes/mailseparators.txt
Testing partial mailbox reset with Perl implementation
Comparing /tmp/om391LMbKz to t/results/reset_mailseparators.stdout
Output /tmp/om391LMbKz looks good.
ok 43 - Computing differences
Testing partial mailbox reset with Cache implementation
Comparing /tmp/BI_zd7t3gi to t/results/reset_mailseparators.stdout
Output /tmp/BI_zd7t3gi looks good.
ok 44 - Computing differences
Testing partial mailbox reset with Grep implementation
ok 45 # skip GNU grep not available
Testing full mailbox reset with Perl implementation
Comparing /tmp/wEU7x0dPNZ to t/results/reset_mailseparators.stdout
Output /tmp/wEU7x0dPNZ looks good.
ok 46 - Computing differences
Testing full mailbox reset with Cache implementation
Comparing /tmp/ysfXJQ2ZPy to t/results/reset_mailseparators.stdout
Output /tmp/ysfXJQ2ZPy looks good.
ok 47 - Computing differences
Testing full mailbox reset with Grep implementation
ok 48 # skip GNU grep not available
Testing filename: t/mailboxes/malformed.txt
Testing partial mailbox reset with Perl implementation
Comparing /tmp/2IAor9V0uK to t/results/reset_malformed.stdout
Output /tmp/2IAor9V0uK looks good.
ok 49 - Computing differences
Testing partial mailbox reset with Cache implementation
Comparing /tmp/zETD0mllb4 to t/results/reset_malformed.stdout
Output /tmp/zETD0mllb4 looks good.
ok 50 - Computing differences
Testing partial mailbox reset with Grep implementation
ok 51 # skip GNU grep not available
Testing full mailbox reset with Perl implementation
Comparing /tmp/wpQeuvGRES to t/results/reset_malformed.stdout
Output /tmp/wpQeuvGRES looks good.
ok 52 - Computing differences
Testing full mailbox reset with Cache implementation
Comparing /tmp/QgPHYQNIuv to t/results/reset_malformed.stdout
Output /tmp/QgPHYQNIuv looks good.
ok 53 - Computing differences
Testing full mailbox reset with Grep implementation
ok 54 # skip GNU grep not available
Testing filename: t/mailboxes/newlines_at_beginning.txt
Testing partial mailbox reset with Perl implementation
Comparing /tmp/eV1suP1dgI to t/results/reset_newlines_at_beginning.stdout
Output /tmp/eV1suP1dgI looks good.
ok 55 - Computing differences
Testing partial mailbox reset with Cache implementation
Comparing /tmp/31SLbIs26l to t/results/reset_newlines_at_beginning.stdout
Output /tmp/31SLbIs26l looks good.
ok 56 - Computing differences
Testing partial mailbox reset with Grep implementation
ok 57 # skip GNU grep not available
Testing full mailbox reset with Perl implementation
Comparing /tmp/g0RgWTH66V to t/results/reset_newlines_at_beginning.stdout
Output /tmp/g0RgWTH66V looks good.
ok 58 - Computing differences
Testing full mailbox reset with Cache implementation
Comparing /tmp/o8TMIlNJrJ to t/results/reset_newlines_at_beginning.stdout
Output /tmp/o8TMIlNJrJ looks good.
ok 59 - Computing differences
Testing full mailbox reset with Grep implementation
ok 60 # skip GNU grep not available
ok
t/separators.t .................. 
1..6
Testing filename: t/mailboxes/separators1.sep
ok 1 - Number of emails in t/mailboxes/separators1.sep
ok 2 - Number of emails in t/mailboxes/separators1.sep
ok 3 # skip GNU grep not available
Testing filename: t/mailboxes/separators2.sep
ok 4 - Number of emails in t/mailboxes/separators2.sep
ok 5 - Number of emails in t/mailboxes/separators2.sep
ok 6 # skip GNU grep not available
ok
t/stdin_compressed.t ............ 
1..4
Testing filename: t/mailboxes/mailarc-2.txt.bz2
Comparing /tmp/X6ngNxgi_G to t/mailboxes/mailarc-2.txt
Output /tmp/X6ngNxgi_G looks good.
ok 1 - Computing differences
Testing filename: t/mailboxes/mailarc-2.txt.gz
Comparing /tmp/SwkUnWlCxf to t/mailboxes/mailarc-2.txt
Output /tmp/SwkUnWlCxf looks good.
ok 2 - Computing differences
Testing filename: t/mailboxes/mailarc-2.txt.lz
ok 3 # skip lzip not available
Testing filename: t/mailboxes/mailarc-2.txt.xz
Comparing /tmp/SwAhGSUVR8 to t/mailboxes/mailarc-2.txt
Output /tmp/SwAhGSUVR8 looks good.
ok 4 - Computing differences
ok
t/stdin_uncompressed.t .......... 
1..11
Testing filename: t/mailboxes/binary_body.txt
Comparing /tmp/36BknMoeYD to t/mailboxes/binary_body.txt
Output /tmp/36BknMoeYD looks good.
ok 1 - Computing differences
Testing filename: t/mailboxes/hessbug.txt
Comparing /tmp/TmENVlORWX to t/mailboxes/hessbug.txt
Output /tmp/TmENVlORWX looks good.
ok 2 - Computing differences
Testing filename: t/mailboxes/invalid-boundaries.txt
Comparing /tmp/GA3lGhDaNf to t/mailboxes/invalid-boundaries.txt
Output /tmp/GA3lGhDaNf looks good.
ok 3 - Computing differences
Testing filename: t/mailboxes/mailarc-1-dos.txt
Comparing /tmp/iHJ3BuMJHU to t/mailboxes/mailarc-1-dos.txt
Output /tmp/iHJ3BuMJHU looks good.
ok 4 - Computing differences
Testing filename: t/mailboxes/mailarc-1.txt
Comparing /tmp/nHiF1ntIpK to t/mailboxes/mailarc-1.txt
Output /tmp/nHiF1ntIpK looks good.
ok 5 - Computing differences
Testing filename: t/mailboxes/mailarc-2.txt
Comparing /tmp/p7Annz2icA to t/mailboxes/mailarc-2.txt
Output /tmp/p7Annz2icA looks good.
ok 6 - Computing differences
Testing filename: t/mailboxes/mailarc-3.txt
Comparing /tmp/uN67fXUZtB to t/mailboxes/mailarc-3.txt
Output /tmp/uN67fXUZtB looks good.
ok 7 - Computing differences
Testing filename: t/mailboxes/mailseparators.txt
Comparing /tmp/RQi9Xr9ABp to t/mailboxes/mailseparators.txt
Output /tmp/RQi9Xr9ABp looks good.
ok 8 - Computing differences
Testing filename: t/mailboxes/malformed.txt
Comparing /tmp/5c1fB73kVH to t/mailboxes/malformed.txt
Output /tmp/5c1fB73kVH looks good.
ok 9 - Computing differences
Testing filename: t/mailboxes/newlines_at_beginning.txt
Comparing /tmp/_5E0zO7CgV to t/mailboxes/newlines_at_beginning.txt
Output /tmp/_5E0zO7CgV looks good.
ok 10 - Computing differences
Testing filename: t/mailboxes/vm-emacs.txt
Comparing /tmp/_Ye0omzFr9 to t/mailboxes/vm-emacs.txt
Output /tmp/_Ye0omzFr9 looks good.
ok 11 - Computing differences
ok
t/undef_return_value.t .......... 
1..33
Testing Perl 
Comparing /tmp/YsovntsWPa to t/mailboxes/binary_body.txt
Output /tmp/YsovntsWPa looks good.
ok 1 - Computing differences
Testing Cache implementation
Comparing /tmp/l25MrGfvKi to t/mailboxes/binary_body.txt
Output /tmp/l25MrGfvKi looks good.
ok 2 - Computing differences
ok 3 # skip GNU grep not available
Testing Perl 
Comparing /tmp/6acd41Kein to t/mailboxes/hessbug.txt
Output /tmp/6acd41Kein looks good.
ok 4 - Computing differences
Testing Cache implementation
Comparing /tmp/XoOCr_axOI to t/mailboxes/hessbug.txt
Output /tmp/XoOCr_axOI looks good.
ok 5 - Computing differences
ok 6 # skip GNU grep not available
Testing Perl 
Comparing /tmp/qFa6DzUjJL to t/mailboxes/invalid-boundaries.txt
Output /tmp/qFa6DzUjJL looks good.
ok 7 - Computing differences
Testing Cache implementation
Comparing /tmp/lv3FD8As9T to t/mailboxes/invalid-boundaries.txt
Output /tmp/lv3FD8As9T looks good.
ok 8 - Computing differences
ok 9 # skip GNU grep not available
Testing Perl 
Comparing /tmp/bCnxFwt5iD to t/mailboxes/mailarc-1-dos.txt
Output /tmp/bCnxFwt5iD looks good.
ok 10 - Computing differences
Testing Cache implementation
Comparing /tmp/PaCG6Lb1_3 to t/mailboxes/mailarc-1-dos.txt
Output /tmp/PaCG6Lb1_3 looks good.
ok 11 - Computing differences
ok 12 # skip GNU grep not available
Testing Perl 
Comparing /tmp/Di0GW4BbPm to t/mailboxes/mailarc-1.txt
Output /tmp/Di0GW4BbPm looks good.
ok 13 - Computing differences
Testing Cache implementation
Comparing /tmp/X0SSM_OGY4 to t/mailboxes/mailarc-1.txt
Output /tmp/X0SSM_OGY4 looks good.
ok 14 - Computing differences
ok 15 # skip GNU grep not available
Testing Perl 
Comparing /tmp/cHMmq3e4SP to t/mailboxes/mailarc-2.txt
Output /tmp/cHMmq3e4SP looks good.
ok 16 - Computing differences
Testing Cache implementation
Comparing /tmp/PWkEqLw4VF to t/mailboxes/mailarc-2.txt
Output /tmp/PWkEqLw4VF looks good.
ok 17 - Computing differences
ok 18 # skip GNU grep not available
Testing Perl 
Comparing /tmp/WUhaX0p49Z to t/mailboxes/mailarc-3.txt
Output /tmp/WUhaX0p49Z looks good.
ok 19 - Computing differences
Testing Cache implementation
Comparing /tmp/QdTCW1VGNr to t/mailboxes/mailarc-3.txt
Output /tmp/QdTCW1VGNr looks good.
ok 20 - Computing differences
ok 21 # skip GNU grep not available
Testing Perl 
Comparing /tmp/wkutxs5vzS to t/mailboxes/mailseparators.txt
Output /tmp/wkutxs5vzS looks good.
ok 22 - Computing differences
Testing Cache implementation
Comparing /tmp/jTlV_Vj8Eo to t/mailboxes/mailseparators.txt
Output /tmp/jTlV_Vj8Eo looks good.
ok 23 - Computing differences
ok 24 # skip GNU grep not available
Testing Perl 
Comparing /tmp/6jLJq0s_Wl to t/mailboxes/malformed.txt
Output /tmp/6jLJq0s_Wl looks good.
ok 25 - Computing differences
Testing Cache implementation
Comparing /tmp/nnPcdVc_0X to t/mailboxes/malformed.txt
Output /tmp/nnPcdVc_0X looks good.
ok 26 - Computing differences
ok 27 # skip GNU grep not available
Testing Perl 
Comparing /tmp/Au2s9BtnnJ to t/mailboxes/newlines_at_beginning.txt
Output /tmp/Au2s9BtnnJ looks good.
ok 28 - Computing differences
Testing Cache implementation
Comparing /tmp/iGkzMZ7mBR to t/mailboxes/newlines_at_beginning.txt
Output /tmp/iGkzMZ7mBR looks good.
ok 29 - Computing differences
ok 30 # skip GNU grep not available
Testing Perl 
Comparing /tmp/zNhg8rPrTy to t/mailboxes/vm-emacs.txt
Output /tmp/zNhg8rPrTy looks good.
ok 31 - Computing differences
Testing Cache implementation
Comparing /tmp/gwp7uHkCkp to t/mailboxes/vm-emacs.txt
Output /tmp/gwp7uHkCkp looks good.
ok 32 - Computing differences
ok 33 # skip GNU grep not available
ok
t/xz.t .......................... 
1..1
Running test:
  "/usr/bin/cat" "t/mailboxes/mailarc-2.txt.xz" | "/usr/bin/xz" -cd
Comparing /tmp/s4iORJKLLc to t/results/mailarc-2.txt
Output /tmp/s4iORJKLLc looks good.
Comparing /tmp/FXmbmd5UvF to t/results/none
Output /tmp/FXmbmd5UvF looks good.
ok 1 - Computing differences
ok
All tests successful.
Files=25, Tests=382,  6 wallclock secs ( 0.15 usr  0.04 sys +  4.50 cusr  0.94 csys =  5.63 CPU)
Result: PASS

------------------------------
PREREQUISITES
------------------------------

Prerequisite modules loaded:

requires:

    Module              Need  Have    
    ------------------- ----- --------
    FileHandle::Unget   0     0.1634  
    perl                5.005 5.041013
    Storable            0     3.37    

build_requires:

    Module              Need  Have    
    ------------------- ----- --------
    ExtUtils::MakeMaker 6.36  7.76    
    File::Path          2.08  2.18    
    File::Slurper       0     0.014   
    Test::Compile       0     v3.3.3  
    Test::More          0     1.302214
    Text::Diff          0     1.45    
    UNIVERSAL::require  0     0.19    
    URI::Escape         0     5.32    

configure_requires:

    Module              Need  Have    
    ------------------- ----- --------
    ExtUtils::MakeMaker 6.36  7.76    
    URI::Escape         0     5.32    


------------------------------
ENVIRONMENT AND OTHER CONTEXT
------------------------------

Environment variables:

    AUTOMATED_TESTING = 1
    LANG = en_US.UTF-8
    PATH = /home/sand/bin:/usr/local/bin:/usr/local/sbin:/usr/sbin:/usr/bin:/sbin:/bin:/usr/games:/usr/local/games:/snap/bin:/usr/local/perl/bin:/usr/X11/bin
    PERL = /tmp/basesmoker-reloperl-4LZd/bin/perl
    PERL5LIB = /tmp/loop_over_bdir-3076096-jK6IpR/CORBA-Python-2.66-0/blib/arch:/tmp/loop_over_bdir-3076096-jK6IpR/CORBA-Python-2.66-0/blib/lib:/tmp/loop_over_bdir-3076096-jK6IpR/EJBCA-CrlPublish-0.60-0/blib/arch:/tmp/loop_over_bdir-3076096-jK6IpR/EJBCA-CrlPublish-0.60-0/blib/lib:/tmp/loop_over_bdir-3076096-jK6IpR/App-nrun-v1.1.2-0/blib/arch:/tmp/loop_over_bdir-3076096-jK6IpR/App-nrun-v1.1.2-0/blib/lib:/tmp/loop_over_bdir-3076096-jK6IpR/makepp-1.19-0/blib/arch:/tmp/loop_over_bdir-3076096-jK6IpR/makepp-1.19-0/blib/lib:/tmp/loop_over_bdir-3076096-jK6IpR/Linux-InitFS-0.2-0/blib/arch:/tmp/loop_over_bdir-3076096-jK6IpR/Linux-InitFS-0.2-0/blib/lib:/tmp/loop_over_bdir-3076096-jK6IpR/RDF-NLP-SPARQLQuery-0.1-0/blib/arch:/tmp/loop_over_bdir-3076096-jK6IpR/RDF-NLP-SPARQLQuery-0.1-0/blib/lib:/tmp/loop_over_bdir-3076096-jK6IpR/App-oo_modulino_zsh_completion_helper-0.06-0/blib/arch:/tmp/loop_over_bdir-3076096-jK6IpR/App-oo_modulino_zsh_completion_helper-0.06-0/blib/lib:/tmp/loop_over_bdir-3076096-jK6IpR/Debian-Packages-0.03-0/blib/arch:/tmp/loop_over_bdir-3076096-jK6IpR/Debian-Packages-0.03-0/blib/lib:/tmp/loop_over_bdir-3076096-jK6IpR/Net-OpenVPN-DDNS-0.1-0/blib/arch:/tmp/loop_over_bdir-3076096-jK6IpR/Net-OpenVPN-DDNS-0.1-0/blib/lib:/tmp/loop_over_bdir-3076096-jK6IpR/App-rmcd-0.280-0/blib/arch:/tmp/loop_over_bdir-3076096-jK6IpR/App-rmcd-0.280-0/blib/lib:/tmp/loop_over_bdir-3076096-jK6IpR/shishi-0.0.1-0/blib/arch:/tmp/loop_over_bdir-3076096-jK6IpR/shishi-0.0.1-0/blib/lib
    PERL5OPT = 
    PERL5_CPANPLUS_IS_RUNNING = 3076125
    PERL5_CPAN_IS_RUNNING = 3076125
    PERL_CANARY_STABILITY_NOPROMPT = 1
    PERL_MM_USE_DEFAULT = 1
    PERL_USE_UNSAFE_INC = 1
    SHELL = /usr/bin/zsh
    TERM = screen

Perl special variables (and OS-specific diagnostics, for MSWin32):

    $^X = /tmp/basesmoker-reloperl-4LZd/bin/perl
    $UID/$EUID = 1005 / 1005
    $GID = 1005 1005
    $EGID = 1005 1005

Perl module toolchain versions installed:

    Module              Have    
    ------------------- --------
    CPAN                2.38    
    CPAN::Meta          2.150010
    Cwd                 3.94    
    ExtUtils::CBuilder  0.280241
    ExtUtils::Command   7.76    
    ExtUtils::Install   2.22    
    ExtUtils::MakeMaker 7.76    
    ExtUtils::Manifest  1.75    
    ExtUtils::ParseXS   3.57    
    File::Spec          3.94    
    JSON                4.10    
    JSON::PP            4.16    
    Module::Build       0.4234  
    Module::Signature   0.89    
    Parse::CPAN::Meta   2.150010
    Test2               1.302214
    Test::Harness       3.52    
    Test::More          1.302214
    YAML                1.31    
    YAML::Syck          1.34    
    version             0.9933  


--

Summary of my perl5 (revision 5 version 41 subversion 13) configuration:
  Commit id: d2160cfe5bf88d5cf4234c7f8e2896a025383549
  Platform:
    osname=linux
    osvers=5.4.0-208-generic
    archname=x86_64-linux-thread-multi
    uname='linux k93focal 5.4.0-208-generic #228-ubuntu smp fri feb 7 19:41:33 utc 2025 x86_64 x86_64 x86_64 gnulinux '
    config_args='-Dprefix=/home/sand/src/perl/repoperls/installed-perls/host/k93focal/v5.41.13/d119 -Dmyhostname=k93focal -Dinstallusrbinperl=n -Uversiononly -Dusedevel -des -Ui_db -Dlibswanted=cl pthread socket inet nsl gdbm dbm malloc dl ld sun m crypt sec util c cposix posix ucb BSD gdbm_compat -Duseithreads -Uuselongdouble -DEBUGGING=both'
    hint=recommended
    useposix=true
    d_sigaction=define
    useithreads=define
    usemultiplicity=define
    use64bitint=define
    use64bitall=define
    uselongdouble=undef
    usemymalloc=n
    default_inc_excludes_dot=define
  Compiler:
    cc='cc'
    ccflags ='-D_REENTRANT -D_GNU_SOURCE -fwrapv -DDEBUGGING -fno-strict-aliasing -pipe -fstack-protector-strong -I/usr/local/include -D_LARGEFILE_SOURCE -D_FILE_OFFSET_BITS=64'
    optimize='-O2 -g'
    cppflags='-D_REENTRANT -D_GNU_SOURCE -fwrapv -DDEBUGGING -fno-strict-aliasing -pipe -fstack-protector-strong -I/usr/local/include'
    ccversion=''
    gccversion='9.4.0'
    gccosandvers=''
    intsize=4
    longsize=8
    ptrsize=8
    doublesize=8
    byteorder=12345678
    doublekind=3
    d_longlong=define
    longlongsize=8
    d_longdbl=define
    longdblsize=16
    longdblkind=3
    ivtype='long'
    ivsize=8
    nvtype='double'
    nvsize=8
    Off_t='off_t'
    lseeksize=8
    alignbytes=8
    prototype=define
  Linker and Libraries:
    ld='cc'
    ldflags =' -fstack-protector-strong -L/usr/local/lib'
    libpth=/usr/local/lib /usr/lib/x86_64-linux-gnu /usr/lib /usr/lib64
    libs=-lpthread -lnsl -ldl -lm -lcrypt -lutil -lc
    perllibs=-lpthread -lnsl -ldl -lm -lcrypt -lutil -lc
    libc=libc-2.31.so
    so=so
    useshrplib=false
    libperl=libperl.a
    gnulibc_version='2.31'
  Dynamic Linking:
    dlsrc=dl_dlopen.xs
    dlext=so
    d_dlsymun=undef
    ccdlflags='-Wl,-E'
    cccdlflags='-fPIC'
    lddlflags='-shared -O2 -g -L/usr/local/lib -fstack-protector-strong'


Characteristics of this binary (from libperl): 
  Compile-time options:
    DEBUGGING
    HAS_LONG_DOUBLE
    HAS_STRTOLD
    HAS_TIMES
    MULTIPLICITY
    PERLIO_LAYERS
    PERL_COPY_ON_WRITE
    PERL_DONT_CREATE_GVSV
    PERL_HASH_FUNC_SIPHASH13
    PERL_HASH_USE_SBOX32
    PERL_MALLOC_WRAP
    PERL_OP_PARENT
    PERL_PRESERVE_IVUV
    PERL_TRACK_MEMPOOL
    PERL_USE_DEVEL
    PERL_USE_SAFE_PUTENV
    USE_64_BIT_ALL
    USE_64_BIT_INT
    USE_ITHREADS
    USE_LARGE_FILES
    USE_LOCALE
    USE_LOCALE_COLLATE
    USE_LOCALE_CTYPE
    USE_LOCALE_NUMERIC
    USE_LOCALE_TIME
    USE_PERLIO
    USE_PERL_ATOF
    USE_REENTRANT_API
    USE_THREAD_SAFE_LOCALE
  Built under linux
  Compiled at May 29 2025 12:23:41
  %ENV:
    PERL="/tmp/basesmoker-reloperl-4LZd/bin/perl"
    PERL5LIB="/tmp/loop_over_bdir-3076096-jK6IpR/CORBA-Python-2.66-0/blib/arch:/tmp/loop_over_bdir-3076096-jK6IpR/CORBA-Python-2.66-0/blib/lib:/tmp/loop_over_bdir-3076096-jK6IpR/EJBCA-CrlPublish-0.60-0/blib/arch:/tmp/loop_over_bdir-3076096-jK6IpR/EJBCA-CrlPublish-0.60-0/blib/lib:/tmp/loop_over_bdir-3076096-jK6IpR/App-nrun-v1.1.2-0/blib/arch:/tmp/loop_over_bdir-3076096-jK6IpR/App-nrun-v1.1.2-0/blib/lib:/tmp/loop_over_bdir-3076096-jK6IpR/makepp-1.19-0/blib/arch:/tmp/loop_over_bdir-3076096-jK6IpR/makepp-1.19-0/blib/lib:/tmp/loop_over_bdir-3076096-jK6IpR/Linux-InitFS-0.2-0/blib/arch:/tmp/loop_over_bdir-3076096-jK6IpR/Linux-InitFS-0.2-0/blib/lib:/tmp/loop_over_bdir-3076096-jK6IpR/RDF-NLP-SPARQLQuery-0.1-0/blib/arch:/tmp/loop_over_bdir-3076096-jK6IpR/RDF-NLP-SPARQLQuery-0.1-0/blib/lib:/tmp/loop_over_bdir-3076096-jK6IpR/App-oo_modulino_zsh_completion_helper-0.06-0/blib/arch:/tmp/loop_over_bdir-3076096-jK6IpR/App-oo_modulino_zsh_completion_helper-0.06-0/blib/lib:/tmp/loop_over_bdir-3076096-jK6IpR/Debian-Packages-0.03-0/blib/arch:/tmp/loop_over_bdir-3076096-jK6IpR/Debian-Packages-0.03-0/blib/lib:/tmp/loop_over_bdir-3076096-jK6IpR/Net-OpenVPN-DDNS-0.1-0/blib/arch:/tmp/loop_over_bdir-3076096-jK6IpR/Net-OpenVPN-DDNS-0.1-0/blib/lib:/tmp/loop_over_bdir-3076096-jK6IpR/App-rmcd-0.280-0/blib/arch:/tmp/loop_over_bdir-3076096-jK6IpR/App-rmcd-0.280-0/blib/lib:/tmp/loop_over_bdir-3076096-jK6IpR/shishi-0.0.1-0/blib/arch:/tmp/loop_over_bdir-3076096-jK6IpR/shishi-0.0.1-0/blib/lib"
    PERL5OPT=""
    PERL5_CPANPLUS_IS_RUNNING="3076125"
    PERL5_CPAN_IS_RUNNING="3076125"
    PERL_CANARY_STABILITY_NOPROMPT="1"
    PERL_MM_USE_DEFAULT="1"
    PERL_USE_UNSAFE_INC="1"
  @INC:
    /tmp/loop_over_bdir-3076096-jK6IpR/CORBA-Python-2.66-0/blib/arch
    /tmp/loop_over_bdir-3076096-jK6IpR/CORBA-Python-2.66-0/blib/lib
    /tmp/loop_over_bdir-3076096-jK6IpR/EJBCA-CrlPublish-0.60-0/blib/arch
    /tmp/loop_over_bdir-3076096-jK6IpR/EJBCA-CrlPublish-0.60-0/blib/lib
    /tmp/loop_over_bdir-3076096-jK6IpR/App-nrun-v1.1.2-0/blib/arch
    /tmp/loop_over_bdir-3076096-jK6IpR/App-nrun-v1.1.2-0/blib/lib
    /tmp/loop_over_bdir-3076096-jK6IpR/makepp-1.19-0/blib/arch
    /tmp/loop_over_bdir-3076096-jK6IpR/makepp-1.19-0/blib/lib
    /tmp/loop_over_bdir-3076096-jK6IpR/Linux-InitFS-0.2-0/blib/arch
    /tmp/loop_over_bdir-3076096-jK6IpR/Linux-InitFS-0.2-0/blib/lib
    /tmp/loop_over_bdir-3076096-jK6IpR/RDF-NLP-SPARQLQuery-0.1-0/blib/arch
    /tmp/loop_over_bdir-3076096-jK6IpR/RDF-NLP-SPARQLQuery-0.1-0/blib/lib
    /tmp/loop_over_bdir-3076096-jK6IpR/App-oo_modulino_zsh_completion_helper-0.06-0/blib/arch
    /tmp/loop_over_bdir-3076096-jK6IpR/App-oo_modulino_zsh_completion_helper-0.06-0/blib/lib
    /tmp/loop_over_bdir-3076096-jK6IpR/Debian-Packages-0.03-0/blib/arch
    /tmp/loop_over_bdir-3076096-jK6IpR/Debian-Packages-0.03-0/blib/lib
    /tmp/loop_over_bdir-3076096-jK6IpR/Net-OpenVPN-DDNS-0.1-0/blib/arch
    /tmp/loop_over_bdir-3076096-jK6IpR/Net-OpenVPN-DDNS-0.1-0/blib/lib
    /tmp/loop_over_bdir-3076096-jK6IpR/App-rmcd-0.280-0/blib/arch
    /tmp/loop_over_bdir-3076096-jK6IpR/App-rmcd-0.280-0/blib/lib
    /tmp/loop_over_bdir-3076096-jK6IpR/shishi-0.0.1-0/blib/arch
    /tmp/loop_over_bdir-3076096-jK6IpR/shishi-0.0.1-0/blib/lib
    /home/sand/src/perl/repoperls/installed-perls/host/k93focal/v5.41.13/d119/lib/site_perl/5.41.13/x86_64-linux-thread-multi
    /home/sand/src/perl/repoperls/installed-perls/host/k93focal/v5.41.13/d119/lib/site_perl/5.41.13
    /home/sand/src/perl/repoperls/installed-perls/host/k93focal/v5.41.13/d119/lib/5.41.13/x86_64-linux-thread-multi
    /home/sand/src/perl/repoperls/installed-perls/host/k93focal/v5.41.13/d119/lib/5.41.13
    .