Report for Web-Machine-0.12

Back
From: metabase:user:320bfe00-2aae-11df-837a-5e0a49663a4f
Subject: PASS Web-Machine-0.12 v5.17.11 GNU/Linux
Date: 2013-08-01T23:43:34Z

This distribution has been tested as part of the CPAN Testers
project, supporting the Perl programming language.  See
http://wiki.cpantesters.org/ for more information or email
questions to cpan-testers-discuss@perl.org


--
Dear Thomas Sibley,

This is a computer-generated report for Web-Machine-0.12
on perl 5.17.11, created by CPAN-Reporter-1.2010.

Thank you for uploading your work to CPAN.  Congratulations!
All tests were successful.

Sections of this report:

    * Tester comments
    * Program output
    * Prerequisites
    * Environment and other context

------------------------------
TESTER COMMENTS
------------------------------

Additional comments from tester:

this report is from an automated smoke testing program
and was not reviewed by a human for accuracy

------------------------------
PROGRAM OUTPUT
------------------------------

Output from '/usr/bin/make test':

PERL_DL_NONLAZY=1 /home/sand/src/perl/repoperls/installed-perls/perl/v5.17.11/127e/bin/perl "-MExtUtils::Command::MM" "-e" "test_harness(0, 'blib/lib', 'blib/arch')" t/*.t t/600-yapc-talk-examples/*.t
t/000-load.t ........................................ ok
t/001-basic.t ....................................... ok
t/002-basic-content-type-handlers.t ................. ok
t/010-resource-tests.t .............................. ok
t/011-resource-500-logging.t ........................ ok
t/012-warning-no-etag.t ............................. ok
t/020-post-w-redirect.t ............................. ok
t/021-post-w-bypass-n11.t ........................... ok
t/022-body-encoding.t ............................... ok
t/030-streaming.t ................................... ok
t/031-streaming-push.t .............................. ok
t/300-content-negotiation-media-type.t .............. ok
t/301-content-negotiation-language.t ................ ok
t/302-content-negotiation-charset.t ................. ok
t/303-content-negotiation-encoding.t ................ ok
t/304-content-negotiation-match-media-type.t ........ ok
t/400-bind-path.t ................................... ok
t/500-example-hello-word.t .......................... ok
t/501-example-env-resource.t ........................ ok
t/502-example-long-poll.t ........................... ok
t/600-yapc-talk-examples/000-basic.t ................ ok
t/600-yapc-talk-examples/001-basic.t ................ ok
t/600-yapc-talk-examples/002-basic.t ................ ok
t/600-yapc-talk-examples/010-browser.t .............. ok
t/600-yapc-talk-examples/011-browser.t .............. ok
t/600-yapc-talk-examples/012-browser.t .............. skipped: GD::Simple is required for this test
t/600-yapc-talk-examples/020-auth.t ................. ok
t/600-yapc-talk-examples/030-postback.t ............. ok
t/600-yapc-talk-examples/031-postback-w-json.t ...... ok
t/600-yapc-talk-examples/032-postback-w-auth.t ...... ok
t/600-yapc-talk-examples/033-postback-w-hateoas.t ... ok
t/600-yapc-talk-examples/100-add-caching.t .......... ok
t/600-yapc-talk-examples/110-service-unavailable.t .. ok
t/600-yapc-talk-examples/120-bind-path.t ............ ok
t/600-yapc-talk-examples/130-tracing-header.t ....... ok
t/700-malformed-auth-bug.t .......................... ok
t/author-pod-spell.t ................................ skipped: these tests are for testing by the author
t/release-no-tabs.t ................................. skipped: these tests are for release candidate testing
t/release-pod-linkcheck.t ........................... skipped: these tests are for release candidate testing
t/release-pod-no404s.t .............................. skipped: these tests are for release candidate testing
t/release-pod-syntax.t .............................. skipped: these tests are for release candidate testing
All tests successful.
Files=41, Tests=988, 17 wallclock secs ( 0.18 usr  0.05 sys +  5.04 cusr  0.64 csys =  5.91 CPU)
Result: PASS

------------------------------
PREREQUISITES
------------------------------

Prerequisite modules loaded:

requires:

    Module                    Need  Have   
    ------------------------- ----- -------
    B                         0     1.42   
    Carp                      0     1.28   
    Data::Dumper              0     2.145  
    Encode                    0     2.49   
    Hash::MultiValue          0     0.15   
    HTTP::Headers::ActionPack 0.07  0.09   
    HTTP::Status              0     6.03   
    IO::Handle::Util          0     0.01   
    List::Util                0     1.29   
    Locale::Maketext          0     1.23   
    parent                    0     0.225  
    Plack::Component          0     0      
    Plack::Request            0     1.0028 
    Plack::Response           0     1.0028 
    Plack::Util               0     0      
    Scalar::Util              0     1.29   
    strict                    0     1.07   
    Sub::Exporter             0     0.986  
    Try::Tiny                 0     0.16   
    warnings                  0     1.18   

build_requires:

    Module                    Need  Have   
    ------------------------- ----- -------
    base                      0     2.18   
    FindBin                   0     1.51   
    HTTP::Message::PSGI       0     0      
    HTTP::Request             0     6.00   
    HTTP::Request::Common     0     6.04   
    HTTP::Response            0     6.04   
    lib                       0     0.63   
    MIME::Base64              0     3.14   
    Net::HTTP                 0     6.06   
    Plack::Runner             0     0      
    Plack::Test               0     0      
    Test::FailWarnings        0     0.005  
    Test::Fatal               0.003 0.010  
    Test::More                0.88  0.98   
    utf8                      0     1.10   

configure_requires:

    Module                    Need  Have   
    ------------------------- ----- -------
    ExtUtils::MakeMaker       6.30  6.73_04


------------------------------
ENVIRONMENT AND OTHER CONTEXT
------------------------------

Environment variables:

    AUTOMATED_TESTING = 1
    LANG = en_US.UTF-8
    LANGUAGE = en_US:en
    PATH = /usr/lib/ccache:/home/sand/bin:/usr/local/bin:/usr/bin:/bin:/usr/bin/X11:/usr/games:/usr/local/perl/bin:/usr/X11/bin:/sbin:/usr/sbin
    PERL5LIB = 
    PERL5OPT = 
    PERL5_CPANPLUS_IS_RUNNING = 20162
    PERL5_CPAN_IS_RUNNING = 20162
    PERL_MM_USE_DEFAULT = 1
    SHELL = /usr/bin/zsh
    TERM = screen

Perl special variables (and OS-specific diagnostics, for MSWin32):

    $^X = /home/sand/src/perl/repoperls/installed-perls/perl/v5.17.11/127e/bin/perl
    $UID/$EUID = 1005 / 1005
    $GID = 1005 1005
    $EGID = 1005 1005

Perl module toolchain versions installed:

    Module              Have    
    ------------------- --------
    CPAN                2.00    
    CPAN::Meta          2.131560
    Cwd                 3.40    
    ExtUtils::CBuilder  0.280210
    ExtUtils::Command   1.17    
    ExtUtils::Install   1.59    
    ExtUtils::MakeMaker 6.73_04 
    ExtUtils::Manifest  1.63    
    ExtUtils::ParseXS   3.18    
    File::Spec          3.40    
    JSON                2.59    
    JSON::PP            2.27202 
    Module::Build       0.4007  
    Module::Signature   0.73    
    Parse::CPAN::Meta   1.4405  
    Test::Harness       3.28    
    Test::More          0.98    
    YAML                0.84    
    YAML::Syck          1.27    
    version             0.9902  


--

Summary of my perl5 (revision 5 version 17 subversion 11) configuration:
  Commit id: 1993add8b861c9c97325e9609081aa752091b45a
  Platform:
    osname=linux, osvers=3.9-1-amd64, archname=x86_64-linux-ld
    uname='linux k83 3.9-1-amd64 #1 smp debian 3.9.8-1 x86_64 gnulinux '
    config_args='-Dprefix=/home/sand/src/perl/repoperls/installed-perls/perl/v5.17.11/127e -Dmyhostname=k83 -Dinstallusrbinperl=n -Uversiononly -Dusedevel -des -Ui_db -Uuseithreads -Duselongdouble -DDEBUGGING=-g'
    hint=recommended, useposix=true, d_sigaction=define
    useithreads=undef, usemultiplicity=undef
    useperlio=define, d_sfio=undef, uselargefiles=define, usesocks=undef
    use64bitint=define, use64bitall=define, uselongdouble=define
    usemymalloc=n, bincompat5005=undef
  Compiler:
    cc='cc', ccflags ='-fno-strict-aliasing -pipe -fstack-protector -I/usr/local/include -D_LARGEFILE_SOURCE -D_FILE_OFFSET_BITS=64',
    optimize='-O2 -g',
    cppflags='-fno-strict-aliasing -pipe -fstack-protector -I/usr/local/include'
    ccversion='', gccversion='4.8.1', gccosandvers=''
    intsize=4, longsize=8, ptrsize=8, doublesize=8, byteorder=12345678
    d_longlong=define, longlongsize=8, d_longdbl=define, longdblsize=16
    ivtype='long', ivsize=8, nvtype='long double', nvsize=16, Off_t='off_t', lseeksize=8
    alignbytes=16, prototype=define
  Linker and Libraries:
    ld='cc', ldflags =' -fstack-protector -L/usr/local/lib'
    libpth=/usr/local/lib /lib/x86_64-linux-gnu /lib/../lib /usr/lib/x86_64-linux-gnu /usr/lib/../lib /lib /usr/lib
    libs=-lnsl -lgdbm -ldb -ldl -lm -lcrypt -lutil -lc -lgdbm_compat
    perllibs=-lnsl -ldl -lm -lcrypt -lutil -lc
    libc=, so=so, useshrplib=false, libperl=libperl.a
    gnulibc_version='2.17'
  Dynamic Linking:
    dlsrc=dl_dlopen.xs, dlext=so, d_dlsymun=undef, ccdlflags='-Wl,-E'
    cccdlflags='-fPIC', lddlflags='-shared -O2 -g -L/usr/local/lib -fstack-protector'


Characteristics of this binary (from libperl): 
  Compile-time options: HAS_TIMES PERLIO_LAYERS PERL_DONT_CREATE_GVSV
                        PERL_MALLOC_WRAP PERL_PRESERVE_IVUV PERL_SAWAMPERSAND
                        PERL_USE_DEVEL USE_64_BIT_ALL USE_64_BIT_INT
                        USE_LARGE_FILES USE_LOCALE USE_LOCALE_COLLATE
                        USE_LOCALE_CTYPE USE_LOCALE_NUMERIC USE_LONG_DOUBLE
                        USE_PERLIO USE_PERL_ATOF
  Built under linux
  Compiled at Jul  3 2013 03:48:06
  %ENV:
    PERL5LIB=""
    PERL5OPT=""
    PERL5_CPANPLUS_IS_RUNNING="20162"
    PERL5_CPAN_IS_RUNNING="20162"
    PERL_MM_USE_DEFAULT="1"
  @INC:
    /home/sand/src/perl/repoperls/installed-perls/perl/v5.17.11/127e/lib/site_perl/5.17.11/x86_64-linux-ld
    /home/sand/src/perl/repoperls/installed-perls/perl/v5.17.11/127e/lib/site_perl/5.17.11
    /home/sand/src/perl/repoperls/installed-perls/perl/v5.17.11/127e/lib/5.17.11/x86_64-linux-ld
    /home/sand/src/perl/repoperls/installed-perls/perl/v5.17.11/127e/lib/5.17.11
    .