Test-File-Content v1.0.2 Perl 5 v5.40.0 MSWin32-x64-multi-thread
- Status
- Pass
- From
- gregor herrmann
- Dist
-
Test-File-Content v1.0.2
- Platform
- Perl 5 v5.40.0 MSWin32-x64-multi-thread
- Date
- 2025-01-09 02:54:57
- ID
- 2e3a6720-78fb-1014-b768-acc200d57aec
This distribution has been tested as part of the CPAN Testers
project, supporting the Perl programming language. See
http://wiki.cpantesters.org/ for more information or email
questions to cpan-testers-discuss@perl.org
--
Dear Moritz Onken,
This is a computer-generated report for Test-File-Content-1.0.2
on perl 5.40.0, created by CPAN-Reporter-1.2020.
Thank you for uploading your work to CPAN. Congratulations!
All tests were successful.
Sections of this report:
* Tester comments
* Program output
* Prerequisites
* Environment and other context
------------------------------
TESTER COMMENTS
------------------------------
Additional comments from tester:
this report is from an automated smoke testing program
and was not reviewed by a human for accuracy
------------------------------
PROGRAM OUTPUT
------------------------------
Output from 'C:\Strawberry\perl\bin\perl.exe ./Build test':
t/00-compile.t ................ ok
#
#
# perl: v5.40.0 (wanted any version) on MSWin32 from C:\Strawberry\perl\bin\perl.exe
#
# Exporter => 5.78 (want any version)
# File::Find => 1.44 (want any version)
# File::Temp => 0.2311 (want any version)
# Module::Build => 0.4234 (want 0.3601)
# Path::Class::File => 0.37 (want 0.23)
# Test::Harness => 3.50 (want 3.22)
# Test::More => 1.302207 (want 0.96)
# strict => 1.13 (want any version)
# warnings => 1.70 (want any version)
#
# Thanks for using my code. I hope it works for you.
# If not, please try and include this output in the bug report.
# That will help me reproduce the issue and solve you problem.
#
t/000-report-versions-tiny.t .. ok
# Failed test 't\code\test.js'
# at C:\cpan\build\Test-File-Content-1.0.2-0\blib\lib/Test/File/Content.pm line 100.
# console.log found in t\code\test.js line 1
# console.log found in t\code\test.js line 2
# Failed test 't\code\test.pm'
# at C:\cpan\build\Test-File-Content-1.0.2-0\blib\lib/Test/File/Content.pm line 100.
# make_immutable found in t\code\test.pm line 10
# Failed test 't\code\test.js'
# at C:\cpan\build\Test-File-Content-1.0.2-0\blib\lib/Test/File/Content.pm line 100.
# file t\code\test.js does not contain make_immutable
# Failed test 't\code\test.js'
# at C:\cpan\build\Test-File-Content-1.0.2-0\blib\lib/Test/File/Content.pm line 100.
# file t\code\test.js does not contain make_immutable
# Failed test 't\code\test.tt'
# at C:\cpan\build\Test-File-Content-1.0.2-0\blib\lib/Test/File/Content.pm line 100.
# file t\code\test.tt does not contain make_immutable
# Looks like you failed 5 tests of 15.
t/output.t .................... ok
t/release-has-version.t ....... skipped: these tests are for release candidate testing
t/release-kwalitee.t .......... skipped: these tests are for release candidate testing
t/release-minimum-version.t ... skipped: these tests are for release candidate testing
t/release-pod-coverage.t ...... skipped: these tests are for release candidate testing
t/release-pod-syntax.t ........ skipped: these tests are for release candidate testing
All tests successful.
Files=8, Tests=6, 6 wallclock secs ( 0.12 usr + 0.06 sys = 0.19 CPU)
Result: PASS
------------------------------
PREREQUISITES
------------------------------
Prerequisite modules loaded:
requires:
Module Need Have
----------------- ------ --------
Exporter 0 5.78
File::Find 0 1.44
Path::Class::File 0.23 0.37
strict 0 1.13
Test::Harness 3.22 3.50
Test::More 0.96 1.302207
warnings 0 1.70
build_requires:
Module Need Have
----------------- ------ --------
File::Temp 0 0.2311
Module::Build 0.3601 0.4234
Test::Harness 0 3.50
Test::More 0.88 1.302207
configure_requires:
Module Need Have
----------------- ------ --------
Module::Build 0.3601 0.4234
------------------------------
ENVIRONMENT AND OTHER CONTEXT
------------------------------
Environment variables:
AUTOMATED_TESTING = 1
COMSPEC = C:\Windows\system32\cmd.exe
NONINTERACTIVE_TESTING = 1
NUMBER_OF_PROCESSORS = 2
PATH = C:\WINDOWS\system32;C:\Program Files\Git\cmd;C:\strawberry\c\bin;C:\strawberry\perl\site\bin;C:\strawberry\perl\bin
PERL5LIB =
PERL5OPT =
PERL5_CPANPLUS_IS_RUNNING = 3720
PERL5_CPAN_IS_RUNNING = 3720
PERL5_CPAN_IS_RUNNING_IN_RECURSION = 8824,3720
PERL_CR_SMOKER_CURRENT = Test-File-Content-1.0.2
PERL_EXTUTILS_AUTOINSTALL = --defaultdeps
PERL_MM_USE_DEFAULT = 1
PERL_USE_UNSAFE_INC = 1
PROCESSOR_IDENTIFIER = Intel64 Family 6 Model 15 Stepping 11, GenuineIntel
TEMP = C:\Users\smoker\AppData\Local\Temp
Perl special variables (and OS-specific diagnostics, for MSWin32):
$^X = C:\Strawberry\perl\bin\perl.exe
$UID/$EUID = 0 / 0
$GID = 0
$EGID = 0
Win32::GetOSName = Win10
Win32::GetOSVersion = , 10, 0, 19045, 2, 0, 0, 256, 1
Win32::FsType = NTFS
Win32::IsAdminUser = 0
Perl module toolchain versions installed:
Module Have
------------------- --------
CPAN 2.38
CPAN::Meta 2.150010
Cwd 3.90
ExtUtils::CBuilder 0.280240
ExtUtils::Command 7.70
ExtUtils::Install 2.22
ExtUtils::MakeMaker 7.70
ExtUtils::Manifest 1.75
ExtUtils::ParseXS 3.51
File::Spec 3.90
JSON 4.10
JSON::PP 4.16
Module::Build 0.4234
Module::Signature n/a
Parse::CPAN::Meta 2.150010
Test2 1.302207
Test::Harness 3.50
Test::More 1.302207
YAML 1.31
YAML::Syck 1.34
version 0.9933
--
Summary of my perl5 (revision 5 version 40 subversion 0) configuration:
Platform:
osname=MSWin32
osvers=10.0.22621.3880
archname=MSWin32-x64-multi-thread
uname='Win32 strawberry-perl 5.40.0.1 # 02:45:15 Sat August 10 2024 x64'
config_args='undef'
hint=recommended
useposix=true
d_sigaction=undef
useithreads=define
usemultiplicity=define
use64bitint=define
use64bitall=undef
uselongdouble=undef
usemymalloc=n
default_inc_excludes_dot=define
Compiler:
cc='gcc'
ccflags ='-std=c99 -DWIN32 -DWIN64 -DPERL_TEXTMODE_SCRIPTS -DMULTIPLICITY -DPERL_IMPLICIT_SYS -DUSE_PERLIO -D__USE_MINGW_ANSI_STDIO -fwrapv -fno-strict-aliasing -mms-bitfields'
optimize='-Os -falign-functions -falign-jumps -falign-labels -falign-loops -freorder-blocks -freorder-blocks-algorithm=stc -freorder-blocks-and-partition'
cppflags='-DWIN32'
ccversion=''
gccversion='13.2.0'
gccosandvers=''
intsize=4
longsize=4
ptrsize=8
doublesize=8
byteorder=12345678
doublekind=3
d_longlong=define
longlongsize=8
d_longdbl=define
longdblsize=16
longdblkind=3
ivtype='long long'
ivsize=8
nvtype='double'
nvsize=8
Off_t='long long'
lseeksize=8
alignbytes=8
prototype=define
Linker and Libraries:
ld='g++'
ldflags ='-s -L"C:\STRAWB~1\perl\lib\CORE" -L"C:\STRAWB~1\c\lib" -L"C:\STRAWB~1\c\x86_64-w64-mingw32\lib" -L"C:\STRAWB~1\c\lib\gcc\x86_64-w64-mingw32\13.2.0"'
libpth=C:\STRAWB~1\c\lib C:\STRAWB~1\c\x86_64-w64-mingw32\lib C:\STRAWB~1\c\lib\gcc\x86_64-w64-mingw32\13.2.0 C:\STRAWB~1\c\x86_64-w64-mingw32\lib C:\STRAWB~1\c\lib\gcc\x86_64-w64-mingw32\13.2.0
libs= -lmoldname -lkernel32 -luser32 -lgdi32 -lwinspool -lcomdlg32 -ladvapi32 -lshell32 -lole32 -loleaut32 -lnetapi32 -luuid -lws2_32 -lmpr -lwinmm -lversion -lodbc32 -lodbccp32 -lcomctl32
perllibs= -lmoldname -lkernel32 -luser32 -lgdi32 -lwinspool -lcomdlg32 -ladvapi32 -lshell32 -lole32 -loleaut32 -lnetapi32 -luuid -lws2_32 -lmpr -lwinmm -lversion -lodbc32 -lodbccp32 -lcomctl32
libc=-lucrt
so=dll
useshrplib=true
libperl=libperl540.a
gnulibc_version=''
Dynamic Linking:
dlsrc=dl_win32.xs
dlext=xs.dll
d_dlsymun=undef
ccdlflags=' '
cccdlflags=' '
lddlflags='-shared -s -L"C:\STRAWB~1\perl\lib\CORE" -L"C:\STRAWB~1\c\lib" -L"C:\STRAWB~1\c\x86_64-w64-mingw32\lib" -L"C:\STRAWB~1\c\lib\gcc\x86_64-w64-mingw32\13.2.0"'
Characteristics of this binary (from libperl):
Compile-time options:
HAS_LONG_DOUBLE
HAS_TIMES
HAVE_INTERP_INTERN
MULTIPLICITY
PERLIO_LAYERS
PERL_COPY_ON_WRITE
PERL_DONT_CREATE_GVSV
PERL_HASH_FUNC_SIPHASH13
PERL_HASH_USE_SBOX32
PERL_IMPLICIT_SYS
PERL_MALLOC_WRAP
PERL_OP_PARENT
PERL_PRESERVE_IVUV
PERL_USE_SAFE_PUTENV
USE_64_BIT_INT
USE_ITHREADS
USE_LARGE_FILES
USE_LOCALE
USE_LOCALE_COLLATE
USE_LOCALE_CTYPE
USE_LOCALE_NUMERIC
USE_LOCALE_TIME
USE_PERLIO
USE_PERL_ATOF
USE_THREAD_SAFE_LOCALE
Built under MSWin32
Compiled at Aug 10 2024 12:45:35
%ENV:
PERL5_CPANPLUS_IS_RUNNING="3720"
PERL5_CPAN_IS_RUNNING="3720"
PERL5_CPAN_IS_RUNNING_IN_RECURSION="8824,3720"
PERL_CR_SMOKER_CURRENT="Test-File-Content-1.0.2"
PERL_EXTUTILS_AUTOINSTALL="--defaultdeps"
PERL_MM_USE_DEFAULT="1"
PERL_USE_UNSAFE_INC="1"
@INC:
C:/Strawberry/perl/site/lib/MSWin32-x64-multi-thread
C:/Strawberry/perl/site/lib
C:/Strawberry/perl/vendor/lib
C:/Strawberry/perl/lib
.