Report for Number-Format-1.75

Back
From: metabase:user:259e1362-c848-11e1-acfa-89c38cc6bf43
Subject: PASS Number-Format-1.75 v5.22.1 GNU/Linux
Date: 2015-10-25T19:47:10Z

This distribution has been tested as part of the CPAN Testers
project, supporting the Perl programming language.  See
http://wiki.cpantesters.org/ for more information or email
questions to cpan-testers-discuss@perl.org


--
Dear William R Ward,

This is a computer-generated report for Number-Format-1.75
on perl 5.22.1, created by CPAN-Reporter-1.2015.

Thank you for uploading your work to CPAN.  Congratulations!
All tests were successful.

Sections of this report:

    * Tester comments
    * Program output
    * Prerequisites
    * Environment and other context

------------------------------
TESTER COMMENTS
------------------------------

Additional comments from tester:

none provided

------------------------------
PROGRAM OUTPUT
------------------------------

Output from '/usr/bin/make test':

PERL_DL_NONLAZY=1 "/pkg/perl/5.22.0-124/bin/perl" "-MExtUtils::Command::MM" "-MTest::Harness" "-e" "undef *Test::Harness::Switches; test_harness(0, 'blib/lib', 'blib/arch')" t/*.t
t/format_bytes.t ..... ok
t/format_negative.t .. ok
t/format_number.t .... ok
t/format_picture.t ... ok
t/format_price.t ..... ok
t/locale.t ........... ok
t/object.t ........... ok
t/round.t ............ ok
t/unformat_number.t .. ok
All tests successful.
Files=9, Tests=168,  1 wallclock secs ( 0.06 usr  0.01 sys +  0.39 cusr  0.00 csys =  0.46 CPU)
Result: PASS

------------------------------
PREREQUISITES
------------------------------

Prerequisite modules loaded:

requires:

    Module              Need Have    
    ------------------- ---- --------
    Carp                0    1.36    
    POSIX               0    1.53_01 

build_requires:

    Module              Need Have    
    ------------------- ---- --------
    ExtUtils::MakeMaker 0    7.10    
    Test::More          0    1.001014

configure_requires:

    Module              Need Have    
    ------------------- ---- --------
    ExtUtils::MakeMaker 0    7.10    


------------------------------
ENVIRONMENT AND OTHER CONTEXT
------------------------------

Environment variables:

    LANG = en_GB.UTF-8
    LC_COLLATE = C
    PATH = /root/bin:/root/bin:/usr/bin:/bin:/usr/sbin:/sbin:/usr/games
    PERL5LIB = 
    PERL5OPT = 
    PERL5_CPANPLUS_IS_RUNNING = 16103
    PERL5_CPAN_IS_RUNNING = 16103
    SHELL = /bin/bash
    TERM = xterm-color

Perl special variables (and OS-specific diagnostics, for MSWin32):

    $^X = /pkg/perl/5.22.0-124/bin/perl
    $UID/$EUID = 0 / 0
    $GID = 0 0 1 2 3 4 6 10 11 16 25 72 73 80
    $EGID = 0 0 1 2 3 4 6 10 11 16 25 72 73 80

Perl module toolchain versions installed:

    Module              Have    
    ------------------- --------
    CPAN                2.11    
    CPAN::Meta          2.150005
    Cwd                 3.56    
    ExtUtils::CBuilder  0.280224
    ExtUtils::Command   7.10    
    ExtUtils::Install   2.04    
    ExtUtils::MakeMaker 7.10    
    ExtUtils::Manifest  1.70    
    ExtUtils::ParseXS   3.30    
    File::Spec          3.56    
    JSON                2.90    
    JSON::PP            2.27300 
    Module::Build       0.4214  
    Module::Signature   0.79    
    Parse::CPAN::Meta   1.4414  
    Test::Harness       3.35    
    Test::More          1.001014
    YAML                1.15    
    YAML::Syck          n/a     
    version             0.9909  


--

Summary of my perl5 (revision 5 version 22 subversion 1) configuration:
  Derived from: 8eb430655bca2c68a0939f2aa281a69a76b072e0
  Ancestor: 7a6095a56c9cd85ae9ff46603b117489e66f863b
  Platform:
    osname=linux, osvers=4.1.11-00017-g41b634c-dirty, archname=x86_64-linux-thread-multi
    uname='linux spindle 4.1.11-00017-g41b634c-dirty #1 smp sat oct 24 13:58:48 bst 2015 x86_64 gnulinux '
    config_args='-d -e -Duseithreads -D privlib=/usr/lib/perl5/5.22 -D sitelib=/usr/lib/perl5/site_perl/5.22 -D optimize=-Wstrict-overflow=1 -gdwarf-4 -feliminate-unused-debug-types -fvar-tracking-assignments -feliminate-dwarf2-dups -O2 -pipe -D__NO_STRING_INLINES -D__NO_MATH_INLINES'
    hint=recommended, useposix=true, d_sigaction=define
    useithreads=define, usemultiplicity=define
    use64bitint=define, use64bitall=define, uselongdouble=undef
    usemymalloc=n, bincompat5005=undef
  Compiler:
    cc='gcc', ccflags ='-D_REENTRANT -D_GNU_SOURCE -D_REENTRANT -D_GNU_SOURCE -g -fno-strict-aliasing -D_LARGEFILE_SOURCE -D_FILE_OFFSET_BITS=64 -pipe -fstack-protector-strong -fwrapv -D_LARGEFILE_SOURCE -D_FILE_OFFSET_BITS=64 -D_FORTIFY_SOURCE=2',
    optimize='-Wstrict-overflow=1 -gdwarf-4 -feliminate-unused-debug-types -fvar-tracking-assignments -feliminate-dwarf2-dups -O2 -pipe -D__NO_STRING_INLINES -D__NO_MATH_INLINES',
    cppflags='-D_REENTRANT -D_GNU_SOURCE -D_REENTRANT -D_GNU_SOURCE -g -fno-strict-aliasing -D_LARGEFILE_SOURCE -D_FILE_OFFSET_BITS=64 -pipe -fstack-protector-strong -fwrapv'
    ccversion='', gccversion='4.9.3 20150303 (prerelease)', gccosandvers=''
    intsize=4, longsize=8, ptrsize=8, doublesize=8, byteorder=12345678, doublekind=3
    d_longlong=define, longlongsize=8, d_longdbl=define, longdblsize=16, longdblkind=3
    ivtype='long', ivsize=8, nvtype='double', nvsize=8, Off_t='off_t', lseeksize=8
    alignbytes=8, prototype=define
  Linker and Libraries:
    ld='gcc', ldflags =' -fstack-protector-strong -L/usr/local/lib'
    libpth=/usr/lib /lib /pkg/gcc/4.9.2-347/bin/../lib/gcc/x86_64-pc-linux-gnu/4.9.3/include-fixed /usr/local/lib /usr/lib /lib/64 /usr/lib/64 /lib64 /usr/lib64 /usr/local/lib64
    libs=-lpthread -lgdbm -ldb -ldl -lm -lcrypt -lutil -lc -lgdbm_compat
    perllibs=-lpthread -ldl -lm -lcrypt -lutil -lc
    libc=libc-2.18.so, so=so, useshrplib=true, libperl=libperl.so
    gnulibc_version='2.18'
  Dynamic Linking:
    dlsrc=dl_dlopen.xs, dlext=so, d_dlsymun=undef, ccdlflags='-Wl,-E -Wl,-rpath,/usr/lib/perl5/5.22/x86_64-linux-thread-multi/CORE'
    cccdlflags='-fPIC', lddlflags='-shared -Wstrict-overflow=1 -gdwarf-4 -feliminate-unused-debug-types -fvar-tracking-assignments -feliminate-dwarf2-dups -O2 -pipe -D__NO_STRING_INLINES -D__NO_MATH_INLINES -L/usr/local/lib -fstack-protector-strong'


Characteristics of this binary (from libperl): 
  Compile-time options: HAS_TIMES MULTIPLICITY PERLIO_LAYERS
                        PERL_DONT_CREATE_GVSV
                        PERL_HASH_FUNC_ONE_AT_A_TIME_HARD
                        PERL_IMPLICIT_CONTEXT PERL_MALLOC_WRAP
                        PERL_NEW_COPY_ON_WRITE PERL_PRESERVE_IVUV
                        USE_64_BIT_ALL USE_64_BIT_INT USE_ITHREADS
                        USE_LARGE_FILES USE_LOCALE USE_LOCALE_COLLATE
                        USE_LOCALE_CTYPE USE_LOCALE_NUMERIC USE_LOCALE_TIME
                        USE_PERLIO USE_PERL_ATOF USE_REENTRANT_API
  Locally applied patches:
	uncommitted-changes
	39bb02389766ceb9bfd253affc8195b63dff34f2
	e5f12fe1746461083b72baed0d2360a3e3588dbd
	808a56d1c97db072cb3a0cec058421080a521f7a
	a5a413dbf455f79439027038e9938e99eba8ffac
	d57097ac181dc3321a54e6483a81e0d5b72305ee
	e9cf61562147239e3059f5f011d94d1ac5b4dd5b
	c3b05c93bdbd6b2a421054e443e9968b3adf4031
  Built under linux
  Compiled at Oct 25 2015 16:46:14
  %ENV:
    PERL5LIB=""
    PERL5OPT=""
    PERL5_CPANPLUS_IS_RUNNING="16103"
    PERL5_CPAN_IS_RUNNING="16103"
  @INC:
    /usr/lib/perl5/site_perl/5.22/x86_64-linux-thread-multi
    /usr/lib/perl5/site_perl/5.22
    /usr/lib/perl5/5.22/x86_64-linux-thread-multi
    /usr/lib/perl5/5.22
    .