Catalyst-Controller-ActionRole v0.17 Perl 5 v5.39.6 armv7l-linux

Status
Pass
From
John SJ Anderson
Dist
Catalyst-Controller-ActionRole v0.17
Platform
Perl 5 v5.39.6 armv7l-linux
Date
2024-01-01 23:12:06
ID
2e2fc9ee-a8fb-11ee-9873-dccf1e4243fa
This distribution has been tested as part of the CPAN Testers
project, supporting the Perl programming language.  See
http://wiki.cpantesters.org/ for more information or email
questions to cpan-testers-discuss@perl.org


--
Dear ETHER,

This is a computer-generated report for Catalyst-Controller-ActionRole-0.17
on perl 5.39.6, created by App::cpanminus::reporter 0.21 (1.7047).

Thank you for uploading your work to CPAN.  Congratulations!
All tests were successful.

Sections of this report:

    * Tester comments
    * Program output
    * Prerequisites
    * Environment and other context

------------------------------
TESTER COMMENTS
------------------------------

Additional comments from tester:

none provided

------------------------------
PROGRAM OUTPUT
------------------------------

Output from '':

Building and testing Catalyst-Controller-ActionRole-0.17
cp lib/Catalyst/Controller/ActionRole.pm blib/lib/Catalyst/Controller/ActionRole.pm
# 
# Versions for all modules listed in MYMETA.json (including optional ones):
# 
# === Configure Requires ===
# 
#     Module               Want  Have
#     ------------------- ----- -----
#     Module::Build::Tiny 0.039 0.047
# 
# === Test Requires ===
# 
#     Module                 Want     Have
#     ---------------------- ---- --------
#     Catalyst                any  5.90131
#     Catalyst::Action        any    undef
#     Catalyst::Action::REST 0.74     1.21
#     Catalyst::Test          any    undef
#     ExtUtils::MakeMaker     any     7.70
#     File::Spec              any     3.90
#     FindBin                 any     1.54
#     Moose::Role             any   2.2206
#     Test::More              any 1.302198
#     lib                     any     0.65
#     namespace::clean        any     0.27
#     parent                  any    0.241
#     strict                  any     1.13
#     warnings                any     1.67
# 
# === Test Recommends ===
# 
#     Module         Want     Have
#     ---------- -------- --------
#     CPAN::Meta 2.120900 2.150010
# 
# === Runtime Requires ===
# 
#     Module                   Want    Have
#     --------------------- ------- -------
#     Catalyst::Controller      any   undef
#     Catalyst::Runtime     5.80025 5.90131
#     Catalyst::Utils           any   undef
#     Class::Load               any    0.25
#     List::Util                any    1.63
#     Moose                     any  2.2206
#     Moose::Meta::Class        any  2.2206
#     MooseX::Types::Moose      any    0.50
#     String::RewritePrefix   0.004   0.009
#     namespace::autoclean      any    0.29
# 
t/00-report-prereqs.t ..... ok
t/action-class.t .......... ok
t/basic.t ................. ok
t/basic_rest.t ............ ok
t/execution-via-config.t .. ok
t/execution-via-does.t .... ok
All tests successful.
Files=6, Tests=44, 11 wallclock secs ( 0.10 usr  0.02 sys +  9.98 cusr  0.72 csys = 10.82 CPU)
Result: PASS

------------------------------
PREREQUISITES
------------------------------

Prerequisite modules loaded:

runtime:

    Module                Need    Have    
    --------------------- ------- --------
    Catalyst::Controller  0       0       
    Catalyst::Runtime     5.80025 5.90131 
    Catalyst::Utils       0       0       
    Class::Load           0       0.25    
    List::Util            0       1.63    
    Moose                 0       2.2206  
    Moose::Meta::Class    0       2.2206  
    MooseX::Types::Moose  0       0.50    
    namespace::autoclean  0       0.29    
    perl                  5.006   5.039006
    String::RewritePrefix 0.004   0.009   

configure:

    Module                Need    Have    
    --------------------- ------- --------
    Module::Build::Tiny   0.039   0.047   
    perl                  5.006   5.039006


------------------------------
ENVIRONMENT AND OTHER CONTEXT
------------------------------

Environment variables:

    LANG = en_US.UTF-8
    LC_ALL = en_US.UTF-8
    LC_TERMINAL = iTerm2
    LC_TERMINAL_VERSION = 3.4.21
    PATH = /opt/plenv/versions/5.39.6/bin:/opt/plenv/libexec:/opt/plenv/plugins/Perl-Build/bin:/opt/plenv/shims:/home/genehack/bin:/opt/plenv/shims:/opt/plenv/bin:/opt/git/bin:/opt/emacs/bin:/opt/local/bin:/usr/local/bin:/usr/bin:/bin:/usr/games
    PERL_CPANM_OPT = --skip-installed --prompt
    SHELL = /bin/zsh
    TERM = screen-256color

Perl special variables (and OS-specific diagnostics, for MSWin32):

    EGID = 1001 27 1001
    EUID = 1000
    EXECUTABLE_NAME = /opt/plenv/versions/5.39.6/bin/perl5.39.6
    GID = 1001 27 1001
    UID = 1000

Perl module toolchain versions installed:

    Module              Have    
    ------------------- --------
    CPAN                2.36    
    CPAN::Meta          2.150010
    Cwd                 3.90    
    ExtUtils::CBuilder  0.280240
    ExtUtils::Command   7.70    
    ExtUtils::Install   2.22    
    ExtUtils::MakeMaker 7.70    
    ExtUtils::Manifest  1.75    
    ExtUtils::ParseXS   3.51    
    File::Spec          3.90    
    JSON                4.10    
    JSON::PP            4.16    
    Module::Build       0.4234  
    Module::Signature   n/a     
    Parse::CPAN::Meta   2.150010
    Test::Harness       3.48    
    Test::More          1.302198
    YAML                1.31    
    YAML::Syck          n/a     
    version             0.9930  


--

Summary of my perl5 (revision 5 version 39 subversion 6) configuration:
   
  Platform:
    osname=linux
    osvers=5.10.52-v7l+
    archname=armv7l-linux
    uname='linux weefree 5.10.52-v7l+ #1441 smp tue aug 3 18:11:56 bst 2021 armv7l gnulinux '
    config_args='-Dprefix=/opt/plenv/versions/5.39.6 -de -Dversiononly -Dusedevel -A'eval:scriptdir=/opt/plenv/versions/5.39.6/bin''
    hint=recommended
    useposix=true
    d_sigaction=define
    useithreads=undef
    usemultiplicity=undef
    use64bitint=undef
    use64bitall=undef
    uselongdouble=undef
    usemymalloc=n
    default_inc_excludes_dot=define
  Compiler:
    cc='cc'
    ccflags ='-fwrapv -fno-strict-aliasing -pipe -fstack-protector-strong -I/usr/local/include -D_LARGEFILE_SOURCE -D_FILE_OFFSET_BITS=64 -D_FORTIFY_SOURCE=2'
    optimize='-O2'
    cppflags='-fwrapv -fno-strict-aliasing -pipe -fstack-protector-strong -I/usr/local/include'
    ccversion=''
    gccversion='12.2.0'
    gccosandvers=''
    intsize=4
    longsize=4
    ptrsize=4
    doublesize=8
    byteorder=1234
    doublekind=3
    d_longlong=define
    longlongsize=8
    d_longdbl=define
    longdblsize=8
    longdblkind=0
    ivtype='long'
    ivsize=4
    nvtype='double'
    nvsize=8
    Off_t='off_t'
    lseeksize=8
    alignbytes=8
    prototype=define
  Linker and Libraries:
    ld='cc'
    ldflags =' -fstack-protector-strong -L/usr/local/lib'
    libpth=/usr/local/lib /usr/lib/arm-linux-gnueabihf /usr/lib
    libs=-lpthread -ldl -lm -lcrypt -lutil -lc
    perllibs=-lpthread -ldl -lm -lcrypt -lutil -lc
    libc=/lib/arm-linux-gnueabihf/libc.so.6
    so=so
    useshrplib=false
    libperl=libperl.a
    gnulibc_version='2.36'
  Dynamic Linking:
    dlsrc=dl_dlopen.xs
    dlext=so
    d_dlsymun=undef
    ccdlflags='-Wl,-E'
    cccdlflags='-fPIC'
    lddlflags='-shared -O2 -L/usr/local/lib -fstack-protector-strong'


Characteristics of this binary (from libperl): 
  Compile-time options:
    HAS_LONG_DOUBLE
    HAS_STRTOLD
    HAS_TIMES
    PERLIO_LAYERS
    PERL_COPY_ON_WRITE
    PERL_DONT_CREATE_GVSV
    PERL_HASH_FUNC_ZAPHOD32
    PERL_HASH_USE_SBOX32
    PERL_MALLOC_WRAP
    PERL_OP_PARENT
    PERL_PRESERVE_IVUV
    PERL_USE_DEVEL
    PERL_USE_SAFE_PUTENV
    USE_LARGE_FILES
    USE_LOCALE
    USE_LOCALE_COLLATE
    USE_LOCALE_CTYPE
    USE_LOCALE_NUMERIC
    USE_LOCALE_TIME
    USE_PERLIO
    USE_PERL_ATOF
  Built under linux
  Compiled at Jan  1 2024 11:46:15
  %ENV:
    PERL_CPANM_OPT="--skip-installed --prompt"
  @INC:
    /opt/plenv/versions/5.39.6/lib/perl5/site_perl/5.39.6/armv7l-linux
    /opt/plenv/versions/5.39.6/lib/perl5/site_perl/5.39.6
    /opt/plenv/versions/5.39.6/lib/perl5/5.39.6/armv7l-linux
    /opt/plenv/versions/5.39.6/lib/perl5/5.39.6