Report for AnyEvent-Digest-v0.0.5

Back
From: metabase:user:30f4dfbe-2aae-11df-837a-5e0a49663a4f
Subject: PASS AnyEvent-Digest-v0.0.5 v5.21.1 FreeBSD
Date: 2014-07-02T04:34:39Z

This distribution has been tested as part of the CPAN Testers
project, supporting the Perl programming language.  See
http://wiki.cpantesters.org/ for more information or email
questions to cpan-testers-discuss@perl.org


--
Dear Yasutaka ATARASHI,

This is a computer-generated report for AnyEvent-Digest-v0.0.5
on perl 5.21.1, created by CPAN-Reporter-1.2011.

Thank you for uploading your work to CPAN.  Congratulations!
All tests were successful.

Sections of this report:

    * Tester comments
    * Program output
    * Prerequisites
    * Environment and other context

------------------------------
TESTER COMMENTS
------------------------------

Additional comments from tester:

this report is from an automated smoke testing program
and was not reviewed by a human for accuracy

------------------------------
PROGRAM OUTPUT
------------------------------

Output from '/usr/bin/make test':

PERL_DL_NONLAZY=1 /usr/home/njh/perl5/perlbrew/perls/perl-5.21.1/bin/perl5.21.1 "-MExtUtils::Command::MM" "-MTest::Harness" "-e" "undef *Test::Harness::Switches; test_harness(0, 'blib/lib', 'blib/arch')" t/*.t
t/00-compile.t ............ ok
t/01-base.t ............... ok
# 0.01 interval: 1248 count
t/02-async-idle.t ......... ok
t/03-async-aio.t .......... skipped: IO::AIO and AnyEvent::AIO are required: Can't locate IO/AIO.pm in @INC (you may need to install the IO::AIO module) (@INC contains: /usr/home/njh/.cpan/build/AnyEvent-Digest-v0.0.5-iDl1_p/blib/lib /usr/home/njh/.cpan/build/AnyEvent-Digest-v0.0.5-iDl1_p/blib/arch /home/njh/.cpan/build/AnyEvent-7.07-Ij4Xrl/blib/arch /home/njh/.cpan/build/AnyEvent-7.07-Ij4Xrl/blib/lib /home/njh/.cpan/build/AnyEvent-7.07-Ij4Xrl/blib/arch /home/njh/.cpan/build/AnyEvent-7.07-Ij4Xrl/blib/lib /home/njh/perl5/perlbrew/perls/perl-5.21.1/lib/site_perl/5.21.1/i386-freebsd-thread-multi /home/njh/perl5/perlbrew/perls/perl-5.21.1/lib/site_perl/5.21.1 /home/njh/perl5/perlbrew/perls/perl-5.21.1/lib/5.21.1/i386-freebsd-thread-multi /home/njh/perl5/perlbrew/perls/perl-5.21.1/lib/5.21.1 .) at t/03-async-aio.t line 6.
t/04-prereqfail.t ......... skipped: Test::Without::Module is required: Can't locate Test/Without/Module.pm in @INC (you may need to install the Test::Without::Module module) (@INC contains: /usr/home/njh/.cpan/build/AnyEvent-Digest-v0.0.5-iDl1_p/blib/lib /usr/home/njh/.cpan/build/AnyEvent-Digest-v0.0.5-iDl1_p/blib/arch /home/njh/.cpan/build/AnyEvent-7.07-Ij4Xrl/blib/arch /home/njh/.cpan/build/AnyEvent-7.07-Ij4Xrl/blib/lib /home/njh/.cpan/build/AnyEvent-7.07-Ij4Xrl/blib/arch /home/njh/.cpan/build/AnyEvent-7.07-Ij4Xrl/blib/lib /home/njh/perl5/perlbrew/perls/perl-5.21.1/lib/site_perl/5.21.1/i386-freebsd-thread-multi /home/njh/perl5/perlbrew/perls/perl-5.21.1/lib/site_perl/5.21.1 /home/njh/perl5/perlbrew/perls/perl-5.21.1/lib/5.21.1/i386-freebsd-thread-multi /home/njh/perl5/perlbrew/perls/perl-5.21.1/lib/5.21.1 .) at t/04-prereqfail.t line 6.
read() on unopened filehandle GEN0 at /usr/home/njh/.cpan/build/AnyEvent-Digest-v0.0.5-iDl1_p/blib/lib/AnyEvent/Digest.pm line 53.
t/05-error.t .............. ok
t/author-critic.t ......... skipped: these tests are for testing by the author
t/release-kwalitee.t ...... skipped: these tests are for release candidate testing
t/release-pod-coverage.t .. skipped: these tests are for release candidate testing
t/release-pod-syntax.t .... skipped: these tests are for release candidate testing
All tests successful.
Files=10, Tests=15, 17 wallclock secs ( 0.34 usr  0.16 sys + 10.88 cusr  2.60 csys = 13.98 CPU)
Result: PASS

------------------------------
PREREQUISITES
------------------------------

Prerequisite modules loaded:

requires:

    Module              Need Have    
    ------------------- ---- --------
    AnyEvent            0    7.07    
    Digest              0    1.17    
    Scalar::Util        0    1.39    

build_requires:

    Module              Need Have    
    ------------------- ---- --------
    Digest::MD5         0    2.53    
    File::Spec          0    3.48    
    IO::Handle          0    1.35    
    IPC::Open3          0    1.16    
    Test::Exception     0    0.32    
    Test::More          0    1.001003

configure_requires:

    Module              Need Have    
    ------------------- ---- --------
    ExtUtils::MakeMaker 6.30 6.98    


------------------------------
ENVIRONMENT AND OTHER CONTEXT
------------------------------

Environment variables:

    AUTOMATED_TESTING = 1
    PATH = /home/njh/perl5/perlbrew/bin:/home/njh/perl5/perlbrew/perls/perl-5.21.1/bin:/home/njh/perl5/perlbrew/bin:/sbin:/bin:/usr/sbin:/usr/bin:/usr/games:/usr/local/sbin:/usr/local/bin:/home/njh/bin
    PERL5LIB = /home/njh/.cpan/build/AnyEvent-7.07-Ij4Xrl/blib/arch:/home/njh/.cpan/build/AnyEvent-7.07-Ij4Xrl/blib/lib
    PERL5OPT = 
    PERL5_CPANPLUS_IS_RUNNING = 64192
    PERL5_CPAN_IS_RUNNING = 64192
    PERL5_MINISMOKEBOX = 0.58
    PERLBREW_BASHRC_VERSION = 0.67
    PERLBREW_HOME = /home/njh/.perlbrew
    PERLBREW_MANPATH = /home/njh/perl5/perlbrew/perls/perl-5.21.1/man
    PERLBREW_PATH = /home/njh/perl5/perlbrew/bin:/home/njh/perl5/perlbrew/perls/perl-5.21.1/bin
    PERLBREW_PERL = perl-5.21.1
    PERLBREW_ROOT = /home/njh/perl5/perlbrew
    PERLBREW_VERSION = 0.67
    PERL_EXTUTILS_AUTOINSTALL = --defaultdeps
    PERL_MM_USE_DEFAULT = 1
    SHELL = /bin/bash
    TERM = xterm

Perl special variables (and OS-specific diagnostics, for MSWin32):

    $^X = /usr/home/njh/perl5/perlbrew/perls/perl-5.21.1/bin/perl5.21.1
    $UID/$EUID = 1000 / 1000
    $GID = 1000 1000 0
    $EGID = 1000 1000 0

Perl module toolchain versions installed:

    Module              Have    
    ------------------- --------
    CPAN                2.05    
    CPAN::Meta          2.141520
    Cwd                 3.48    
    ExtUtils::CBuilder  0.280216
    ExtUtils::Command   1.18    
    ExtUtils::Install   1.68    
    ExtUtils::MakeMaker 6.98    
    ExtUtils::Manifest  1.63    
    ExtUtils::ParseXS   3.25    
    File::Spec          3.48    
    JSON                2.90    
    JSON::PP            2.27203 
    Module::Build       0.4205  
    Module::Signature   n/a     
    Parse::CPAN::Meta   1.4414  
    Test::Harness       3.32    
    Test::More          1.001003
    YAML                n/a     
    YAML::Syck          1.27    
    version             0.9908  


--

Summary of my perl5 (revision 5 version 21 subversion 1) configuration:
   
  Platform:
    osname=freebsd, osvers=9.1-release, archname=i386-freebsd-thread-multi
    uname='freebsd amber 9.1-release freebsd 9.1-release #0 r243826: tue dec 4 06:55:39 utc 2012 root@obrian.cse.buffalo.edu:usrobjusrsrcsysgeneric i386 '
    config_args='-de -Dprefix=/home/njh/perl5/perlbrew/perls/perl-5.21.1 -Duseithreads -Dusemultiplicity -Dusedevel -Accflags=-O2 -W -Wformat=2 -Wswitch -Wshadow -Wwrite-strings -Wuninitialized -Wall -pipe -mtune=native -march=native -fomit-frame-pointer -msse2 -msse -mmmx -mfpmath=sse -pedantic -D_FORTIFY_SOURCE=2 -Wpointer-arith -Wstrict-prototypes -fstack-protector -Wstack-protector -Wextra -Wbad-function-cast -Wcast-align -Wcast-qual -Wdisabled-optimization -Wendif-labels -Wfloat-equal -Wformat-nonliteral -Winline -Wmissing-declarations -Wmissing-prototypes -Wnested-externs -Wpointer-arith -Wundef -Wformat-security -ftree-vectorize -Aeval:scriptdir=/home/njh/perl5/perlbrew/perls/perl-5.21.1/bin'
    hint=recommended, useposix=true, d_sigaction=define
    useithreads=define, usemultiplicity=define
    use64bitint=undef, use64bitall=undef, uselongdouble=undef
    usemymalloc=n, bincompat5005=undef
  Compiler:
    cc='cc', ccflags ='-DHAS_FPSETMASK -DHAS_FLOATINGPOINT_H -O2 -W -Wformat=2 -Wswitch -Wshadow -Wwrite-strings -Wuninitialized -Wall -pipe -mtune=native -march=native -fomit-frame-pointer -msse2 -msse -mmmx -mfpmath=sse -pedantic -D_FORTIFY_SOURCE=2 -Wpointer-arith -Wstrict-prototypes -fstack-protector -Wstack-protector -Wextra -Wbad-function-cast -Wcast-align -Wcast-qual -Wdisabled-optimization -Wendif-labels -Wfloat-equal -Wformat-nonliteral -Winline -Wmissing-declarations -Wmissing-prototypes -Wnested-externs -Wpointer-arith -Wundef -Wformat-security -ftree-vectorize -fno-strict-aliasing -I/usr/local/include',
    optimize='-O',
    cppflags='-DHAS_FPSETMASK -DHAS_FLOATINGPOINT_H -O2 -W -Wformat=2 -Wswitch -Wshadow -Wwrite-strings -Wuninitialized -Wall -pipe -mtune=native -march=native -fomit-frame-pointer -msse2 -msse -mmmx -mfpmath=sse -pedantic -D_FORTIFY_SOURCE=2 -Wpointer-arith -Wstrict-prototypes -fstack-protector -Wstack-protector -Wextra -Wbad-function-cast -Wcast-align -Wcast-qual -Wdisabled-optimization -Wendif-labels -Wfloat-equal -Wformat-nonliteral -Winline -Wmissing-declarations -Wmissing-prototypes -Wnested-externs -Wpointer-arith -Wundef -Wformat-security -ftree-vectorize -fno-strict-aliasing -I/usr/local/include'
    ccversion='', gccversion='4.2.1 20070831 patched [FreeBSD]', gccosandvers=''
    intsize=4, longsize=4, ptrsize=4, doublesize=8, byteorder=1234
    d_longlong=define, longlongsize=8, d_longdbl=define, longdblsize=12
    ivtype='long', ivsize=4, nvtype='double', nvsize=8, Off_t='off_t', lseeksize=8
    alignbytes=4, prototype=define
  Linker and Libraries:
    ld='cc', ldflags ='-pthread -Wl,-E  -fstack-protector -L/usr/local/lib'
    libpth=/usr/lib /usr/local/lib /usr/include/gcc/4.2 /usr/lib
    libs=-lm -lcrypt
    perllibs=-lm -lcrypt
    libc=, so=so, useshrplib=false, libperl=libperl.a
    gnulibc_version=''
  Dynamic Linking:
    dlsrc=dl_dlopen.xs, dlext=so, d_dlsymun=undef, ccdlflags=' '
    cccdlflags='-DPIC -fPIC', lddlflags='-shared  -L/usr/local/lib -fstack-protector'


Characteristics of this binary (from libperl): 
  Compile-time options: HAS_TIMES MULTIPLICITY PERLIO_LAYERS
                        PERL_DONT_CREATE_GVSV
                        PERL_HASH_FUNC_ONE_AT_A_TIME_HARD
                        PERL_IMPLICIT_CONTEXT PERL_MALLOC_WRAP
                        PERL_NEW_COPY_ON_WRITE PERL_PRESERVE_IVUV
                        PERL_USE_DEVEL USE_ITHREADS USE_LARGE_FILES
                        USE_LOCALE USE_LOCALE_COLLATE USE_LOCALE_CTYPE
                        USE_LOCALE_NUMERIC USE_PERLIO USE_PERL_ATOF
                        USE_REENTRANT_API
  Built under freebsd
  Compiled at Jun 21 2014 12:57:09
  %ENV:
    PERL5LIB="/home/njh/.cpan/build/AnyEvent-7.07-Ij4Xrl/blib/arch:/home/njh/.cpan/build/AnyEvent-7.07-Ij4Xrl/blib/lib"
    PERL5OPT=""
    PERL5_CPANPLUS_IS_RUNNING="64192"
    PERL5_CPAN_IS_RUNNING="64192"
    PERL5_MINISMOKEBOX="0.58"
    PERLBREW_BASHRC_VERSION="0.67"
    PERLBREW_HOME="/home/njh/.perlbrew"
    PERLBREW_MANPATH="/home/njh/perl5/perlbrew/perls/perl-5.21.1/man"
    PERLBREW_PATH="/home/njh/perl5/perlbrew/bin:/home/njh/perl5/perlbrew/perls/perl-5.21.1/bin"
    PERLBREW_PERL="perl-5.21.1"
    PERLBREW_ROOT="/home/njh/perl5/perlbrew"
    PERLBREW_VERSION="0.67"
    PERL_EXTUTILS_AUTOINSTALL="--defaultdeps"
    PERL_MM_USE_DEFAULT="1"
  @INC:
    /home/njh/.cpan/build/AnyEvent-7.07-Ij4Xrl/blib/arch
    /home/njh/.cpan/build/AnyEvent-7.07-Ij4Xrl/blib/lib
    /home/njh/perl5/perlbrew/perls/perl-5.21.1/lib/site_perl/5.21.1/i386-freebsd-thread-multi
    /home/njh/perl5/perlbrew/perls/perl-5.21.1/lib/site_perl/5.21.1
    /home/njh/perl5/perlbrew/perls/perl-5.21.1/lib/5.21.1/i386-freebsd-thread-multi
    /home/njh/perl5/perlbrew/perls/perl-5.21.1/lib/5.21.1
    .