Report for Term-ReadLine-1.14

Back
From: metabase:user:20b5d20a-b56b-11df-b6fe-a673812b71ce
Subject: PASS Term-ReadLine-1.14 v5.12.4 GNU/Linux
Date: 2013-10-31T19:53:57Z

This distribution has been tested as part of the CPAN Testers
project, supporting the Perl programming language.  See
http://wiki.cpantesters.org/ for more information or email
questions to cpan-testers-discuss@perl.org


--
Dear Florian Ragwitz,

This is a computer-generated report for Term-ReadLine-1.14
on perl 5.12.4, created by CPAN-Reporter-1.2010.

Thank you for uploading your work to CPAN.  Congratulations!
All tests were successful.

Sections of this report:

    * Tester comments
    * Program output
    * Prerequisites
    * Environment and other context

------------------------------
TESTER COMMENTS
------------------------------

Additional comments from tester:

none provided

------------------------------
PROGRAM OUTPUT
------------------------------

Output from '/usr/bin/make test':

PERL_DL_NONLAZY=1 /usr/bin/perl5.12.4 "-MExtUtils::Command::MM" "-MTest::Harness" "-e" "undef *Test::Harness::Switches; test_harness(0, 'blib/lib', 'blib/arch')" t/*.t
t/AE.t .................. ok
t/AETk.t ................ skipped: Tk can't start. DISPLAY not set?
t/ReadLine.t ............ ok
t/release-pod-syntax.t .. skipped: these tests are for release candidate testing
t/Tk.t .................. skipped: Tk can't start. DISPLAY not set?
All tests successful.
Files=5, Tests=18,  1 wallclock secs ( 0.03 usr  0.04 sys +  0.36 cusr  0.12 csys =  0.55 CPU)
Result: PASS

------------------------------
PREREQUISITES
------------------------------

Prerequisite modules loaded:

configure_requires:

    Module              Need Have
    ------------------- ---- ----
    ExtUtils::MakeMaker 6.30 6.80


------------------------------
ENVIRONMENT AND OTHER CONTEXT
------------------------------

Environment variables:

    LANG = en_US.UTF-8
    LC_COLLATE = C
    PATH = /usr/local/sbin:/usr/local/bin:/usr/sbin:/usr/bin:/sbin:/bin:/opt/bin:/usr/x86_64-pc-linux-gnu/gcc-bin/4.6.3
    PERL5LIB = 
    PERL5OPT = 
    PERL5_CPANPLUS_IS_RUNNING = 21683
    PERL5_CPAN_IS_RUNNING = 21683
    SHELL = /bin/bash
    TERM = screen

Perl special variables (and OS-specific diagnostics, for MSWin32):

    $^X = /usr/bin/perl5.12.4
    $UID/$EUID = 0 / 0
    $GID = 0 0 1 2 3 4 6 10 11 20 26 27
    $EGID = 0 0 1 2 3 4 6 10 11 20 26 27

Perl module toolchain versions installed:

    Module              Have    
    ------------------- --------
    CPAN                2.00    
    CPAN::Meta          2.132830
    Cwd                 3.40    
    ExtUtils::CBuilder  0.280212
    ExtUtils::Command   1.18    
    ExtUtils::Install   1.54    
    ExtUtils::MakeMaker 6.80    
    ExtUtils::Manifest  1.63    
    ExtUtils::ParseXS   3.22    
    File::Spec          3.40    
    JSON                2.61    
    JSON::PP            2.27203 
    Module::Build       0.4007  
    Module::Signature   0.73    
    Parse::CPAN::Meta   1.4409  
    Test::Harness       3.29    
    Test::More          0.98    
    YAML                0.84    
    YAML::Syck          1.27    
    version             0.9903  


--

Summary of my perl5 (revision 5 version 12 subversion 4) configuration:
   
  Platform:
    osname=linux, osvers=3.7.10-gentoo, archname=x86_64-linux
    uname='linux ux11 3.7.10-gentoo #1 smp sat mar 30 16:25:18 cdt 2013 x86_64 amd athlon(tm) 64 x2 dual core processor 4800+ authenticamd gnulinux '
    config_args='-des -Duseshrplib -Darchname=x86_64-linux -Dcc=x86_64-pc-linux-gnu-gcc -Doptimize=-march=athlon64 -O2 -pipe -Dldflags=-Wl,-O1 -Wl,--as-needed -Dprefix=/usr -Dsiteprefix=/usr -Dvendorprefix=/usr -Dscriptdir=/usr/bin -Dprivlib=/usr/lib64/perl5/5.12.4 -Darchlib=/usr/lib64/perl5/5.12.4/x86_64-linux -Dsitelib=/usr/lib64/perl5/site_perl/5.12.4 -Dsitearch=/usr/lib64/perl5/site_perl/5.12.4/x86_64-linux -Dvendorlib=/usr/lib64/perl5/vendor_perl/5.12.4 -Dvendorarch=/usr/lib64/perl5/vendor_perl/5.12.4/x86_64-linux -Dman1dir=/usr/share/man/man1 -Dman3dir=/usr/share/man/man3 -Dsiteman1dir=/usr/share/man/man1 -Dsiteman3dir=/usr/share/man/man3 -Dvendorman1dir=/usr/share/man/man1 -Dvendorman3dir=/usr/share/man/man3 -Dman1ext=1 -Dman3ext=3pm -Dlibperl=libperl.so.5.12.4 -Dlocincpth=  -Duselargefiles -Dd_semctl_semun -Dcf_by=Gentoo -Dmyhostname=localhost -Dperladmin=root@localhost -Dinstallusrbinperl=n -Ud_csh -Uusenm -Di_ndbm -Di_gdbm -Di_db -DDEBUGGING=none -Dinc_version_list=5.12.3/x86_64-linux 5.12.3 5.12.2/x86_64-linux 5.12.2 5.12.1/x86_64-linux 5.12.1 5.12.0/x86_64-linux 5.12.0  -Dlibpth=/usr/local/lib64 /lib64 /usr/lib64'
    hint=recommended, useposix=true, d_sigaction=define
    useithreads=undef, usemultiplicity=undef
    useperlio=define, d_sfio=undef, uselargefiles=define, usesocks=undef
    use64bitint=define, use64bitall=define, uselongdouble=undef
    usemymalloc=n, bincompat5005=undef
  Compiler:
    cc='x86_64-pc-linux-gnu-gcc', ccflags ='-fno-strict-aliasing -pipe -D_LARGEFILE_SOURCE -D_FILE_OFFSET_BITS=64',
    optimize='-march=athlon64 -O2 -pipe',
    cppflags='-fno-strict-aliasing -pipe'
    ccversion='', gccversion='4.6.3', gccosandvers=''
    intsize=4, longsize=8, ptrsize=8, doublesize=8, byteorder=12345678
    d_longlong=define, longlongsize=8, d_longdbl=define, longdblsize=16
    ivtype='long', ivsize=8, nvtype='double', nvsize=8, Off_t='off_t', lseeksize=8
    alignbytes=8, prototype=define
  Linker and Libraries:
    ld='x86_64-pc-linux-gnu-gcc', ldflags ='-Wl,-O1 -Wl,--as-needed'
    libpth=/usr/local/lib64 /lib64 /usr/lib64
    libs=-lnsl -lgdbm -ldb -ldl -lm -lcrypt -lutil -lc -lgdbm_compat
    perllibs=-lnsl -ldl -lm -lcrypt -lutil -lc
    libc=/lib/libc-2.15.so, so=so, useshrplib=true, libperl=libperl.so.5.12.4
    gnulibc_version='2.15'
  Dynamic Linking:
    dlsrc=dl_dlopen.xs, dlext=so, d_dlsymun=undef, ccdlflags='-Wl,-E'
    cccdlflags='-fPIC', lddlflags='-shared -march=athlon64 -O2 -pipe -Wl,-O1 -Wl,--as-needed'


Characteristics of this binary (from libperl): 
  Compile-time options: PERL_DONT_CREATE_GVSV PERL_MALLOC_WRAP USE_64_BIT_ALL
                        USE_64_BIT_INT USE_LARGE_FILES USE_PERLIO
                        USE_PERL_ATOF
  Locally applied patches:
	0001-gentoo_MakeMaker-RUNPATH.diff
	0002-gentoo_config_over.diff
	0003-gentoo_cpan_definstalldirs.diff
	0004-gentoo_cpanplus_definstalldirs.diff
	0005-gentoo_create-libperl-soname.diff
	0006-gentoo_MakeMaker-delete_packlist.diff
	0007-fixes_8d66b3f9_h2hp_fix.diff
	0008-fixes_f178b03b_h2ph_using_deprecated_goto.diff
	0009-gentoo_mod-paths.diff
	0010-gentoo_enc2xs.diff
	0011-gentoo_IO-Compress_AutoLoader_dropped_from_Compress-Zlib.diff
	0012-gentoo_drop-fstack-protector.diff
  Built under linux
  Compiled at Jun 14 2013 00:50:10
  %ENV:
    PERL5LIB=""
    PERL5OPT=""
    PERL5_CPANPLUS_IS_RUNNING="21683"
    PERL5_CPAN_IS_RUNNING="21683"
  @INC:
    /etc/perl
    /usr/lib64/perl5/site_perl/5.12.4/x86_64-linux
    /usr/lib64/perl5/site_perl/5.12.4
    /usr/lib64/perl5/vendor_perl/5.12.4/x86_64-linux
    /usr/lib64/perl5/vendor_perl/5.12.4
    /usr/lib64/perl5/site_perl
    /usr/lib64/perl5/vendor_perl
    /usr/lib64/perl5/5.12.4/x86_64-linux
    /usr/lib64/perl5/5.12.4
    /usr/local/lib/site_perl
    .