Back
From: metabase:user:fb19509c-17e3-11e3-a14d-fdb79081a995
Subject: PASS XML-RSS-1.56 v5.21.7 Mac OS X
Date: 2015-01-28T00:18:26Z
This distribution has been tested as part of the CPAN Testers
project, supporting the Perl programming language. See
http://wiki.cpantesters.org/ for more information or email
questions to cpan-testers-discuss@perl.org
--
Dear SHLOMIF,
This is a computer-generated report for XML-RSS-1.56
on perl 5.21.7, created by App::cpanminus::reporter 0.12 (1.7024).
Thank you for uploading your work to CPAN. Congratulations!
All tests were successful.
Sections of this report:
* Tester comments
* Program output
* Prerequisites
* Environment and other context
------------------------------
TESTER COMMENTS
------------------------------
Additional comments from tester:
none provided
------------------------------
PROGRAM OUTPUT
------------------------------
Output from '':
Building and testing XML-RSS-1.56
Building XML-RSS
t/style-trailing-space.t .............. skipped: Test::TrailingSpace required for trailing space test.
t/cpan-changes.t ...................... ok
t/pod.t ............................... ok
t/0.9-generate.t ...................... ok
t/version.t ........................... ok
t/load.t .............................. ok
t/render-upon-init.t .................. ok
t/encoding.t .......................... ok
t/0.91-parse.t ........................ ok
t/0.9-parse.t ......................... ok
t/0.9-strict.t ........................ ok
t/1.0-gen-errors-on-missing-fields.t .. ok
t/1.0-generate.t ...................... ok
t/1.0-parse.t ......................... ok
t/1.0-parse-exotic.t .................. ok
t/2.0-modules.t ....................... ok
t/2.0-generate.t ...................... ok
t/2.0-parse.t ......................... ok
t/2.0-parse-cloud.t ................... ok
t/1.0-parse-2.t ....................... ok
t/2.0-wo-title.t ...................... ok
t/2.0-permalink.t ..................... ok
t/2.0-parse-self.t .................... ok
t/2.0-parse-2.t ....................... ok
t/enclosures.t ........................ ok
t/enclosures2.t ....................... ok
t/auto_add_modules.t .................. ok
t/enclosures-multi.t .................. ok
t/encode-output.t ..................... ok
t/rss2-gt-encoding.t .................. ok
t/pod-coverage.t ...................... ok
t/1.0-to-2.0.t ........................ ok
t/charset1.t .......................... ok
t/add-item-insert-vs-append.t ......... ok
t/xml-header.t ........................ ok
t/guid.t .............................. ok
t/xml-base.t .......................... ok
t/test-generated-items.t .............. ok
t/save-while-in-taint-mode.t .......... ok
All tests successful.
Files=39, Tests=458, 2 wallclock secs ( 0.20 usr 0.13 sys + 8.13 cusr 0.60 csys = 9.06 CPU)
Result: PASS
------------------------------
PREREQUISITES
------------------------------
Prerequisite modules loaded:
No requirements found
------------------------------
ENVIRONMENT AND OTHER CONTEXT
------------------------------
Environment variables:
LANG = en_CA.UTF-8
PATH = /Users/ether/.perlbrew/libs/21.7@std/bin:/Users/ether/perl5/perlbrew/bin:/Users/ether/perl5/perlbrew/perls/21.7/bin:/Users/ether/bin:/Users/ether/git/misc/install/bourbon/bin:/Users/ether/git/misc/install/generic/bin:/opt/local/bin:/opt/local/sbin:/Users/ether/git/git-hub/lib:/Users/ether/src/CE/devtools:/Users/ether/git/CE/devtools:/Users/ether/src/CE/bin:/Users/ether/git/CE/bin:/usr/bin:/bin:/usr/sbin:/sbin:/usr/local/bin:/opt/local/share/git-core/contrib/workdir
PERL5LIB = /Users/ether/.perlbrew/libs/21.7@std/lib/perl5
PERLBREW_BASHRC_VERSION = 0.71
PERLBREW_HOME = /Users/ether/.perlbrew
PERLBREW_LIB = std
PERLBREW_MANPATH = /Users/ether/.perlbrew/libs/21.7@std/man:/Users/ether/perl5/perlbrew/perls/21.7/man
PERLBREW_PATH = /Users/ether/.perlbrew/libs/21.7@std/bin:/Users/ether/perl5/perlbrew/bin:/Users/ether/perl5/perlbrew/perls/21.7/bin
PERLBREW_PERL = 21.7
PERLBREW_ROOT = /Users/ether/perl5/perlbrew
PERLBREW_VERSION = 0.72
PERLDOC_PAGER = less -sicMr
PERL_AUTOINSTALL_PREFER_CPAN = 1
PERL_INSTALL_QUIET = 1
PERL_LOCAL_LIB_ROOT = /Users/ether/.perlbrew/libs/21.7@std
PERL_MB_OPT = --install_base /Users/ether/.perlbrew/libs/21.7@std
PERL_MM_OPT = INSTALL_BASE=/Users/ether/.perlbrew/libs/21.7@std
SHELL = /bin/bash
TERM = xterm-color
TMPDIR = /var/folders/kx/9dgyhhpn2yb7v2mggnr385fr0000gn/T/
Perl special variables (and OS-specific diagnostics, for MSWin32):
EGID = 20 20 402 401 12 33 61 79 80 81 98 100 204
EUID = 501
EXECUTABLE_NAME = /Users/ether/perl5/perlbrew/perls/21.7/bin/perl5.21.7
GID = 20 20 402 401 12 33 61 79 80 81 98 100 204
UID = 501
Perl module toolchain versions installed:
Module Have
------------------- --------
CPAN 2.05
CPAN::Meta 2.143240
Cwd 3.54
ExtUtils::CBuilder 0.280221
ExtUtils::Command 1.20
ExtUtils::Install 2.04
ExtUtils::MakeMaker 7.04
ExtUtils::Manifest 1.70
ExtUtils::ParseXS 3.27
File::Spec 3.53
JSON 2.90
JSON::PP 2.27300
Module::Build 0.4211
Module::Signature n/a
Parse::CPAN::Meta 1.4414
Test::Harness 3.35
Test::More 1.001014
YAML 1.13
YAML::Syck 1.29
version 0.9912
--
Summary of my perl5 (revision 5 version 21 subversion 7) configuration:
Platform:
osname=darwin, osvers=12.5.0, archname=darwin-2level
uname='darwin bourbon 12.5.0 darwin kernel version 12.5.0: sun sep 29 13:33:47 pdt 2013; root:xnu-2050.48.12~1release_x86_64 x86_64 '
config_args='-de -Dprefix=/Users/ether/perl5/perlbrew/perls/21.7 -Dman1dir=none -Dman3dir=none -Dusedevel -Aeval:scriptdir=/Users/ether/perl5/perlbrew/perls/21.7/bin'
hint=recommended, useposix=true, d_sigaction=define
useithreads=undef, usemultiplicity=undef
use64bitint=define, use64bitall=define, uselongdouble=undef
usemymalloc=n, bincompat5005=undef
Compiler:
cc='cc', ccflags ='-fno-common -DPERL_DARWIN -fno-strict-aliasing -pipe -fstack-protector -I/opt/local/include',
optimize='-O3',
cppflags='-fno-common -DPERL_DARWIN -fno-strict-aliasing -pipe -fstack-protector -I/opt/local/include'
ccversion='', gccversion='4.2.1 Compatible Apple LLVM 4.2 (clang-425.0.28)', gccosandvers=''
intsize=4, longsize=8, ptrsize=8, doublesize=8, byteorder=12345678, doublekind=3
d_longlong=define, longlongsize=8, d_longdbl=define, longdblsize=16, longdblkind=3
ivtype='long', ivsize=8, nvtype='double', nvsize=8, Off_t='off_t', lseeksize=8
alignbytes=8, prototype=define
Linker and Libraries:
ld='env MACOSX_DEPLOYMENT_TARGET=10.3 cc', ldflags =' -fstack-protector -L/opt/local/lib'
libpth=/usr/bin/../lib/clang/4.2/lib /usr/lib /opt/local/lib
libs=-lgdbm -ldbm -ldl -lm -lutil -lc -lpthread
perllibs=-ldl -lm -lutil -lc -lpthread
libc=, so=dylib, useshrplib=false, libperl=libperl.a
gnulibc_version=''
Dynamic Linking:
dlsrc=dl_dlopen.xs, dlext=bundle, d_dlsymun=undef, ccdlflags=' '
cccdlflags=' ', lddlflags=' -bundle -undefined dynamic_lookup -L/opt/local/lib -fstack-protector'
Characteristics of this binary (from libperl):
Compile-time options: HAS_TIMES PERLIO_LAYERS PERL_DONT_CREATE_GVSV
PERL_HASH_FUNC_ONE_AT_A_TIME_HARD PERL_MALLOC_WRAP
PERL_NEW_COPY_ON_WRITE PERL_PRESERVE_IVUV
PERL_USE_DEVEL USE_64_BIT_ALL USE_64_BIT_INT
USE_LARGE_FILES USE_LOCALE USE_LOCALE_COLLATE
USE_LOCALE_CTYPE USE_LOCALE_NUMERIC USE_LOCALE_TIME
USE_PERLIO USE_PERL_ATOF
Built under darwin
Compiled at Dec 20 2014 10:50:52
%ENV:
PERL5LIB="/Users/ether/.perlbrew/libs/21.7@std/lib/perl5"
PERLBREW_BASHRC_VERSION="0.71"
PERLBREW_HOME="/Users/ether/.perlbrew"
PERLBREW_LIB="std"
PERLBREW_MANPATH="/Users/ether/.perlbrew/libs/21.7@std/man:/Users/ether/perl5/perlbrew/perls/21.7/man"
PERLBREW_PATH="/Users/ether/.perlbrew/libs/21.7@std/bin:/Users/ether/perl5/perlbrew/bin:/Users/ether/perl5/perlbrew/perls/21.7/bin"
PERLBREW_PERL="21.7"
PERLBREW_ROOT="/Users/ether/perl5/perlbrew"
PERLBREW_VERSION="0.72"
PERLDOC_PAGER="less -sicMr"
PERL_AUTOINSTALL_PREFER_CPAN="1"
PERL_INSTALL_QUIET="1"
PERL_LOCAL_LIB_ROOT="/Users/ether/.perlbrew/libs/21.7@std"
PERL_MB_OPT="--install_base /Users/ether/.perlbrew/libs/21.7@std"
PERL_MM_OPT="INSTALL_BASE=/Users/ether/.perlbrew/libs/21.7@std"
@INC:
/Users/ether/.perlbrew/libs/21.7@std/lib/perl5/darwin-2level
/Users/ether/.perlbrew/libs/21.7@std/lib/perl5
/Users/ether/perl5/perlbrew/perls/21.7/lib/site_perl/5.21.7/darwin-2level
/Users/ether/perl5/perlbrew/perls/21.7/lib/site_perl/5.21.7
/Users/ether/perl5/perlbrew/perls/21.7/lib/5.21.7/darwin-2level
/Users/ether/perl5/perlbrew/perls/21.7/lib/5.21.7
.