CatalystX-OAuth2 v0.001009 Perl 5 v5.26.0 amd64-freebsd

Status
Pass
From
Slaven Rezić (SREZIC)
Dist
CatalystX-OAuth2 v0.001009
Platform
Perl 5 v5.26.0 amd64-freebsd
Date
2017-12-13 20:28:28
ID
2db6fefa-e044-11e7-8bb4-a8c679afd3d6
This distribution has been tested as part of the CPAN Testers
project, supporting the Perl programming language.  See
http://wiki.cpantesters.org/ for more information or email
questions to cpan-testers-discuss@perl.org


--
Dear John Napiorkowski,

This is a computer-generated report for CatalystX-OAuth2-0.001009
on perl 5.26.0, created by CPAN-Reporter-1.2018.

Thank you for uploading your work to CPAN.  Congratulations!
All tests were successful.

Sections of this report:

    * Tester comments
    * Program output
    * Prerequisites
    * Environment and other context

------------------------------
TESTER COMMENTS
------------------------------

Additional comments from tester:

none provided

------------------------------
PROGRAM OUTPUT
------------------------------

Output from '/usr/bin/make test':

PERL_DL_NONLAZY=1 "/usr/perl5.26.0p/bin/perl" "-MExtUtils::Command::MM" "-MTest::Harness" "-e" "undef *Test::Harness::Switches; test_harness(0, 'blib/lib', 'blib/arch')" t/*.t t/integration/*.t t/unit/*.t
t/00-compile.t ........................................ ok
t/author-pod-syntax.t ................................. skipped: these tests are for testing by the author
t/author-synopsis.t ................................... skipped: these tests are for testing by the author
t/integration/100-client-access-protected-resource.t .. ok
[error] Attribute (client_id) is required at /usr/perl5.26.0p/lib/site_perl/5.26.0/amd64-freebsd/Moose/Object.pm line 24
	Moose::Object::new('CatalystX::OAuth2::Request::RequestAuth') called at /home/cpansand/.cpan/build/2017121321/CatalystX-OAuth2-0.001009-0/blib/lib/Catalyst/ActionRole/OAuth2/RequestAuth.pm line 21
	Catalyst::ActionRole::OAuth2::RequestAuth::try {...}  at /usr/perl5.26.0p/lib/site_perl/5.26.0/Try/Tiny.pm line 103
	eval {...} at /usr/perl5.26.0p/lib/site_perl/5.26.0/Try/Tiny.pm line 94
	Try::Tiny::try('CODE(0x4b8bbdf8)', 'Try::Tiny::Catch=REF(0x4b8ef9c0)') called at /home/cpansand/.cpan/build/2017121321/CatalystX-OAuth2-0.001009-0/blib/lib/Catalyst/ActionRole/OAuth2/RequestAuth.pm line 31
	Catalyst::ActionRole::OAuth2::RequestAuth::build_oauth2_request('Moose::Meta::Class::__ANON__::SERIAL::11=HASH(0x4b5f1510)', 'AuthServer::Controller::OAuth2::Provider=HASH(0x4b4ecfc0)', 'AuthServer=HASH(0x4b8102e8)') called at /home/cpansand/.cpan/build/2017121321/CatalystX-OAuth2-0.001009-0/blib/lib/CatalystX/OAuth2/ActionRole/RequestInjector.pm line 17
	Class::MOP::Class:::before('Moose::Meta::Class::__ANON__::SERIAL::11=HASH(0x4b5f1510)', 'AuthServer::Controller::OAuth2::Provider=HASH(0x4b4ecfc0)', 'AuthServer=HASH(0x4b8102e8)') called at /usr/perl5.26.0p/lib/site_perl/5.26.0/amd64-freebsd/Class/MOP/Method/Wrapped.pm line 27
	Moose::Meta::Class::__ANON__::SERIAL::11::_wrapped_execute('Moose::Meta::Class::__ANON__::SERIAL::11=HASH(0x4b5f1510)', 'AuthServer::Controller::OAuth2::Provider=HASH(0x4b4ecfc0)', 'AuthServer=HASH(0x4b8102e8)') called at /usr/perl5.26.0p/lib/site_perl/5.26.0/amd64-freebsd/Class/MOP/Method/Wrapped.pm line 95
	Moose::Meta::Class::__ANON__::SERIAL::11::execute('Moose::Meta::Class::__ANON__::SERIAL::11=HASH(0x4b5f1510)', 'AuthServer::Controller::OAuth2::Provider=HASH(0x4b4ecfc0)', 'AuthServer=HASH(0x4b8102e8)') called at /usr/perl5.26.0p/lib/site_perl/5.26.0/Catalyst.pm line 2052
	eval {...} at /usr/perl5.26.0p/lib/site_perl/5.26.0/Catalyst.pm line 2052
	Catalyst::execute('AuthServer=HASH(0x4b8102e8)', 'AuthServer::Controller::OAuth2::Provider', 'Moose::Meta::Class::__ANON__::SERIAL::11=HASH(0x4b5f1510)') called at /usr/perl5.26.0p/lib/site_perl/5.26.0/Catalyst/Action.pm line 353
	Catalyst::Action::dispatch('Moose::Meta::Class::__ANON__::SERIAL::11=HASH(0x4b5f1510)', 'AuthServer=HASH(0x4b8102e8)') called at /usr/perl5.26.0p/lib/site_perl/5.26.0/Catalyst/ActionChain.pm line 46
	Catalyst::ActionChain::dispatch('Catalyst::ActionChain=HASH(0x4b8ba780)', 'AuthServer=HASH(0x4b8102e8)') called at /usr/perl5.26.0p/lib/site_perl/5.26.0/Catalyst/Controller.pm line 171
	Catalyst::Controller::_ACTION('AuthServer::Controller::OAuth2::Provider=HASH(0x4b4ecfc0)', 'AuthServer=HASH(0x4b8102e8)') called at /usr/perl5.26.0p/lib/site_perl/5.26.0/Catalyst/Action.pm line 358
	Catalyst::Action::execute('Catalyst::Action=HASH(0x4b5eb378)', 'AuthServer::Controller::OAuth2::Provider=HASH(0x4b4ecfc0)', 'AuthServer=HASH(0x4b8102e8)') called at /usr/perl5.26.0p/lib/site_perl/5.26.0/Catalyst.pm line 2052
	eval {...} at /usr/perl5.26.0p/lib/site_perl/5.26.0/Catalyst.pm line 2052
	Catalyst::execute('AuthServer=HASH(0x4b8102e8)', 'AuthServer::Controller::OAuth2::Provider', 'Catalyst::Action=HASH(0x4b5eb378)') called at /usr/perl5.26.0p/lib/site_perl/5.26.0/Catalyst/Action.pm line 353
	Catalyst::Action::dispatch('Catalyst::Action=HASH(0x4b5eb378)', 'AuthServer=HASH(0x4b8102e8)') called at /usr/perl5.26.0p/lib/site_perl/5.26.0/Catalyst/Dispatcher.pm line 262
	Catalyst::Dispatcher::_do_forward('Catalyst::Dispatcher=HASH(0x47bccf30)', 'forward', 'AuthServer=HASH(0x4b8102e8)', '_ACTION') called at /usr/perl5.26.0p/lib/site_perl/5.26.0/Catalyst/Dispatcher.pm line 242
	Catalyst::Dispatcher::forward('Catalyst::Dispatcher=HASH(0x47bccf30)', 'AuthServer=HASH(0x4b8102e8)', '_ACTION') called at /usr/perl5.26.0p/lib/site_perl/5.26.0/Catalyst.pm line 477
	Catalyst::forward('AuthServer=HASH(0x4b8102e8)', '_ACTION') called at /usr/perl5.26.0p/lib/site_perl/5.26.0/Catalyst/Controller.pm line 135
	Catalyst::Controller::_DISPATCH('AuthServer::Controller::OAuth2::Provider=HASH(0x4b4ecfc0)', 'AuthServer=HASH(0x4b8102e8)') called at /usr/perl5.26.0p/lib/site_perl/5.26.0/Catalyst/Action.pm line 358
	Catalyst::Action::execute('Catalyst::Action=HASH(0x4b5eb210)', 'AuthServer::Controller::OAuth2::Provider=HASH(0x4b4ecfc0)', 'AuthServer=HASH(0x4b8102e8)') called at /usr/perl5.26.0p/lib/site_perl/5.26.0/Catalyst.pm line 2052
	eval {...} at /usr/perl5.26.0p/lib/site_perl/5.26.0/Catalyst.pm line 2052
	Catalyst::execute('AuthServer=HASH(0x4b8102e8)', 'AuthServer::Controller::OAuth2::Provider', 'Catalyst::Action=HASH(0x4b5eb210)') called at /usr/perl5.26.0p/lib/site_perl/5.26.0/Catalyst/Action.pm line 353
	Catalyst::Action::dispatch('Catalyst::Action=HASH(0x4b5eb210)', 'AuthServer=HASH(0x4b8102e8)') called at /usr/perl5.26.0p/lib/site_perl/5.26.0/Catalyst/Dispatcher.pm line 262
	Catalyst::Dispatcher::_do_forward('Catalyst::Dispatcher=HASH(0x47bccf30)', 'forward', 'AuthServer=HASH(0x4b8102e8)', '/oauth2/provider/_DISPATCH') called at /usr/perl5.26.0p/lib/site_perl/5.26.0/Catalyst/Dispatcher.pm line 242
	Catalyst::Dispatcher::forward('Catalyst::Dispatcher=HASH(0x47bccf30)', 'AuthServer=HASH(0x4b8102e8)', '/oauth2/provider/_DISPATCH') called at /usr/perl5.26.0p/lib/site_perl/5.26.0/Catalyst.pm line 477
	Catalyst::forward('AuthServer=HASH(0x4b8102e8)', '/oauth2/provider/_DISPATCH') called at /usr/perl5.26.0p/lib/site_perl/5.26.0/Catalyst/Dispatcher.pm line 108
	Catalyst::Dispatcher::dispatch('Catalyst::Dispatcher=HASH(0x47bccf30)', 'AuthServer=HASH(0x4b8102e8)') called at /usr/perl5.26.0p/lib/site_perl/5.26.0/Catalyst.pm line 1998
	Catalyst::dispatch('AuthServer=HASH(0x4b8102e8)') called at /usr/perl5.26.0p/lib/site_perl/5.26.0/amd64-freebsd/Class/MOP/Method/Wrapped.pm line 56
	AuthServer::_wrapped_dispatch('AuthServer=HASH(0x4b8102e8)') called at /usr/perl5.26.0p/lib/site_perl/5.26.0/amd64-freebsd/Class/MOP/Method/Wrapped.pm line 95
	AuthServer::dispatch('AuthServer=HASH(0x4b8102e8)') called at /usr/perl5.26.0p/lib/site_perl/5.26.0/Catalyst.pm line 2393
	Catalyst::try {...}  at /usr/perl5.26.0p/lib/site_perl/5.26.0/Try/Tiny.pm line 103
	eval {...} at /usr/perl5.26.0p/lib/site_perl/5.26.0/Try/Tiny.pm line 94
	Try::Tiny::try('CODE(0x4b4fba98)', 'Try::Tiny::Catch=REF(0x4b8a15a0)') called at /usr/perl5.26.0p/lib/site_perl/5.26.0/Catalyst.pm line 2402
	Catalyst::handle_request('AuthServer', 'env', 'HASH(0x4b5bac60)', 'response_cb', 'CODE(0x4b585690)') called at /usr/perl5.26.0p/lib/site_perl/5.26.0/Catalyst/Engine.pm line 800
	Catalyst::Engine::__ANON__('CODE(0x4b585690)') called at /usr/perl5.26.0p/lib/site_perl/5.26.0/Plack/Middleware/HTTPExceptions.pm line 32
	Plack::Middleware::HTTPExceptions::try {...}  at /usr/perl5.26.0p/lib/site_perl/5.26.0/Try/Tiny.pm line 103
	eval {...} at /usr/perl5.26.0p/lib/site_perl/5.26.0/Try/Tiny.pm line 94
	Try::Tiny::try('CODE(0x4b43b2a0)', 'Try::Tiny::Catch=REF(0x4a5ed288)') called at /usr/perl5.26.0p/lib/site_perl/5.26.0/Plack/Middleware/HTTPExceptions.pm line 41
	Plack::Middleware::HTTPExceptions::__ANON__('CODE(0x4b5c32e8)') called at /usr/perl5.26.0p/lib/site_perl/5.26.0/Plack/Util.pm line 339
	Plack::Util::__ANON__('CODE(0x4b5aee70)') called at /usr/perl5.26.0p/lib/site_perl/5.26.0/Plack/Util.pm line 339
	Plack::Util::__ANON__('CODE(0x49845a50)') called at /usr/perl5.26.0p/lib/site_perl/5.26.0/Plack/Util.pm line 339
	Plack::Util::__ANON__('CODE(0x4b870fc0)') called at /usr/perl5.26.0p/lib/site_perl/5.26.0/HTTP/Message/PSGI.pm line 100
	HTTP::Message::PSGI::res_from_psgi('CODE(0x4b5eb1b0)') called at /usr/perl5.26.0p/lib/site_perl/5.26.0/HTTP/Message/PSGI.pm line 156
	HTTP::Response::from_psgi('HTTP::Response', 'CODE(0x4b5eb1b0)') called at /usr/perl5.26.0p/lib/site_perl/5.26.0/Plack/Test/MockHTTP.pm line 24
	Plack::Test::MockHTTP::try {...}  at /usr/perl5.26.0p/lib/site_perl/5.26.0/Try/Tiny.pm line 101
	eval {...} at /usr/perl5.26.0p/lib/site_perl/5.26.0/Try/Tiny.pm line 94
	Try::Tiny::try('CODE(0x4b764ed0)', 'Try::Tiny::Catch=REF(0x4b89f948)') called at /usr/perl5.26.0p/lib/site_perl/5.26.0/Plack/Test/MockHTTP.pm line 27
	Plack::Test::MockHTTP::request('Plack::Test::MockHTTP=HASH(0x4b8b16d8)', 'HTTP::Request=HASH(0x4b8b12d0)') called at /usr/perl5.26.0p/lib/site_perl/5.26.0/Plack/Test.pm line 38
	Plack::Test::__ANON__('HTTP::Request=HASH(0x4b8b12d0)') called at /usr/perl5.26.0p/lib/site_perl/5.26.0/Catalyst/Test.pm line 281
	Catalyst::Test::__ANON__('CODE(0x4b8b15a0)') called at /usr/perl5.26.0p/lib/site_perl/5.26.0/Plack/Test.pm line 38
	Plack::Test::test_psgi('app', 'CODE(0x4b8a1870)', 'mangle_response', 'CODE(0x4b860888)', 'app', 'CODE(0x4b83ff78)', 'client', 'CODE(0x4b8b1468)') called at /usr/perl5.26.0p/lib/site_perl/5.26.0/Catalyst/Test.pm line 284
	Catalyst::Test::_request('HASH(0x4b8b1060)', '/request') called at /usr/perl5.26.0p/lib/site_perl/5.26.0/Catalyst/Test.pm line 327
	Catalyst::Test::_local_request('AuthServer', '/request') called at /usr/perl5.26.0p/lib/site_perl/5.26.0/Catalyst/Test.pm line 32
	Catalyst::Test::__ANON__('/request') called at /usr/perl5.26.0p/lib/site_perl/5.26.0/Catalyst/Test.pm line 72
	Catalyst::Test::__ANON__('/request') called at t/unit/100-controller-role-provider.t line 30
bless( {
  "Plugin::ConfigLoader" => {},
  action => bless( {
    args_constraints => [],
    attributes => {
      Args => [
        0,
      ],
      Chained => [
        "/oauth2/provider/base",
      ],
      Does => [
        "Catalyst::ActionRole::OAuth2::RequestAuth",
      ],
      PathPart => [
        bless( do{\(my $o = "request")}, 'URI::_generic' ),
      ],
    },
    chain => [
      bless( {
        attributes => {
          CaptureArgs => [
            0,
          ],
          Chained => [
            "/",
          ],
          PathPart => [
            bless( do{\(my $o = "")}, 'URI::_generic' ),
          ],
        },
        class => "AuthServer::Controller::OAuth2::Provider",
        code => sub {
            package AuthServer::Controller::OAuth2::Provider;
            use warnings;
            use strict;
            
        },
        name => "base",
        namespace => "oauth2/provider",
        number_of_captures => 0,
        reverse => "oauth2/provider/base",
      }, 'Catalyst::Action' ),
      bless( {
        args_constraints => $VAR1->{action}{args_constraints},
        attributes => $VAR1->{action}{attributes},
        class => "AuthServer::Controller::OAuth2::Provider",
        code => sub {
            package AuthServer::Controller::OAuth2::Provider;
            use warnings;
            use strict;
            
        },
        enable_client_secret => 0,
        name => "request",
        namespace => "oauth2/provider",
        number_of_args => 0,
        reverse => "oauth2/provider/request",
      }, 'Moose::Meta::Class::__ANON__::SERIAL::11' ),
    ],
    class => "AuthServer::Controller::OAuth2::Provider",
    code => $VAR1->{action}{chain}[1]{code},
    enable_client_secret => 0,
    name => "request",
    namespace => "oauth2/provider",
    number_of_args => 0,
    reverse => "oauth2/provider/request",
  }, 'Catalyst::ActionChain' ),
  counter => {},
  home => "/home/cpansand/.cpan/build/2017121321/CatalystX-OAuth2-0.001009-0/t/lib/AuthServer",
  namespace => "oauth2/provider",
  request => bless( {
    _body => 0,
    _log => bless( {
      _body => undef,
      _psgi_errors => *::STDERR,
      abort => undef,
      autoflush => 1,
      level => 31,
    }, 'Catalyst::Log' ),
    _path => "request",
    _read_length => 0,
    _read_position => 0,
    _use_hash_multivalue => 0,
    action => "/oauth2/provider/request",
    address => "127.0.0.1",
    arguments => [],
    base => bless( do{\(my $o = "http://localhost/")}, 'URI::http' ),
    body_parameters => {},
    captures => [],
    cookies => {},
    data_handlers => {
      "application/json" => sub {
          package Catalyst;
          use warnings;
          use strict;
          my($fh, $req) = @_;
          my $parser = Class::Load::load_first_existing_class('JSON::MaybeXS', 'JSON');
          my $slurped;
          return eval {
              do {
                  local $/;
                  $slurped = $fh->getline;
                  $parser->can('decode_json')->($slurped)
              }
          } || 'Catalyst::Exception'->throw(sprintf(q[Error Parsing POST '%s', Error: %s], defined $slurped ? $slurped : 'undef', $@));
      },
      "application/x-www-form-urlencoded" => sub {
          package Catalyst;
          use warnings;
          use strict;
          my($fh, $req) = @_;
          my $params = $req->_use_hash_multivalue ? $req->body_parameters->mixed : $req->body_parameters;
          Class::Load::load_first_existing_class('CGI::Struct::XS', 'CGI::Struct')->can('build_cgi_struct')->($params);
      },
    },
    env => {
      CONTENT_LENGTH => 0,
      "Catalyst.Stash.v2" => sub {
          package Catalyst::Middleware::Stash;
          use warnings;
          use strict;
          if (@_) {
              my $new_stash = @_ > 1 ? {@_} : $_[0];
              croak('stash takes a hash or hashref') unless ref $new_stash;
              foreach my $key (keys %$new_stash) {
                  $stash->{$key} = $new_stash->{$key};
              }
          }
          $stash;
      },
      HTTP_HOST => "localhost",
      PATH_INFO => "/request",
      QUERY_STRING => "",
      REMOTE_ADDR => "127.0.0.1",
      REMOTE_HOST => "localhost",
      REMOTE_PORT => 59239,
      REQUEST_METHOD => "GET",
      REQUEST_URI => "/request",
      SCRIPT_NAME => "",
      SERVER_NAME => "localhost",
      SERVER_PORT => 80,
      SERVER_PROTOCOL => "HTTP/1.1",
      "plack.original_request_method" => "GET",
      "psgi.errors" => *::STDERR,
      "psgi.input" => \*{'HTTP::Message::PSGI::$input'},
      "psgi.multiprocess" => "",
      "psgi.multithread" => "",
      "psgi.nonblocking" => "",
      "psgi.run_once" => 1,
      "psgi.streaming" => 1,
      "psgi.url_scheme" => "http",
      "psgi.version" => [
        1,
        1,
      ],
    },
    headers => bless( {
      "::std_case" => {
        cookie => "Cookie",
      },
      "content-length" => 0,
      host => "localhost",
    }, 'HTTP::Headers' ),
    hostname => "localhost",
    match => "/oauth2/provider/request",
    method => "GET",
    parameters => {},
    protocol => "HTTP/1.1",
    query_keywords => "",
    query_parameters => {},
    remote_user => undef,
    secure => 0,
    uploads => {},
    uri => bless( do{\(my $o = "http://localhost/request")}, 'URI::http' ),
  }, 'Catalyst::Request' ),
  response => bless( {
    _context => $VAR1,
    _log => $VAR1->{request}{_log},
    body => "warning: response_type/client_id invalid or missing",
    cookies => {},
    encodable_content_type => qr/text|xml$|javascript$/,
    encoding => bless( {
      Name => "utf-8-strict",
      strict_utf8 => 1,
    }, 'Encode::utf8' ),
    finalized_headers => 1,
    headers => bless( {}, 'HTTP::Headers' ),
    status => 200,
  }, 'Catalyst::Response' ),
  root => bless( {
    dirs => [
      "",
      "home",
      "cpansand",
      ".cpan",
      "build",
      "2017121321",
      "CatalystX-OAuth2-0.001009-0",
      "t",
      "lib",
      "AuthServer",
      "root",
    ],
    file_spec_class => undef,
    volume => "",
  }, 'Path::Class::Dir' ),
  stack => [],
  stash => {},
  state => 1,
  stats => bless( {
    enable => 0,
    tree => bless( {
      _children => [],
      _depth => -1,
      _height => 1,
      _node => {
        t => [
          1513196854,
          677577,
        ],
      },
      _parent => "root",
      _uid => "0x4b5f1db0",
      _width => 1,
    }, 'Tree::Simple' ),
  }, 'Catalyst::Stats' ),
}, 'AuthServer' )
t/unit/100-controller-role-provider.t ................. ok
[error] Attribute (response_type) is required at /usr/perl5.26.0p/lib/site_perl/5.26.0/amd64-freebsd/Moose/Object.pm line 24
	Moose::Object::new('CatalystX::OAuth2::Request::RequestAuth') called at /home/cpansand/.cpan/build/2017121321/CatalystX-OAuth2-0.001009-0/blib/lib/Catalyst/ActionRole/OAuth2/RequestAuth.pm line 21
	Catalyst::ActionRole::OAuth2::RequestAuth::try {...}  at /usr/perl5.26.0p/lib/site_perl/5.26.0/Try/Tiny.pm line 103
	eval {...} at /usr/perl5.26.0p/lib/site_perl/5.26.0/Try/Tiny.pm line 94
	Try::Tiny::try('CODE(0x4bcdcb58)', 'Try::Tiny::Catch=REF(0x4bc896d8)') called at /home/cpansand/.cpan/build/2017121321/CatalystX-OAuth2-0.001009-0/blib/lib/Catalyst/ActionRole/OAuth2/RequestAuth.pm line 31
	Catalyst::ActionRole::OAuth2::RequestAuth::build_oauth2_request('Moose::Meta::Class::__ANON__::SERIAL::11=HASH(0x4ba1f180)', 'AuthServer::Controller::OAuth2::Provider=HASH(0x4b85a4c8)', 'AuthServer=HASH(0x4bc75a98)') called at /home/cpansand/.cpan/build/2017121321/CatalystX-OAuth2-0.001009-0/blib/lib/CatalystX/OAuth2/ActionRole/RequestInjector.pm line 17
	Class::MOP::Class:::before('Moose::Meta::Class::__ANON__::SERIAL::11=HASH(0x4ba1f180)', 'AuthServer::Controller::OAuth2::Provider=HASH(0x4b85a4c8)', 'AuthServer=HASH(0x4bc75a98)') called at /usr/perl5.26.0p/lib/site_perl/5.26.0/amd64-freebsd/Class/MOP/Method/Wrapped.pm line 27
	Moose::Meta::Class::__ANON__::SERIAL::11::_wrapped_execute('Moose::Meta::Class::__ANON__::SERIAL::11=HASH(0x4ba1f180)', 'AuthServer::Controller::OAuth2::Provider=HASH(0x4b85a4c8)', 'AuthServer=HASH(0x4bc75a98)') called at /usr/perl5.26.0p/lib/site_perl/5.26.0/amd64-freebsd/Class/MOP/Method/Wrapped.pm line 95
	Moose::Meta::Class::__ANON__::SERIAL::11::execute('Moose::Meta::Class::__ANON__::SERIAL::11=HASH(0x4ba1f180)', 'AuthServer::Controller::OAuth2::Provider=HASH(0x4b85a4c8)', 'AuthServer=HASH(0x4bc75a98)') called at /usr/perl5.26.0p/lib/site_perl/5.26.0/Catalyst.pm line 2052
	eval {...} at /usr/perl5.26.0p/lib/site_perl/5.26.0/Catalyst.pm line 2052
	Catalyst::execute('AuthServer=HASH(0x4bc75a98)', 'AuthServer::Controller::OAuth2::Provider', 'Moose::Meta::Class::__ANON__::SERIAL::11=HASH(0x4ba1f180)') called at /usr/perl5.26.0p/lib/site_perl/5.26.0/Catalyst/Action.pm line 353
	Catalyst::Action::dispatch('Moose::Meta::Class::__ANON__::SERIAL::11=HASH(0x4ba1f180)', 'AuthServer=HASH(0x4bc75a98)') called at /usr/perl5.26.0p/lib/site_perl/5.26.0/Catalyst/ActionChain.pm line 46
	Catalyst::ActionChain::dispatch('Catalyst::ActionChain=HASH(0x4bcda4b0)', 'AuthServer=HASH(0x4bc75a98)') called at /usr/perl5.26.0p/lib/site_perl/5.26.0/Catalyst/Controller.pm line 171
	Catalyst::Controller::_ACTION('AuthServer::Controller::OAuth2::Provider=HASH(0x4b85a4c8)', 'AuthServer=HASH(0x4bc75a98)') called at /usr/perl5.26.0p/lib/site_perl/5.26.0/Catalyst/Action.pm line 358
	Catalyst::Action::execute('Catalyst::Action=HASH(0x4ba1bae0)', 'AuthServer::Controller::OAuth2::Provider=HASH(0x4b85a4c8)', 'AuthServer=HASH(0x4bc75a98)') called at /usr/perl5.26.0p/lib/site_perl/5.26.0/Catalyst.pm line 2052
	eval {...} at /usr/perl5.26.0p/lib/site_perl/5.26.0/Catalyst.pm line 2052
	Catalyst::execute('AuthServer=HASH(0x4bc75a98)', 'AuthServer::Controller::OAuth2::Provider', 'Catalyst::Action=HASH(0x4ba1bae0)') called at /usr/perl5.26.0p/lib/site_perl/5.26.0/Catalyst/Action.pm line 353
	Catalyst::Action::dispatch('Catalyst::Action=HASH(0x4ba1bae0)', 'AuthServer=HASH(0x4bc75a98)') called at /usr/perl5.26.0p/lib/site_perl/5.26.0/Catalyst/Dispatcher.pm line 262
	Catalyst::Dispatcher::_do_forward('Catalyst::Dispatcher=HASH(0x461a8480)', 'forward', 'AuthServer=HASH(0x4bc75a98)', '_ACTION') called at /usr/perl5.26.0p/lib/site_perl/5.26.0/Catalyst/Dispatcher.pm line 242
	Catalyst::Dispatcher::forward('Catalyst::Dispatcher=HASH(0x461a8480)', 'AuthServer=HASH(0x4bc75a98)', '_ACTION') called at /usr/perl5.26.0p/lib/site_perl/5.26.0/Catalyst.pm line 477
	Catalyst::forward('AuthServer=HASH(0x4bc75a98)', '_ACTION') called at /usr/perl5.26.0p/lib/site_perl/5.26.0/Catalyst/Controller.pm line 135
	Catalyst::Controller::_DISPATCH('AuthServer::Controller::OAuth2::Provider=HASH(0x4b85a4c8)', 'AuthServer=HASH(0x4bc75a98)') called at /usr/perl5.26.0p/lib/site_perl/5.26.0/Catalyst/Action.pm line 358
	Catalyst::Action::execute('Catalyst::Action=HASH(0x4ba15d68)', 'AuthServer::Controller::OAuth2::Provider=HASH(0x4b85a4c8)', 'AuthServer=HASH(0x4bc75a98)') called at /usr/perl5.26.0p/lib/site_perl/5.26.0/Catalyst.pm line 2052
	eval {...} at /usr/perl5.26.0p/lib/site_perl/5.26.0/Catalyst.pm line 2052
	Catalyst::execute('AuthServer=HASH(0x4bc75a98)', 'AuthServer::Controller::OAuth2::Provider', 'Catalyst::Action=HASH(0x4ba15d68)') called at /usr/perl5.26.0p/lib/site_perl/5.26.0/Catalyst/Action.pm line 353
	Catalyst::Action::dispatch('Catalyst::Action=HASH(0x4ba15d68)', 'AuthServer=HASH(0x4bc75a98)') called at /usr/perl5.26.0p/lib/site_perl/5.26.0/Catalyst/Dispatcher.pm line 262
	Catalyst::Dispatcher::_do_forward('Catalyst::Dispatcher=HASH(0x461a8480)', 'forward', 'AuthServer=HASH(0x4bc75a98)', '/oauth2/provider/_DISPATCH') called at /usr/perl5.26.0p/lib/site_perl/5.26.0/Catalyst/Dispatcher.pm line 242
	Catalyst::Dispatcher::forward('Catalyst::Dispatcher=HASH(0x461a8480)', 'AuthServer=HASH(0x4bc75a98)', '/oauth2/provider/_DISPATCH') called at /usr/perl5.26.0p/lib/site_perl/5.26.0/Catalyst.pm line 477
	Catalyst::forward('AuthServer=HASH(0x4bc75a98)', '/oauth2/provider/_DISPATCH') called at /usr/perl5.26.0p/lib/site_perl/5.26.0/Catalyst/Dispatcher.pm line 108
	Catalyst::Dispatcher::dispatch('Catalyst::Dispatcher=HASH(0x461a8480)', 'AuthServer=HASH(0x4bc75a98)') called at /usr/perl5.26.0p/lib/site_perl/5.26.0/Catalyst.pm line 1998
	Catalyst::dispatch('AuthServer=HASH(0x4bc75a98)') called at /usr/perl5.26.0p/lib/site_perl/5.26.0/amd64-freebsd/Class/MOP/Method/Wrapped.pm line 56
	AuthServer::_wrapped_dispatch('AuthServer=HASH(0x4bc75a98)') called at /usr/perl5.26.0p/lib/site_perl/5.26.0/amd64-freebsd/Class/MOP/Method/Wrapped.pm line 95
	AuthServer::dispatch('AuthServer=HASH(0x4bc75a98)') called at /usr/perl5.26.0p/lib/site_perl/5.26.0/Catalyst.pm line 2393
	Catalyst::try {...}  at /usr/perl5.26.0p/lib/site_perl/5.26.0/Try/Tiny.pm line 103
	eval {...} at /usr/perl5.26.0p/lib/site_perl/5.26.0/Try/Tiny.pm line 94
	Try::Tiny::try('CODE(0x4b952f00)', 'Try::Tiny::Catch=REF(0x4ab6a4b0)') called at /usr/perl5.26.0p/lib/site_perl/5.26.0/Catalyst.pm line 2402
	Catalyst::handle_request('AuthServer', 'env', 'HASH(0x49887690)', 'response_cb', 'CODE(0x4b9ddbe8)') called at /usr/perl5.26.0p/lib/site_perl/5.26.0/Catalyst/Engine.pm line 800
	Catalyst::Engine::__ANON__('CODE(0x4b9ddbe8)') called at /usr/perl5.26.0p/lib/site_perl/5.26.0/Plack/Middleware/HTTPExceptions.pm line 32
	Plack::Middleware::HTTPExceptions::try {...}  at /usr/perl5.26.0p/lib/site_perl/5.26.0/Try/Tiny.pm line 103
	eval {...} at /usr/perl5.26.0p/lib/site_perl/5.26.0/Try/Tiny.pm line 94
	Try::Tiny::try('CODE(0x4bc291b0)', 'Try::Tiny::Catch=REF(0x4ab1cc48)') called at /usr/perl5.26.0p/lib/site_perl/5.26.0/Plack/Middleware/HTTPExceptions.pm line 41
	Plack::Middleware::HTTPExceptions::__ANON__('CODE(0x4a9faa20)') called at /usr/perl5.26.0p/lib/site_perl/5.26.0/Plack/Util.pm line 339
	Plack::Util::__ANON__('CODE(0x4b41eb70)') called at /usr/perl5.26.0p/lib/site_perl/5.26.0/Plack/Util.pm line 339
	Plack::Util::__ANON__('CODE(0x4bb50690)') called at /usr/perl5.26.0p/lib/site_perl/5.26.0/Plack/Util.pm line 339
	Plack::Util::__ANON__('CODE(0x4b9522a0)') called at /usr/perl5.26.0p/lib/site_perl/5.26.0/HTTP/Message/PSGI.pm line 100
	HTTP::Message::PSGI::res_from_psgi('CODE(0x4a2d1258)') called at /usr/perl5.26.0p/lib/site_perl/5.26.0/HTTP/Message/PSGI.pm line 156
	HTTP::Response::from_psgi('HTTP::Response', 'CODE(0x4a2d1258)') called at /usr/perl5.26.0p/lib/site_perl/5.26.0/Plack/Test/MockHTTP.pm line 24
	Plack::Test::MockHTTP::try {...}  at /usr/perl5.26.0p/lib/site_perl/5.26.0/Try/Tiny.pm line 101
	eval {...} at /usr/perl5.26.0p/lib/site_perl/5.26.0/Try/Tiny.pm line 94
	Try::Tiny::try('CODE(0x4baf2fd8)', 'Try::Tiny::Catch=REF(0x420d5378)') called at /usr/perl5.26.0p/lib/site_perl/5.26.0/Plack/Test/MockHTTP.pm line 27
	Plack::Test::MockHTTP::request('Plack::Test::MockHTTP=HASH(0x4bc80120)', 'HTTP::Request=HASH(0x4bc75cd8)') called at /usr/perl5.26.0p/lib/site_perl/5.26.0/Plack/Test.pm line 38
	Plack::Test::__ANON__('HTTP::Request=HASH(0x4bc75cd8)') called at /usr/perl5.26.0p/lib/site_perl/5.26.0/Catalyst/Test.pm line 281
	Catalyst::Test::__ANON__('CODE(0x4bc75fa8)') called at /usr/perl5.26.0p/lib/site_perl/5.26.0/Plack/Test.pm line 38
	Plack::Test::test_psgi('mangle_response', 'CODE(0x4617d2e8)', 'app', 'CODE(0x4bc752a0)', 'app', 'CODE(0x4bc41108)', 'client', 'CODE(0x4bc75e70)') called at /usr/perl5.26.0p/lib/site_perl/5.26.0/Catalyst/Test.pm line 284
	Catalyst::Test::_request('HASH(0x4bc75a68)', '/request') called at /usr/perl5.26.0p/lib/site_perl/5.26.0/Catalyst/Test.pm line 327
	Catalyst::Test::_local_request('AuthServer', '/request') called at /usr/perl5.26.0p/lib/site_perl/5.26.0/Catalyst/Test.pm line 32
	Catalyst::Test::__ANON__('/request') called at /usr/perl5.26.0p/lib/site_perl/5.26.0/Catalyst/Test.pm line 72
	Catalyst::Test::__ANON__('/request') called at t/unit/200-actionrole-request-auth.t line 15
[error] Attribute (response_type) is required at /usr/perl5.26.0p/lib/site_perl/5.26.0/amd64-freebsd/Moose/Object.pm line 24
	Moose::Object::new('CatalystX::OAuth2::Request::RequestAuth') called at /home/cpansand/.cpan/build/2017121321/CatalystX-OAuth2-0.001009-0/blib/lib/Catalyst/ActionRole/OAuth2/RequestAuth.pm line 21
	Catalyst::ActionRole::OAuth2::RequestAuth::try {...}  at /usr/perl5.26.0p/lib/site_perl/5.26.0/Try/Tiny.pm line 103
	eval {...} at /usr/perl5.26.0p/lib/site_perl/5.26.0/Try/Tiny.pm line 94
	Try::Tiny::try('CODE(0x4bdc5030)', 'Try::Tiny::Catch=REF(0x4bcdd1c8)') called at /home/cpansand/.cpan/build/2017121321/CatalystX-OAuth2-0.001009-0/blib/lib/Catalyst/ActionRole/OAuth2/RequestAuth.pm line 31
	Catalyst::ActionRole::OAuth2::RequestAuth::build_oauth2_request('Moose::Meta::Class::__ANON__::SERIAL::11=HASH(0x4ba1f180)', 'AuthServer::Controller::OAuth2::Provider=HASH(0x4b85a4c8)', 'AuthServer=HASH(0x4bc75a98)') called at /home/cpansand/.cpan/build/2017121321/CatalystX-OAuth2-0.001009-0/blib/lib/CatalystX/OAuth2/ActionRole/RequestInjector.pm line 17
	Class::MOP::Class:::before('Moose::Meta::Class::__ANON__::SERIAL::11=HASH(0x4ba1f180)', 'AuthServer::Controller::OAuth2::Provider=HASH(0x4b85a4c8)', 'AuthServer=HASH(0x4bc75a98)') called at /usr/perl5.26.0p/lib/site_perl/5.26.0/amd64-freebsd/Class/MOP/Method/Wrapped.pm line 27
	Moose::Meta::Class::__ANON__::SERIAL::11::_wrapped_execute('Moose::Meta::Class::__ANON__::SERIAL::11=HASH(0x4ba1f180)', 'AuthServer::Controller::OAuth2::Provider=HASH(0x4b85a4c8)', 'AuthServer=HASH(0x4bc75a98)') called at /usr/perl5.26.0p/lib/site_perl/5.26.0/amd64-freebsd/Class/MOP/Method/Wrapped.pm line 95
	Moose::Meta::Class::__ANON__::SERIAL::11::execute('Moose::Meta::Class::__ANON__::SERIAL::11=HASH(0x4ba1f180)', 'AuthServer::Controller::OAuth2::Provider=HASH(0x4b85a4c8)', 'AuthServer=HASH(0x4bc75a98)') called at /usr/perl5.26.0p/lib/site_perl/5.26.0/Catalyst.pm line 2052
	eval {...} at /usr/perl5.26.0p/lib/site_perl/5.26.0/Catalyst.pm line 2052
	Catalyst::execute('AuthServer=HASH(0x4bc75a98)', 'AuthServer::Controller::OAuth2::Provider', 'Moose::Meta::Class::__ANON__::SERIAL::11=HASH(0x4ba1f180)') called at /usr/perl5.26.0p/lib/site_perl/5.26.0/Catalyst/Action.pm line 353
	Catalyst::Action::dispatch('Moose::Meta::Class::__ANON__::SERIAL::11=HASH(0x4ba1f180)', 'AuthServer=HASH(0x4bc75a98)') called at /usr/perl5.26.0p/lib/site_perl/5.26.0/Catalyst/ActionChain.pm line 46
	Catalyst::ActionChain::dispatch('Catalyst::ActionChain=HASH(0x4bcda4b0)', 'AuthServer=HASH(0x4bc75a98)') called at /usr/perl5.26.0p/lib/site_perl/5.26.0/Catalyst/Controller.pm line 171
	Catalyst::Controller::_ACTION('AuthServer::Controller::OAuth2::Provider=HASH(0x4b85a4c8)', 'AuthServer=HASH(0x4bc75a98)') called at /usr/perl5.26.0p/lib/site_perl/5.26.0/Catalyst/Action.pm line 358
	Catalyst::Action::execute('Catalyst::Action=HASH(0x4ba1bae0)', 'AuthServer::Controller::OAuth2::Provider=HASH(0x4b85a4c8)', 'AuthServer=HASH(0x4bc75a98)') called at /usr/perl5.26.0p/lib/site_perl/5.26.0/Catalyst.pm line 2052
	eval {...} at /usr/perl5.26.0p/lib/site_perl/5.26.0/Catalyst.pm line 2052
	Catalyst::execute('AuthServer=HASH(0x4bc75a98)', 'AuthServer::Controller::OAuth2::Provider', 'Catalyst::Action=HASH(0x4ba1bae0)') called at /usr/perl5.26.0p/lib/site_perl/5.26.0/Catalyst/Action.pm line 353
	Catalyst::Action::dispatch('Catalyst::Action=HASH(0x4ba1bae0)', 'AuthServer=HASH(0x4bc75a98)') called at /usr/perl5.26.0p/lib/site_perl/5.26.0/Catalyst/Dispatcher.pm line 262
	Catalyst::Dispatcher::_do_forward('Catalyst::Dispatcher=HASH(0x461a8480)', 'forward', 'AuthServer=HASH(0x4bc75a98)', '_ACTION') called at /usr/perl5.26.0p/lib/site_perl/5.26.0/Catalyst/Dispatcher.pm line 242
	Catalyst::Dispatcher::forward('Catalyst::Dispatcher=HASH(0x461a8480)', 'AuthServer=HASH(0x4bc75a98)', '_ACTION') called at /usr/perl5.26.0p/lib/site_perl/5.26.0/Catalyst.pm line 477
	Catalyst::forward('AuthServer=HASH(0x4bc75a98)', '_ACTION') called at /usr/perl5.26.0p/lib/site_perl/5.26.0/Catalyst/Controller.pm line 135
	Catalyst::Controller::_DISPATCH('AuthServer::Controller::OAuth2::Provider=HASH(0x4b85a4c8)', 'AuthServer=HASH(0x4bc75a98)') called at /usr/perl5.26.0p/lib/site_perl/5.26.0/Catalyst/Action.pm line 358
	Catalyst::Action::execute('Catalyst::Action=HASH(0x4ba15d68)', 'AuthServer::Controller::OAuth2::Provider=HASH(0x4b85a4c8)', 'AuthServer=HASH(0x4bc75a98)') called at /usr/perl5.26.0p/lib/site_perl/5.26.0/Catalyst.pm line 2052
	eval {...} at /usr/perl5.26.0p/lib/site_perl/5.26.0/Catalyst.pm line 2052
	Catalyst::execute('AuthServer=HASH(0x4bc75a98)', 'AuthServer::Controller::OAuth2::Provider', 'Catalyst::Action=HASH(0x4ba15d68)') called at /usr/perl5.26.0p/lib/site_perl/5.26.0/Catalyst/Action.pm line 353
	Catalyst::Action::dispatch('Catalyst::Action=HASH(0x4ba15d68)', 'AuthServer=HASH(0x4bc75a98)') called at /usr/perl5.26.0p/lib/site_perl/5.26.0/Catalyst/Dispatcher.pm line 262
	Catalyst::Dispatcher::_do_forward('Catalyst::Dispatcher=HASH(0x461a8480)', 'forward', 'AuthServer=HASH(0x4bc75a98)', '/oauth2/provider/_DISPATCH') called at /usr/perl5.26.0p/lib/site_perl/5.26.0/Catalyst/Dispatcher.pm line 242
	Catalyst::Dispatcher::forward('Catalyst::Dispatcher=HASH(0x461a8480)', 'AuthServer=HASH(0x4bc75a98)', '/oauth2/provider/_DISPATCH') called at /usr/perl5.26.0p/lib/site_perl/5.26.0/Catalyst.pm line 477
	Catalyst::forward('AuthServer=HASH(0x4bc75a98)', '/oauth2/provider/_DISPATCH') called at /usr/perl5.26.0p/lib/site_perl/5.26.0/Catalyst/Dispatcher.pm line 108
	Catalyst::Dispatcher::dispatch('Catalyst::Dispatcher=HASH(0x461a8480)', 'AuthServer=HASH(0x4bc75a98)') called at /usr/perl5.26.0p/lib/site_perl/5.26.0/Catalyst.pm line 1998
	Catalyst::dispatch('AuthServer=HASH(0x4bc75a98)') called at /usr/perl5.26.0p/lib/site_perl/5.26.0/amd64-freebsd/Class/MOP/Method/Wrapped.pm line 56
	AuthServer::_wrapped_dispatch('AuthServer=HASH(0x4bc75a98)') called at /usr/perl5.26.0p/lib/site_perl/5.26.0/amd64-freebsd/Class/MOP/Method/Wrapped.pm line 95
	AuthServer::dispatch('AuthServer=HASH(0x4bc75a98)') called at t/unit/200-actionrole-request-auth.t line 19
[warn] Useless setting a header value after finalize_headers and the response callback has been called. Since we don't support tail headers this will not work as you might expect.
[warn] Useless setting a header value after finalize_headers and the response callback has been called. Since we don't support tail headers this will not work as you might expect.
t/unit/200-actionrole-request-auth.t .................. ok
[warn] Useless setting a header value after finalize_headers and the response callback has been called. Since we don't support tail headers this will not work as you might expect.
[warn] Useless setting a header value after finalize_headers and the response callback has been called. Since we don't support tail headers this will not work as you might expect.
[warn] Useless setting a header value after finalize_headers and the response callback has been called. Since we don't support tail headers this will not work as you might expect.
t/unit/300-actionrole-grant-auth.t .................... ok
t/unit/400-actionrole-auth-token-via-auth-grant.t ..... ok
t/unit/500-actionrole-auth-token-via-refresh-token.t .. ok
[warn] Useless setting a header value after finalize_headers and the response callback has been called. Since we don't support tail headers this will not work as you might expect.
t/unit/600-actionrole-protected-resource.t ............ ok
[error] No default action defined
[warn] Useless setting a header value after finalize_headers and the response callback has been called. Since we don't support tail headers this will not work as you might expect.
[error] No default action defined
t/unit/700-client.t ................................... ok
All tests successful.
Files=11, Tests=153, 15 wallclock secs ( 0.00 usr  0.05 sys +  2.48 cusr  4.78 csys =  7.30 CPU)
Result: PASS

------------------------------
PREREQUISITES
------------------------------

Prerequisite modules loaded:

requires:

    Module                                   Need    Have      
    ---------------------------------------- ------- ----------
    base                                     0       2.25      
    Class::Load                              0       0.24      
    DBIx::Class                              0       0.082840  
    DBIx::Class::ResultSet                   0       0         
    DBIx::Class::Schema                      0       0         
    HTTP::Request::Common                    0       6.13      
    JSON::Any                                0       1.39      
    LWP::UserAgent                           0       6.29      
    Moose                                    0       2.2008    
    Moose::Role                              0       2.2008    
    Moose::Util                              0       2.2008    
    Moose::Util::TypeConstraints             0       2.2008    
    MooseX::NonMoose                         0       0.26      
    MooseX::SetOnce                          0       0.200002  
    MooseX::Types::Common::String            0       0.001014  
    parent                                   0       0.236     
    perl                                     5.006   5.026000  
    Scalar::Util                             0       1.49      
    strict                                   0       1.11      
    Try::Tiny                                0       0.28      
    URI                                      0       1.71      
    warnings                                 0       1.37      

build_requires:

    Module                                   Need    Have      
    ---------------------------------------- ------- ----------
    blib                                     1.01    1.06      
    Catalyst                                 0       5.90115   
    Catalyst::Controller                     0       0         
    Catalyst::Controller::ActionRole         0       0.17      
    Catalyst::Model::DBIC::Schema            0       0.65      
    Catalyst::Plugin::Authentication         0       0.10023   
    Catalyst::Plugin::ConfigLoader           0       0.34      
    Catalyst::Plugin::Session                0       0.40      
    Catalyst::Plugin::Session::State::Cookie 0       0.17      
    Catalyst::Test                           0       0         
    Devel::Dwarn                             0       0         
    ExtUtils::MakeMaker                      0       7.30      
    File::Spec                               0       3.67      
    HTTP::Request                            0       6.13      
    IO::Handle                               0       1.36      
    IPC::Open3                               0       1.20      
    lib                                      0       0.64      
    namespace::autoclean                     0       0.28      
    Plack::Builder                           0       0         
    Plack::Test                              0       0         
    SQL::Translator                          0.11006 0.11023   
    strictures                               1       2.000003  
    Test::Exception                          0       0.43      
    Test::MockObject                         0       1.20161202
    Test::More                               0       1.302120  
    Test::WWW::Mechanize::PSGI               0       0.38      

configure_requires:

    Module                                   Need    Have      
    ---------------------------------------- ------- ----------
    ExtUtils::MakeMaker                      0       7.30      


------------------------------
ENVIRONMENT AND OTHER CONTEXT
------------------------------

Environment variables:

    LC_ALL = de_DE.ISO8859-1
    PATH = /usr/local/bin:/usr/bin:/bin:/usr/local/sbin:/usr/sbin:/sbin:/home/cpansand/bin/freebsd10.3:/home/cpansand/bin/sh:/home/cpansand/bin:/usr/games:/home/cpansand/devel:/home/eserte/src/srezic-misc/scripts
    PERL5LIB = /home/cpansand/.cpan/build/2017121321/File-PCAP-v0.0.6-0/blib/arch:/home/cpansand/.cpan/build/2017121321/File-PCAP-v0.0.6-0/blib/lib:/home/cpansand/.cpan/build/2017121321/List-SomeUtils-0.57-0/blib/arch:/home/cpansand/.cpan/build/2017121321/List-SomeUtils-0.57-0/blib/lib:/home/cpansand/.cpan/build/2017121321/List-SomeUtils-XS-0.56-0/blib/arch:/home/cpansand/.cpan/build/2017121321/List-SomeUtils-XS-0.56-0/blib/lib:/home/cpansand/.cpan/build/2017121321/MooX-Cmd-0.016_001-0/blib/arch:/home/cpansand/.cpan/build/2017121321/MooX-Cmd-0.016_001-0/blib/lib
    PERL5OPT = 
    PERL5_CPANPLUS_IS_RUNNING = 35237
    PERL5_CPAN_IS_RUNNING = 35237
    PERL5_CPAN_IS_RUNNING_IN_RECURSION = 18458,35237
    PERLDOC = -MPod::Perldoc::ToTextOverstrike
    PERL_BATCH = yes
    PERL_CANARY_STABILITY_NOPROMPT = 1
    PERL_CPAN_REPORTER_CONFIG = /var/tmp/cpansmoker-1023/2017121318/cpanreporter_000_config.ini
    PERL_EXTUTILS_AUTOINSTALL = --defaultdeps
    PERL_USE_UNSAFE_INC = 1
    SHELL = /usr/local/bin/zsh
    TERM = screen
    TMPDIR = /var/tmp/cpansmoker-1023/2017121318

Perl special variables (and OS-specific diagnostics, for MSWin32):

    $^X = /usr/perl5.26.0p/bin/perl
    $UID/$EUID = 1023 / 1023
    $GID = 1023 1023
    $EGID = 1023 1023

Perl module toolchain versions installed:

    Module              Have    
    ------------------- --------
    CPAN                2.18    
    CPAN::Meta          2.150010
    Cwd                 3.67    
    ExtUtils::CBuilder  0.280230
    ExtUtils::Command   7.30    
    ExtUtils::Install   2.14    
    ExtUtils::MakeMaker 7.30    
    ExtUtils::Manifest  1.70    
    ExtUtils::ParseXS   3.34    
    File::Spec          3.67    
    JSON                2.94    
    JSON::PP            2.94    
    Module::Build       0.4224  
    Module::Signature   0.81    
    Parse::CPAN::Meta   2.150010
    Test::Harness       3.39    
    Test::More          1.302120
    YAML                1.24    
    YAML::Syck          1.30    
    version             0.9917  


--

Summary of my perl5 (revision 5 version 26 subversion 0) configuration:
   
  Platform:
    osname=freebsd
    osvers=10.3-release-p11
    archname=amd64-freebsd
    uname='freebsd cvrsnica-freebsd-101.herceg.de 10.3-release-p11 freebsd 10.3-release-p11 #0: mon oct 24 18:49:24 utc 2016 root@amd64-builder.daemonology.net:usrobjusrsrcsysgeneric amd64 '
    config_args='-ds -e -Dprefix=/usr/perl5.26.0p -Dcf_email=srezic@cpan.org -Doptimize=-O2 -pipe'
    hint=recommended
    useposix=true
    d_sigaction=define
    useithreads=undef
    usemultiplicity=undef
    use64bitint=define
    use64bitall=define
    uselongdouble=undef
    usemymalloc=n
    default_inc_excludes_dot=define
    bincompat5005=undef
  Compiler:
    cc='cc'
    ccflags ='-DHAS_FPSETMASK -DHAS_FLOATINGPOINT_H -fno-strict-aliasing -pipe -fstack-protector -I/usr/local/include -D_FORTIFY_SOURCE=2'
    optimize='-O2 -pipe'
    cppflags='-DHAS_FPSETMASK -DHAS_FLOATINGPOINT_H -fno-strict-aliasing -pipe -fstack-protector -I/usr/local/include'
    ccversion=''
    gccversion='4.2.1 Compatible FreeBSD Clang 3.4.1 (tags/RELEASE_34/dot1-final 208032)'
    gccosandvers=''
    intsize=4
    longsize=8
    ptrsize=8
    doublesize=8
    byteorder=12345678
    doublekind=3
    d_longlong=define
    longlongsize=8
    d_longdbl=define
    longdblsize=16
    longdblkind=3
    ivtype='long'
    ivsize=8
    nvtype='double'
    nvsize=8
    Off_t='off_t'
    lseeksize=8
    alignbytes=8
    prototype=define
  Linker and Libraries:
    ld='cc'
    ldflags ='-pthread -Wl,-E  -fstack-protector -L/usr/local/lib'
    libpth=/usr/lib /usr/local/lib /usr/include/clang/3.4.1 /usr/lib
    libs=-lpthread -lgdbm -lm -lcrypt -lutil -lc -lelf
    perllibs=-lpthread -lm -lcrypt -lutil -lc -lelf
    libc=
    so=so
    useshrplib=false
    libperl=libperl.a
    gnulibc_version=''
  Dynamic Linking:
    dlsrc=dl_dlopen.xs
    dlext=so
    d_dlsymun=undef
    ccdlflags=' '
    cccdlflags='-DPIC -fPIC'
    lddlflags='-shared  -L/usr/local/lib -fstack-protector'


Characteristics of this binary (from libperl): 
  Compile-time options:
    HAS_TIMES
    PERLIO_LAYERS
    PERL_COPY_ON_WRITE
    PERL_DONT_CREATE_GVSV
    PERL_MALLOC_WRAP
    PERL_OP_PARENT
    PERL_PRESERVE_IVUV
    USE_64_BIT_ALL
    USE_64_BIT_INT
    USE_LARGE_FILES
    USE_LOCALE
    USE_LOCALE_COLLATE
    USE_LOCALE_CTYPE
    USE_LOCALE_NUMERIC
    USE_LOCALE_TIME
    USE_PERLIO
    USE_PERL_ATOF
  Built under freebsd
  Compiled at Jun  3 2017 22:58:33
  %ENV:
    PERL5LIB="/home/cpansand/.cpan/build/2017121321/File-PCAP-v0.0.6-0/blib/arch:/home/cpansand/.cpan/build/2017121321/File-PCAP-v0.0.6-0/blib/lib:/home/cpansand/.cpan/build/2017121321/List-SomeUtils-0.57-0/blib/arch:/home/cpansand/.cpan/build/2017121321/List-SomeUtils-0.57-0/blib/lib:/home/cpansand/.cpan/build/2017121321/List-SomeUtils-XS-0.56-0/blib/arch:/home/cpansand/.cpan/build/2017121321/List-SomeUtils-XS-0.56-0/blib/lib:/home/cpansand/.cpan/build/2017121321/MooX-Cmd-0.016_001-0/blib/arch:/home/cpansand/.cpan/build/2017121321/MooX-Cmd-0.016_001-0/blib/lib"
    PERL5OPT=""
    PERL5_CPANPLUS_IS_RUNNING="35237"
    PERL5_CPAN_IS_RUNNING="35237"
    PERL5_CPAN_IS_RUNNING_IN_RECURSION="18458,35237"
    PERLDOC="-MPod::Perldoc::ToTextOverstrike"
    PERL_BATCH="yes"
    PERL_CANARY_STABILITY_NOPROMPT="1"
    PERL_CPAN_REPORTER_CONFIG="/var/tmp/cpansmoker-1023/2017121318/cpanreporter_000_config.ini"
    PERL_EXTUTILS_AUTOINSTALL="--defaultdeps"
    PERL_USE_UNSAFE_INC="1"
  @INC:
    /home/cpansand/.cpan/build/2017121321/File-PCAP-v0.0.6-0/blib/arch
    /home/cpansand/.cpan/build/2017121321/File-PCAP-v0.0.6-0/blib/lib
    /home/cpansand/.cpan/build/2017121321/List-SomeUtils-0.57-0/blib/arch
    /home/cpansand/.cpan/build/2017121321/List-SomeUtils-0.57-0/blib/lib
    /home/cpansand/.cpan/build/2017121321/List-SomeUtils-XS-0.56-0/blib/arch
    /home/cpansand/.cpan/build/2017121321/List-SomeUtils-XS-0.56-0/blib/lib
    /home/cpansand/.cpan/build/2017121321/MooX-Cmd-0.016_001-0/blib/arch
    /home/cpansand/.cpan/build/2017121321/MooX-Cmd-0.016_001-0/blib/lib
    /usr/perl5.26.0p/lib/site_perl/5.26.0/amd64-freebsd
    /usr/perl5.26.0p/lib/site_perl/5.26.0
    /usr/perl5.26.0p/lib/5.26.0/amd64-freebsd
    /usr/perl5.26.0p/lib/5.26.0
    .