Mail-Mbox-MessageParser v1.5111 Perl 5 v5.28.0 armv6l-linux

Status
Pass
From
gregor herrmann
Dist
Mail-Mbox-MessageParser v1.5111
Platform
Perl 5 v5.28.0 armv6l-linux
Date
2018-07-12 21:18:53
ID
2da8d78c-8619-11e8-b6e4-cbc619ed3f6e
This distribution has been tested as part of the CPAN Testers
project, supporting the Perl programming language.  See
http://wiki.cpantesters.org/ for more information or email
questions to cpan-testers-discuss@perl.org


--
Dear David Coppit,

This is a computer-generated report for Mail-Mbox-MessageParser-1.5111
on perl 5.28.0, created by CPAN-Reporter-1.2018.

Thank you for uploading your work to CPAN.  Congratulations!
All tests were successful.

Sections of this report:

    * Tester comments
    * Program output
    * Prerequisites
    * Environment and other context

------------------------------
TESTER COMMENTS
------------------------------

Additional comments from tester:

this report is from an automated smoke testing program
and was not reviewed by a human for accuracy

------------------------------
PROGRAM OUTPUT
------------------------------

Output from '/usr/bin/make test':

PERL_DL_NONLAZY=1 "/srv/smoker/perl5/perlbrew/perls/perl-5.28.0/bin/perl" "-MExtUtils::Command::MM" "-MTest::Harness" "-e" "undef *Test::Harness::Switches; test_harness(1, 'blib/lib', 'blib/arch')" t/*.t
t/000_standard__compile.t ....... 
1..6
ok 1 - Compile test for blib/lib/Mail/Mbox/MessageParser.pm
ok 2 - Compile test for blib/lib/Mail/Mbox/MessageParser/Grep.pm
ok 3 - Compile test for blib/lib/Mail/Mbox/MessageParser/Perl.pm
ok 4 - Compile test for blib/lib/Mail/Mbox/MessageParser/MetaInfo.pm
ok 5 - Compile test for blib/lib/Mail/Mbox/MessageParser/Config.pm
ok 6 - Compile test for blib/lib/Mail/Mbox/MessageParser/Cache.pm
ok
t/000_standard__perl_critic.t ... skipped: Author test. Set $ENV{TEST_AUTHOR} to a true value to run.
t/000_standard__pod.t ........... 
1..6
ok 1 - POD test for blib/lib/Mail/Mbox/MessageParser.pm
ok 2 - POD test for blib/lib/Mail/Mbox/MessageParser/Grep.pm
ok 3 - POD test for blib/lib/Mail/Mbox/MessageParser/Perl.pm
ok 4 - POD test for blib/lib/Mail/Mbox/MessageParser/MetaInfo.pm
ok 5 - POD test for blib/lib/Mail/Mbox/MessageParser/Config.pm
ok 6 - POD test for blib/lib/Mail/Mbox/MessageParser/Cache.pm
ok
t/000_standard__pod_coverage.t .. 
1..6
ok 1 - Pod coverage on Mail::Mbox::MessageParser
ok 2 - Pod coverage on Mail::Mbox::MessageParser::Grep
ok 3 - Pod coverage on Mail::Mbox::MessageParser::Perl
ok 4 - Pod coverage on Mail::Mbox::MessageParser::MetaInfo
ok 5 - Pod coverage on Mail::Mbox::MessageParser::Config
ok 6 - Pod coverage on Mail::Mbox::MessageParser::Cache
ok
t/appended_mailbox.t ............ 
1..6
Testing modified mailbox with Perl implementation
Comparing /tmp/1LD_tqVbtM to t/mailboxes/mailarc-1.txt
Output /tmp/1LD_tqVbtM looks good.
ok 1 - Computing differences
Testing modified mailbox with Cache implementation
Comparing /tmp/NY20zgBprz to t/mailboxes/mailarc-1.txt
Output /tmp/NY20zgBprz looks good.
ok 2 - Computing differences
Testing modified mailbox with Grep implementation
ok 3 # skip GNU grep not available
Testing modified mailbox with Perl implementation
Comparing /tmp/RTo9pNtO6J to t/mailboxes/mailarc-1.txt
Output /tmp/RTo9pNtO6J looks good.
ok 4 - Computing differences
Testing modified mailbox with Cache implementation
Comparing /tmp/6vFeNDgsyJ to t/mailboxes/mailarc-1.txt
Output /tmp/6vFeNDgsyJ looks good.
ok 5 - Computing differences
Testing modified mailbox with Grep implementation
ok 6 # skip GNU grep not available
ok
t/bzip2.t ....................... 
1..1
Running test:
  "/bin/cat" "t/mailboxes/mailarc-2.txt.bz2" | "/bin/bzip2" -cd
Comparing /tmp/VzSeMuVm0y to t/results/mailarc-2.txt
Output /tmp/VzSeMuVm0y looks good.
Comparing /tmp/vXFCTygJbB to t/results/none
Output /tmp/vXFCTygJbB looks good.
ok 1 - Computing differences
ok
t/endline.t ..................... 
1..8
Testing filename: t/mailboxes/mailarc-1-dos.txt
ok 1 - Dos endline expected
ok 2 - Dos endline expected
ok 3 - Dos endline expected
ok 4 # skip GNU grep not available
Testing filename: t/mailboxes/mailarc-1.txt
ok 5 - Unix endline expected
ok 6 - Unix endline expected
ok 7 - Unix endline expected
ok 8 # skip GNU grep not available
ok
t/filehandle_compressed.t ....... 
1..16
Testing filename: t/mailboxes/mailarc-2.txt.bz2
Comparing /tmp/5KdRb1AYS6 to t/mailboxes/mailarc-2.txt
Output /tmp/5KdRb1AYS6 looks good.
ok 1 - Computing differences
Comparing /tmp/WkulzWMxE1 to t/mailboxes/mailarc-2.txt
Output /tmp/WkulzWMxE1 looks good.
ok 2 - Computing differences
Comparing /tmp/cqhlpBPMIw to t/mailboxes/mailarc-2.txt
Output /tmp/cqhlpBPMIw looks good.
ok 3 - Computing differences
ok 4 # skip GNU grep not available
Testing filename: t/mailboxes/mailarc-2.txt.gz
Comparing /tmp/_1m6HWp4HG to t/mailboxes/mailarc-2.txt
Output /tmp/_1m6HWp4HG looks good.
ok 5 - Computing differences
Comparing /tmp/aL7M5nxSbe to t/mailboxes/mailarc-2.txt
Output /tmp/aL7M5nxSbe looks good.
ok 6 - Computing differences
Comparing /tmp/V5DZkkUjjI to t/mailboxes/mailarc-2.txt
Output /tmp/V5DZkkUjjI looks good.
ok 7 - Computing differences
ok 8 # skip GNU grep not available
Testing filename: t/mailboxes/mailarc-2.txt.lz
ok 9 # skip lzip not available
ok 10 # skip lzip not available
ok 11 # skip lzip not available
ok 12 # skip lzip not available
Testing filename: t/mailboxes/mailarc-2.txt.xz
Comparing /tmp/P1vys456Jh to t/mailboxes/mailarc-2.txt
Output /tmp/P1vys456Jh looks good.
ok 13 - Computing differences
Comparing /tmp/2_nOgvtIYN to t/mailboxes/mailarc-2.txt
Output /tmp/2_nOgvtIYN looks good.
ok 14 - Computing differences
Comparing /tmp/ztLSZJ7SEv to t/mailboxes/mailarc-2.txt
Output /tmp/ztLSZJ7SEv looks good.
ok 15 - Computing differences
ok 16 # skip GNU grep not available
ok
t/filehandle_noncompressed.t .... 
1..44
Testing filename: t/mailboxes/binary_body.txt
Comparing /tmp/YYLzMj8kBH to t/mailboxes/binary_body.txt
Output /tmp/YYLzMj8kBH looks good.
ok 1 - Computing differences
Comparing /tmp/KjHgw6U9pq to t/mailboxes/binary_body.txt
Output /tmp/KjHgw6U9pq looks good.
ok 2 - Computing differences
Comparing /tmp/wCVwzfemtO to t/mailboxes/binary_body.txt
Output /tmp/wCVwzfemtO looks good.
ok 3 - Computing differences
ok 4 # skip GNU grep not available
Testing filename: t/mailboxes/hessbug.txt
Comparing /tmp/Rs2MU_8V77 to t/mailboxes/hessbug.txt
Output /tmp/Rs2MU_8V77 looks good.
ok 5 - Computing differences
Comparing /tmp/Mpnf2CFQGZ to t/mailboxes/hessbug.txt
Output /tmp/Mpnf2CFQGZ looks good.
ok 6 - Computing differences
Comparing /tmp/06jfJ2EhK7 to t/mailboxes/hessbug.txt
Output /tmp/06jfJ2EhK7 looks good.
ok 7 - Computing differences
ok 8 # skip GNU grep not available
Testing filename: t/mailboxes/invalid-boundaries.txt
Comparing /tmp/KTBGbtlY1u to t/mailboxes/invalid-boundaries.txt
Output /tmp/KTBGbtlY1u looks good.
ok 9 - Computing differences
Comparing /tmp/J6XU2HkXel to t/mailboxes/invalid-boundaries.txt
Output /tmp/J6XU2HkXel looks good.
ok 10 - Computing differences
Comparing /tmp/7ZQ8tNVZTj to t/mailboxes/invalid-boundaries.txt
Output /tmp/7ZQ8tNVZTj looks good.
ok 11 - Computing differences
ok 12 # skip GNU grep not available
Testing filename: t/mailboxes/mailarc-1-dos.txt
Comparing /tmp/e4Eh9x6f8B to t/mailboxes/mailarc-1-dos.txt
Output /tmp/e4Eh9x6f8B looks good.
ok 13 - Computing differences
Comparing /tmp/ecwBTldq7v to t/mailboxes/mailarc-1-dos.txt
Output /tmp/ecwBTldq7v looks good.
ok 14 - Computing differences
Comparing /tmp/51KPSCtuDi to t/mailboxes/mailarc-1-dos.txt
Output /tmp/51KPSCtuDi looks good.
ok 15 - Computing differences
ok 16 # skip GNU grep not available
Testing filename: t/mailboxes/mailarc-1.txt
Comparing /tmp/v1UmzHotG7 to t/mailboxes/mailarc-1.txt
Output /tmp/v1UmzHotG7 looks good.
ok 17 - Computing differences
Comparing /tmp/QDrb3lqI5H to t/mailboxes/mailarc-1.txt
Output /tmp/QDrb3lqI5H looks good.
ok 18 - Computing differences
Comparing /tmp/ggIa_5zlTf to t/mailboxes/mailarc-1.txt
Output /tmp/ggIa_5zlTf looks good.
ok 19 - Computing differences
ok 20 # skip GNU grep not available
Testing filename: t/mailboxes/mailarc-2.txt
Comparing /tmp/3QHdadswbg to t/mailboxes/mailarc-2.txt
Output /tmp/3QHdadswbg looks good.
ok 21 - Computing differences
Comparing /tmp/c6KoN1IHyx to t/mailboxes/mailarc-2.txt
Output /tmp/c6KoN1IHyx looks good.
ok 22 - Computing differences
Comparing /tmp/zifCvHdRER to t/mailboxes/mailarc-2.txt
Output /tmp/zifCvHdRER looks good.
ok 23 - Computing differences
ok 24 # skip GNU grep not available
Testing filename: t/mailboxes/mailarc-3.txt
Comparing /tmp/p6crZezKpr to t/mailboxes/mailarc-3.txt
Output /tmp/p6crZezKpr looks good.
ok 25 - Computing differences
Comparing /tmp/r7bWhV69nt to t/mailboxes/mailarc-3.txt
Output /tmp/r7bWhV69nt looks good.
ok 26 - Computing differences
Comparing /tmp/BjjHo9ghPj to t/mailboxes/mailarc-3.txt
Output /tmp/BjjHo9ghPj looks good.
ok 27 - Computing differences
ok 28 # skip GNU grep not available
Testing filename: t/mailboxes/mailseparators.txt
Comparing /tmp/QJ_9h_HlSb to t/mailboxes/mailseparators.txt
Output /tmp/QJ_9h_HlSb looks good.
ok 29 - Computing differences
Comparing /tmp/24i4_plDBv to t/mailboxes/mailseparators.txt
Output /tmp/24i4_plDBv looks good.
ok 30 - Computing differences
Comparing /tmp/kJUqlQUPO9 to t/mailboxes/mailseparators.txt
Output /tmp/kJUqlQUPO9 looks good.
ok 31 - Computing differences
ok 32 # skip GNU grep not available
Testing filename: t/mailboxes/malformed.txt
Comparing /tmp/DKczNwaBRp to t/mailboxes/malformed.txt
Output /tmp/DKczNwaBRp looks good.
ok 33 - Computing differences
Comparing /tmp/08MUPWxIys to t/mailboxes/malformed.txt
Output /tmp/08MUPWxIys looks good.
ok 34 - Computing differences
Comparing /tmp/QWlbLanjue to t/mailboxes/malformed.txt
Output /tmp/QWlbLanjue looks good.
ok 35 - Computing differences
ok 36 # skip GNU grep not available
Testing filename: t/mailboxes/newlines_at_beginning.txt
Comparing /tmp/9Vtkfc6xjB to t/mailboxes/newlines_at_beginning.txt
Output /tmp/9Vtkfc6xjB looks good.
ok 37 - Computing differences
Comparing /tmp/ofQWnXSHhW to t/mailboxes/newlines_at_beginning.txt
Output /tmp/ofQWnXSHhW looks good.
ok 38 - Computing differences
Comparing /tmp/nraVxuh8Pc to t/mailboxes/newlines_at_beginning.txt
Output /tmp/nraVxuh8Pc looks good.
ok 39 - Computing differences
ok 40 # skip GNU grep not available
Testing filename: t/mailboxes/vm-emacs.txt
Comparing /tmp/rZU1G0jri9 to t/mailboxes/vm-emacs.txt
Output /tmp/rZU1G0jri9 looks good.
ok 41 - Computing differences
Comparing /tmp/BNnmsddV2z to t/mailboxes/vm-emacs.txt
Output /tmp/BNnmsddV2z looks good.
ok 42 - Computing differences
Comparing /tmp/JvOeJXsW1K to t/mailboxes/vm-emacs.txt
Output /tmp/JvOeJXsW1K looks good.
ok 43 - Computing differences
ok 44 # skip GNU grep not available
ok
t/filename_compressed.t ......... 
1..4
Testing filename: t/mailboxes/mailarc-2.txt.bz2
Comparing /tmp/WJT954EqRm to t/mailboxes/mailarc-2.txt
Output /tmp/WJT954EqRm looks good.
ok 1 - Computing differences
Testing filename: t/mailboxes/mailarc-2.txt.gz
Comparing /tmp/QfOLMShViM to t/mailboxes/mailarc-2.txt
Output /tmp/QfOLMShViM looks good.
ok 2 - Computing differences
Testing filename: t/mailboxes/mailarc-2.txt.lz
ok 3 # skip lzip not available
Testing filename: t/mailboxes/mailarc-2.txt.xz
Comparing /tmp/iVJHvWcDNB to t/mailboxes/mailarc-2.txt
Output /tmp/iVJHvWcDNB looks good.
ok 4 - Computing differences
ok
t/filename_noncompressed.t ...... 
1..11
Testing filename: t/mailboxes/binary_body.txt
Comparing /tmp/Wb5MzAAgxb to t/mailboxes/binary_body.txt
Output /tmp/Wb5MzAAgxb looks good.
ok 1 - Computing differences
Testing filename: t/mailboxes/hessbug.txt
Comparing /tmp/VeQbo43f1l to t/mailboxes/hessbug.txt
Output /tmp/VeQbo43f1l looks good.
ok 2 - Computing differences
Testing filename: t/mailboxes/invalid-boundaries.txt
Comparing /tmp/4pu29f8ycu to t/mailboxes/invalid-boundaries.txt
Output /tmp/4pu29f8ycu looks good.
ok 3 - Computing differences
Testing filename: t/mailboxes/mailarc-1-dos.txt
Comparing /tmp/M1KZu5oOBp to t/mailboxes/mailarc-1-dos.txt
Output /tmp/M1KZu5oOBp looks good.
ok 4 - Computing differences
Testing filename: t/mailboxes/mailarc-1.txt
Comparing /tmp/b8ENyEqNYi to t/mailboxes/mailarc-1.txt
Output /tmp/b8ENyEqNYi looks good.
ok 5 - Computing differences
Testing filename: t/mailboxes/mailarc-2.txt
Comparing /tmp/Un7eOR_X8D to t/mailboxes/mailarc-2.txt
Output /tmp/Un7eOR_X8D looks good.
ok 6 - Computing differences
Testing filename: t/mailboxes/mailarc-3.txt
Comparing /tmp/RAfaMaIOIX to t/mailboxes/mailarc-3.txt
Output /tmp/RAfaMaIOIX looks good.
ok 7 - Computing differences
Testing filename: t/mailboxes/mailseparators.txt
Comparing /tmp/hio_KMS9o3 to t/mailboxes/mailseparators.txt
Output /tmp/hio_KMS9o3 looks good.
ok 8 - Computing differences
Testing filename: t/mailboxes/malformed.txt
Comparing /tmp/PBp5k7pbJF to t/mailboxes/malformed.txt
Output /tmp/PBp5k7pbJF looks good.
ok 9 - Computing differences
Testing filename: t/mailboxes/newlines_at_beginning.txt
Comparing /tmp/lmHNNaiGeb to t/mailboxes/newlines_at_beginning.txt
Output /tmp/lmHNNaiGeb looks good.
ok 10 - Computing differences
Testing filename: t/mailboxes/vm-emacs.txt
Comparing /tmp/6kVTaFB3e3 to t/mailboxes/vm-emacs.txt
Output /tmp/6kVTaFB3e3 looks good.
ok 11 - Computing differences
ok
t/grep.t ........................ 
1..4
Running test:
  unset LC_ALL LC_COLLATE LANG LC_CTYPE LC_MESSAGES; grep --extended-regexp --line-number --byte-offset --binary-files=text "^From [^:]+(:[0-9][0-9]){1,2}(  *([A-Z]{2,6}|[+-]?[0-9]{4})){1,3}( remote from .*)?
?$" t/mailboxes/mailarc-1.txt
ok 1 # skip 1
Running test:
  unset LC_ALL LC_COLLATE LANG LC_CTYPE LC_MESSAGES; grep --extended-regexp --line-number --byte-offset --binary-files=text "^From [^:]+(:[0-9][0-9]){1,2}(  *([A-Z]{2,6}|[+-]?[0-9]{4})){1,3}( remote from .*)?
?$" t/mailboxes/mailarc-2.txt
ok 2 # skip 1
Running test:
  unset LC_ALL LC_COLLATE LANG LC_CTYPE LC_MESSAGES; grep --extended-regexp --line-number --byte-offset --binary-files=text "^From [^:]+(:[0-9][0-9]){1,2}(  *([A-Z]{2,6}|[+-]?[0-9]{4})){1,3}( remote from .*)?
?$" t/mailboxes/mailarc-3.txt
ok 3 # skip 1
Running test:
  unset LC_ALL LC_COLLATE LANG LC_CTYPE LC_MESSAGES; grep --extended-regexp --line-number --byte-offset --binary-files=text "^From [^:]+(:[0-9][0-9]){1,2}(  *([A-Z]{2,6}|[+-]?[0-9]{4})){1,3}( remote from .*)?
?$" t/mailboxes/mailseparators.txt
ok 4 # skip 1
ok
t/gzip.t ........................ 
1..1
Running test:
  "/bin/cat" "t/mailboxes/mailarc-2.txt.gz" | "/bin/gzip" -cd
Comparing /tmp/6Gs2XTgbvU to t/results/mailarc-2.txt
Output /tmp/6Gs2XTgbvU looks good.
Comparing /tmp/hbKNklXaVD to t/results/none
Output /tmp/hbKNklXaVD looks good.
ok 1 - Computing differences
ok
t/length.t ...................... 
1..30
Testing filename: t/mailboxes/binary_body.txt
Comparing /tmp/2_BTKecHRj to t/results/length_binary_body.stdout
Output /tmp/2_BTKecHRj looks good.
ok 1 - Computing differences
Comparing /tmp/ZIao33liGB to t/results/length_binary_body.stdout
Output /tmp/ZIao33liGB looks good.
ok 2 - Computing differences
ok 3 # skip GNU grep not available
Testing filename: t/mailboxes/hessbug.txt
Comparing /tmp/cEdWFQcECS to t/results/length_hessbug.stdout
Output /tmp/cEdWFQcECS looks good.
ok 4 - Computing differences
Comparing /tmp/doLJU57Nso to t/results/length_hessbug.stdout
Output /tmp/doLJU57Nso looks good.
ok 5 - Computing differences
ok 6 # skip GNU grep not available
Testing filename: t/mailboxes/invalid-boundaries.txt
Comparing /tmp/usCHd239qI to t/results/length_invalid-boundaries.stdout
Output /tmp/usCHd239qI looks good.
ok 7 - Computing differences
Comparing /tmp/ncwEE6iNUM to t/results/length_invalid-boundaries.stdout
Output /tmp/ncwEE6iNUM looks good.
ok 8 - Computing differences
ok 9 # skip GNU grep not available
Testing filename: t/mailboxes/mailarc-1-dos.txt
Comparing /tmp/lklkKv97em to t/results/length_mailarc-1-dos.stdout
Output /tmp/lklkKv97em looks good.
ok 10 - Computing differences
Comparing /tmp/L6_eFjzzCa to t/results/length_mailarc-1-dos.stdout
Output /tmp/L6_eFjzzCa looks good.
ok 11 - Computing differences
ok 12 # skip GNU grep not available
Testing filename: t/mailboxes/mailarc-1.txt
Comparing /tmp/i078vocY5W to t/results/length_mailarc-1.stdout
Output /tmp/i078vocY5W looks good.
ok 13 - Computing differences
Comparing /tmp/6DkV0JhQnS to t/results/length_mailarc-1.stdout
Output /tmp/6DkV0JhQnS looks good.
ok 14 - Computing differences
ok 15 # skip GNU grep not available
Testing filename: t/mailboxes/mailarc-2.txt
Comparing /tmp/hRQwcTwPRM to t/results/length_mailarc-2.stdout
Output /tmp/hRQwcTwPRM looks good.
ok 16 - Computing differences
Comparing /tmp/G6HHck1zee to t/results/length_mailarc-2.stdout
Output /tmp/G6HHck1zee looks good.
ok 17 - Computing differences
ok 18 # skip GNU grep not available
Testing filename: t/mailboxes/mailarc-3.txt
Comparing /tmp/izgiiOYT5O to t/results/length_mailarc-3.stdout
Output /tmp/izgiiOYT5O looks good.
ok 19 - Computing differences
Comparing /tmp/qZpHtH1ZcO to t/results/length_mailarc-3.stdout
Output /tmp/qZpHtH1ZcO looks good.
ok 20 - Computing differences
ok 21 # skip GNU grep not available
Testing filename: t/mailboxes/mailseparators.txt
Comparing /tmp/0JqOqQKFV_ to t/results/length_mailseparators.stdout
Output /tmp/0JqOqQKFV_ looks good.
ok 22 - Computing differences
Comparing /tmp/pCy0l9PlwY to t/results/length_mailseparators.stdout
Output /tmp/pCy0l9PlwY looks good.
ok 23 - Computing differences
ok 24 # skip GNU grep not available
Testing filename: t/mailboxes/malformed.txt
Comparing /tmp/z1Lqm9LgoP to t/results/length_malformed.stdout
Output /tmp/z1Lqm9LgoP looks good.
ok 25 - Computing differences
Comparing /tmp/LnPAJOJM9f to t/results/length_malformed.stdout
Output /tmp/LnPAJOJM9f looks good.
ok 26 - Computing differences
ok 27 # skip GNU grep not available
Testing filename: t/mailboxes/newlines_at_beginning.txt
Comparing /tmp/bu6OwAwQ6J to t/results/length_newlines_at_beginning.stdout
Output /tmp/bu6OwAwQ6J looks good.
ok 28 - Computing differences
Comparing /tmp/g7fQLGwBBA to t/results/length_newlines_at_beginning.stdout
Output /tmp/g7fQLGwBBA looks good.
ok 29 - Computing differences
ok 30 # skip GNU grep not available
ok
t/line_number.t ................. 
1..30
Testing filename: t/mailboxes/binary_body.txt
Comparing /tmp/UbfQaBzffF to t/results/line_number_binary_body.stdout
Output /tmp/UbfQaBzffF looks good.
ok 1 - Computing differences
Comparing /tmp/EucXL0ksoz to t/results/line_number_binary_body.stdout
Output /tmp/EucXL0ksoz looks good.
ok 2 - Computing differences
ok 3 # skip GNU grep not available
Testing filename: t/mailboxes/hessbug.txt
Comparing /tmp/vKQoz9Q8ip to t/results/line_number_hessbug.stdout
Output /tmp/vKQoz9Q8ip looks good.
ok 4 - Computing differences
Comparing /tmp/EoFOTcSwyS to t/results/line_number_hessbug.stdout
Output /tmp/EoFOTcSwyS looks good.
ok 5 - Computing differences
ok 6 # skip GNU grep not available
Testing filename: t/mailboxes/invalid-boundaries.txt
Comparing /tmp/JaW2ub2eE8 to t/results/line_number_invalid-boundaries.stdout
Output /tmp/JaW2ub2eE8 looks good.
ok 7 - Computing differences
Comparing /tmp/VudKXYFHcu to t/results/line_number_invalid-boundaries.stdout
Output /tmp/VudKXYFHcu looks good.
ok 8 - Computing differences
ok 9 # skip GNU grep not available
Testing filename: t/mailboxes/mailarc-1-dos.txt
Comparing /tmp/tGR8NfJ2WC to t/results/line_number_mailarc-1-dos.stdout
Output /tmp/tGR8NfJ2WC looks good.
ok 10 - Computing differences
Comparing /tmp/RuxG8vjAoK to t/results/line_number_mailarc-1-dos.stdout
Output /tmp/RuxG8vjAoK looks good.
ok 11 - Computing differences
ok 12 # skip GNU grep not available
Testing filename: t/mailboxes/mailarc-1.txt
Comparing /tmp/VPbzCkqJr1 to t/results/line_number_mailarc-1.stdout
Output /tmp/VPbzCkqJr1 looks good.
ok 13 - Computing differences
Comparing /tmp/PLCl3xpdGy to t/results/line_number_mailarc-1.stdout
Output /tmp/PLCl3xpdGy looks good.
ok 14 - Computing differences
ok 15 # skip GNU grep not available
Testing filename: t/mailboxes/mailarc-2.txt
Comparing /tmp/DkNw_NwEJA to t/results/line_number_mailarc-2.stdout
Output /tmp/DkNw_NwEJA looks good.
ok 16 - Computing differences
Comparing /tmp/40OwlVhkAB to t/results/line_number_mailarc-2.stdout
Output /tmp/40OwlVhkAB looks good.
ok 17 - Computing differences
ok 18 # skip GNU grep not available
Testing filename: t/mailboxes/mailarc-3.txt
Comparing /tmp/zlbkSKdXfM to t/results/line_number_mailarc-3.stdout
Output /tmp/zlbkSKdXfM looks good.
ok 19 - Computing differences
Comparing /tmp/Z4xjuBsqQL to t/results/line_number_mailarc-3.stdout
Output /tmp/Z4xjuBsqQL looks good.
ok 20 - Computing differences
ok 21 # skip GNU grep not available
Testing filename: t/mailboxes/mailseparators.txt
Comparing /tmp/cgDRMEP5c_ to t/results/line_number_mailseparators.stdout
Output /tmp/cgDRMEP5c_ looks good.
ok 22 - Computing differences
Comparing /tmp/O07T5c3XXJ to t/results/line_number_mailseparators.stdout
Output /tmp/O07T5c3XXJ looks good.
ok 23 - Computing differences
ok 24 # skip GNU grep not available
Testing filename: t/mailboxes/malformed.txt
Comparing /tmp/pHu3zVoWv6 to t/results/line_number_malformed.stdout
Output /tmp/pHu3zVoWv6 looks good.
ok 25 - Computing differences
Comparing /tmp/DdG2TaL4ua to t/results/line_number_malformed.stdout
Output /tmp/DdG2TaL4ua looks good.
ok 26 - Computing differences
ok 27 # skip GNU grep not available
Testing filename: t/mailboxes/newlines_at_beginning.txt
Comparing /tmp/EWXg9Xis1X to t/results/line_number_newlines_at_beginning.stdout
Output /tmp/EWXg9Xis1X looks good.
ok 28 - Computing differences
Comparing /tmp/RrxZa473wt to t/results/line_number_newlines_at_beginning.stdout
Output /tmp/RrxZa473wt looks good.
ok 29 - Computing differences
ok 30 # skip GNU grep not available
ok
t/lzip.t ........................ 
1..1
Running test:
  "/bin/cat" "t/mailboxes/mailarc-2.txt.lz" | "lzip" -cd
ok 1 # skip lzip not available
ok
t/number.t ...................... 
1..30
Testing filename: t/mailboxes/binary_body.txt
Comparing /tmp/zqMlB9OPZa to t/results/number_binary_body.stdout
Output /tmp/zqMlB9OPZa looks good.
ok 1 - Computing differences
Comparing /tmp/O6fF8EuZVO to t/results/number_binary_body.stdout
Output /tmp/O6fF8EuZVO looks good.
ok 2 - Computing differences
ok 3 # skip GNU grep not available
Testing filename: t/mailboxes/hessbug.txt
Comparing /tmp/oUPJkzuUZK to t/results/number_hessbug.stdout
Output /tmp/oUPJkzuUZK looks good.
ok 4 - Computing differences
Comparing /tmp/WpG9G4PCX3 to t/results/number_hessbug.stdout
Output /tmp/WpG9G4PCX3 looks good.
ok 5 - Computing differences
ok 6 # skip GNU grep not available
Testing filename: t/mailboxes/invalid-boundaries.txt
Comparing /tmp/MRNsucL8X0 to t/results/number_invalid-boundaries.stdout
Output /tmp/MRNsucL8X0 looks good.
ok 7 - Computing differences
Comparing /tmp/S1690LTOzi to t/results/number_invalid-boundaries.stdout
Output /tmp/S1690LTOzi looks good.
ok 8 - Computing differences
ok 9 # skip GNU grep not available
Testing filename: t/mailboxes/mailarc-1-dos.txt
Comparing /tmp/i5CVm5VKg3 to t/results/number_mailarc-1-dos.stdout
Output /tmp/i5CVm5VKg3 looks good.
ok 10 - Computing differences
Comparing /tmp/61OTh3jta8 to t/results/number_mailarc-1-dos.stdout
Output /tmp/61OTh3jta8 looks good.
ok 11 - Computing differences
ok 12 # skip GNU grep not available
Testing filename: t/mailboxes/mailarc-1.txt
Comparing /tmp/DMnjrJ7lT9 to t/results/number_mailarc-1.stdout
Output /tmp/DMnjrJ7lT9 looks good.
ok 13 - Computing differences
Comparing /tmp/MRULgIX6Pf to t/results/number_mailarc-1.stdout
Output /tmp/MRULgIX6Pf looks good.
ok 14 - Computing differences
ok 15 # skip GNU grep not available
Testing filename: t/mailboxes/mailarc-2.txt
Comparing /tmp/PwsAkdHYvc to t/results/number_mailarc-2.stdout
Output /tmp/PwsAkdHYvc looks good.
ok 16 - Computing differences
Comparing /tmp/wGlAxn1TCs to t/results/number_mailarc-2.stdout
Output /tmp/wGlAxn1TCs looks good.
ok 17 - Computing differences
ok 18 # skip GNU grep not available
Testing filename: t/mailboxes/mailarc-3.txt
Comparing /tmp/FxRo6ZaerW to t/results/number_mailarc-3.stdout
Output /tmp/FxRo6ZaerW looks good.
ok 19 - Computing differences
Comparing /tmp/2j5pIU2x86 to t/results/number_mailarc-3.stdout
Output /tmp/2j5pIU2x86 looks good.
ok 20 - Computing differences
ok 21 # skip GNU grep not available
Testing filename: t/mailboxes/mailseparators.txt
Comparing /tmp/QjOyb_dCi_ to t/results/number_mailseparators.stdout
Output /tmp/QjOyb_dCi_ looks good.
ok 22 - Computing differences
Comparing /tmp/Sq9bMZxBtb to t/results/number_mailseparators.stdout
Output /tmp/Sq9bMZxBtb looks good.
ok 23 - Computing differences
ok 24 # skip GNU grep not available
Testing filename: t/mailboxes/malformed.txt
Comparing /tmp/sF5FCTeOxq to t/results/number_malformed.stdout
Output /tmp/sF5FCTeOxq looks good.
ok 25 - Computing differences
Comparing /tmp/9BjOtMo0kS to t/results/number_malformed.stdout
Output /tmp/9BjOtMo0kS looks good.
ok 26 - Computing differences
ok 27 # skip GNU grep not available
Testing filename: t/mailboxes/newlines_at_beginning.txt
Comparing /tmp/HOgsVhhEBR to t/results/number_newlines_at_beginning.stdout
Output /tmp/HOgsVhhEBR looks good.
ok 28 - Computing differences
Comparing /tmp/vIaigv8Nml to t/results/number_newlines_at_beginning.stdout
Output /tmp/vIaigv8Nml looks good.
ok 29 - Computing differences
ok 30 # skip GNU grep not available
ok
t/offset.t ...................... 
1..30
Testing filename: t/mailboxes/binary_body.txt
Comparing /tmp/C_36VYoEWq to t/results/offset_binary_body.stdout
Output /tmp/C_36VYoEWq looks good.
ok 1 - Computing differences
Comparing /tmp/SSwMm3HW7E to t/results/offset_binary_body.stdout
Output /tmp/SSwMm3HW7E looks good.
ok 2 - Computing differences
ok 3 # skip GNU grep not available
Testing filename: t/mailboxes/hessbug.txt
Comparing /tmp/J1siqbD5sS to t/results/offset_hessbug.stdout
Output /tmp/J1siqbD5sS looks good.
ok 4 - Computing differences
Comparing /tmp/xEaZGdQw9E to t/results/offset_hessbug.stdout
Output /tmp/xEaZGdQw9E looks good.
ok 5 - Computing differences
ok 6 # skip GNU grep not available
Testing filename: t/mailboxes/invalid-boundaries.txt
Comparing /tmp/Pz70htO_qT to t/results/offset_invalid-boundaries.stdout
Output /tmp/Pz70htO_qT looks good.
ok 7 - Computing differences
Comparing /tmp/pOZqyheZJW to t/results/offset_invalid-boundaries.stdout
Output /tmp/pOZqyheZJW looks good.
ok 8 - Computing differences
ok 9 # skip GNU grep not available
Testing filename: t/mailboxes/mailarc-1-dos.txt
Comparing /tmp/dyT0TTj9k1 to t/results/offset_mailarc-1-dos.stdout
Output /tmp/dyT0TTj9k1 looks good.
ok 10 - Computing differences
Comparing /tmp/nKFsoYQu7O to t/results/offset_mailarc-1-dos.stdout
Output /tmp/nKFsoYQu7O looks good.
ok 11 - Computing differences
ok 12 # skip GNU grep not available
Testing filename: t/mailboxes/mailarc-1.txt
Comparing /tmp/wqS6LR16gu to t/results/offset_mailarc-1.stdout
Output /tmp/wqS6LR16gu looks good.
ok 13 - Computing differences
Comparing /tmp/RdHiRtj6ah to t/results/offset_mailarc-1.stdout
Output /tmp/RdHiRtj6ah looks good.
ok 14 - Computing differences
ok 15 # skip GNU grep not available
Testing filename: t/mailboxes/mailarc-2.txt
Comparing /tmp/XpfKmVfT6E to t/results/offset_mailarc-2.stdout
Output /tmp/XpfKmVfT6E looks good.
ok 16 - Computing differences
Comparing /tmp/Km3omUT0im to t/results/offset_mailarc-2.stdout
Output /tmp/Km3omUT0im looks good.
ok 17 - Computing differences
ok 18 # skip GNU grep not available
Testing filename: t/mailboxes/mailarc-3.txt
Comparing /tmp/KFHa2eLjx3 to t/results/offset_mailarc-3.stdout
Output /tmp/KFHa2eLjx3 looks good.
ok 19 - Computing differences
Comparing /tmp/kR1lPF330A to t/results/offset_mailarc-3.stdout
Output /tmp/kR1lPF330A looks good.
ok 20 - Computing differences
ok 21 # skip GNU grep not available
Testing filename: t/mailboxes/mailseparators.txt
Comparing /tmp/71ogXCkDJQ to t/results/offset_mailseparators.stdout
Output /tmp/71ogXCkDJQ looks good.
ok 22 - Computing differences
Comparing /tmp/i7tf568jIj to t/results/offset_mailseparators.stdout
Output /tmp/i7tf568jIj looks good.
ok 23 - Computing differences
ok 24 # skip GNU grep not available
Testing filename: t/mailboxes/malformed.txt
Comparing /tmp/rX1xBXHrAU to t/results/offset_malformed.stdout
Output /tmp/rX1xBXHrAU looks good.
ok 25 - Computing differences
Comparing /tmp/3jLDchstyv to t/results/offset_malformed.stdout
Output /tmp/3jLDchstyv looks good.
ok 26 - Computing differences
ok 27 # skip GNU grep not available
Testing filename: t/mailboxes/newlines_at_beginning.txt
Comparing /tmp/iGwtYO33my to t/results/offset_newlines_at_beginning.stdout
Output /tmp/iGwtYO33my looks good.
ok 28 - Computing differences
Comparing /tmp/ShIjvTBRNd to t/results/offset_newlines_at_beginning.stdout
Output /tmp/ShIjvTBRNd looks good.
ok 29 - Computing differences
ok 30 # skip GNU grep not available
ok
t/prologue.t .................... 
1..33
Testing filename: t/mailboxes/binary_body.txt
Comparing /tmp/Pd0yuYXajZ to t/mailboxes/binary_body.txt
Output /tmp/Pd0yuYXajZ looks good.
ok 1 - Computing differences
Comparing /tmp/05DwC9suE4 to t/mailboxes/binary_body.txt
Output /tmp/05DwC9suE4 looks good.
ok 2 - Computing differences
ok 3 # skip GNU grep not available
Testing filename: t/mailboxes/hessbug.txt
Comparing /tmp/3bEWtElyDo to t/mailboxes/hessbug.txt
Output /tmp/3bEWtElyDo looks good.
ok 4 - Computing differences
Comparing /tmp/POShdpOCTf to t/mailboxes/hessbug.txt
Output /tmp/POShdpOCTf looks good.
ok 5 - Computing differences
ok 6 # skip GNU grep not available
Testing filename: t/mailboxes/invalid-boundaries.txt
Comparing /tmp/CdQAPhytnx to t/mailboxes/invalid-boundaries.txt
Output /tmp/CdQAPhytnx looks good.
ok 7 - Computing differences
Comparing /tmp/3Xe8oL4jNo to t/mailboxes/invalid-boundaries.txt
Output /tmp/3Xe8oL4jNo looks good.
ok 8 - Computing differences
ok 9 # skip GNU grep not available
Testing filename: t/mailboxes/mailarc-1-dos.txt
Comparing /tmp/VaGY1Fr6Sn to t/mailboxes/mailarc-1-dos.txt
Output /tmp/VaGY1Fr6Sn looks good.
ok 10 - Computing differences
Comparing /tmp/zCbxfDh8Zu to t/mailboxes/mailarc-1-dos.txt
Output /tmp/zCbxfDh8Zu looks good.
ok 11 - Computing differences
ok 12 # skip GNU grep not available
Testing filename: t/mailboxes/mailarc-1.txt
Comparing /tmp/GW9Vt6dZHP to t/mailboxes/mailarc-1.txt
Output /tmp/GW9Vt6dZHP looks good.
ok 13 - Computing differences
Comparing /tmp/ujtCrNW6r3 to t/mailboxes/mailarc-1.txt
Output /tmp/ujtCrNW6r3 looks good.
ok 14 - Computing differences
ok 15 # skip GNU grep not available
Testing filename: t/mailboxes/mailarc-2.txt
Comparing /tmp/ucmq2l9quA to t/mailboxes/mailarc-2.txt
Output /tmp/ucmq2l9quA looks good.
ok 16 - Computing differences
Comparing /tmp/gb7NMTw4_u to t/mailboxes/mailarc-2.txt
Output /tmp/gb7NMTw4_u looks good.
ok 17 - Computing differences
ok 18 # skip GNU grep not available
Testing filename: t/mailboxes/mailarc-3.txt
Comparing /tmp/NF7N9h9ari to t/mailboxes/mailarc-3.txt
Output /tmp/NF7N9h9ari looks good.
ok 19 - Computing differences
Comparing /tmp/jfyX29GibL to t/mailboxes/mailarc-3.txt
Output /tmp/jfyX29GibL looks good.
ok 20 - Computing differences
ok 21 # skip GNU grep not available
Testing filename: t/mailboxes/mailseparators.txt
Comparing /tmp/Ys4dcA0p0Z to t/mailboxes/mailseparators.txt
Output /tmp/Ys4dcA0p0Z looks good.
ok 22 - Computing differences
Comparing /tmp/WhDYuU16tL to t/mailboxes/mailseparators.txt
Output /tmp/WhDYuU16tL looks good.
ok 23 - Computing differences
ok 24 # skip GNU grep not available
Testing filename: t/mailboxes/malformed.txt
Comparing /tmp/NN2wN03fYV to t/mailboxes/malformed.txt
Output /tmp/NN2wN03fYV looks good.
ok 25 - Computing differences
Comparing /tmp/8vFdO57cyL to t/mailboxes/malformed.txt
Output /tmp/8vFdO57cyL looks good.
ok 26 - Computing differences
ok 27 # skip GNU grep not available
Testing filename: t/mailboxes/newlines_at_beginning.txt
Comparing /tmp/w31yWfONOT to t/mailboxes/newlines_at_beginning.txt
Output /tmp/w31yWfONOT looks good.
ok 28 - Computing differences
Comparing /tmp/wv0D7PdS6t to t/mailboxes/newlines_at_beginning.txt
Output /tmp/wv0D7PdS6t looks good.
ok 29 - Computing differences
ok 30 # skip GNU grep not available
Testing filename: t/mailboxes/vm-emacs.txt
Comparing /tmp/zqBgP5mh2X to t/mailboxes/vm-emacs.txt
Output /tmp/zqBgP5mh2X looks good.
ok 31 - Computing differences
Comparing /tmp/ZDHNceMtlQ to t/mailboxes/vm-emacs.txt
Output /tmp/ZDHNceMtlQ looks good.
ok 32 - Computing differences
ok 33 # skip GNU grep not available
ok
t/reset.t ....................... 
1..60
Testing filename: t/mailboxes/binary_body.txt
Testing partial mailbox reset with Perl implementation
Comparing /tmp/UKDa41sv8Q to t/results/reset_binary_body.stdout
Output /tmp/UKDa41sv8Q looks good.
ok 1 - Computing differences
Testing partial mailbox reset with Cache implementation
Comparing /tmp/xzqwBi1mIc to t/results/reset_binary_body.stdout
Output /tmp/xzqwBi1mIc looks good.
ok 2 - Computing differences
Testing partial mailbox reset with Grep implementation
ok 3 # skip GNU grep not available
Testing full mailbox reset with Perl implementation
Comparing /tmp/EBJvryOAW7 to t/results/reset_binary_body.stdout
Output /tmp/EBJvryOAW7 looks good.
ok 4 - Computing differences
Testing full mailbox reset with Cache implementation
Comparing /tmp/GfzXOHYpfr to t/results/reset_binary_body.stdout
Output /tmp/GfzXOHYpfr looks good.
ok 5 - Computing differences
Testing full mailbox reset with Grep implementation
ok 6 # skip GNU grep not available
Testing filename: t/mailboxes/hessbug.txt
Testing partial mailbox reset with Perl implementation
Comparing /tmp/dtklMJiCJz to t/results/reset_hessbug.stdout
Output /tmp/dtklMJiCJz looks good.
ok 7 - Computing differences
Testing partial mailbox reset with Cache implementation
Comparing /tmp/h0BrRAatEc to t/results/reset_hessbug.stdout
Output /tmp/h0BrRAatEc looks good.
ok 8 - Computing differences
Testing partial mailbox reset with Grep implementation
ok 9 # skip GNU grep not available
Testing full mailbox reset with Perl implementation
Comparing /tmp/G0ZJkOhAyX to t/results/reset_hessbug.stdout
Output /tmp/G0ZJkOhAyX looks good.
ok 10 - Computing differences
Testing full mailbox reset with Cache implementation
Comparing /tmp/y5r6Etw5B_ to t/results/reset_hessbug.stdout
Output /tmp/y5r6Etw5B_ looks good.
ok 11 - Computing differences
Testing full mailbox reset with Grep implementation
ok 12 # skip GNU grep not available
Testing filename: t/mailboxes/invalid-boundaries.txt
Testing partial mailbox reset with Perl implementation
Comparing /tmp/tVcc1Rq0vw to t/results/reset_invalid-boundaries.stdout
Output /tmp/tVcc1Rq0vw looks good.
ok 13 - Computing differences
Testing partial mailbox reset with Cache implementation
Comparing /tmp/YxVvwhogpG to t/results/reset_invalid-boundaries.stdout
Output /tmp/YxVvwhogpG looks good.
ok 14 - Computing differences
Testing partial mailbox reset with Grep implementation
ok 15 # skip GNU grep not available
Testing full mailbox reset with Perl implementation
Comparing /tmp/Gki3rFBWFW to t/results/reset_invalid-boundaries.stdout
Output /tmp/Gki3rFBWFW looks good.
ok 16 - Computing differences
Testing full mailbox reset with Cache implementation
Comparing /tmp/8aqWaQf2oz to t/results/reset_invalid-boundaries.stdout
Output /tmp/8aqWaQf2oz looks good.
ok 17 - Computing differences
Testing full mailbox reset with Grep implementation
ok 18 # skip GNU grep not available
Testing filename: t/mailboxes/mailarc-1-dos.txt
Testing partial mailbox reset with Perl implementation
Comparing /tmp/tzrLzc9WUw to t/results/reset_mailarc-1-dos.stdout
Output /tmp/tzrLzc9WUw looks good.
ok 19 - Computing differences
Testing partial mailbox reset with Cache implementation
Comparing /tmp/9fR5Amob4N to t/results/reset_mailarc-1-dos.stdout
Output /tmp/9fR5Amob4N looks good.
ok 20 - Computing differences
Testing partial mailbox reset with Grep implementation
ok 21 # skip GNU grep not available
Testing full mailbox reset with Perl implementation
Comparing /tmp/jLc4vO5pBA to t/results/reset_mailarc-1-dos.stdout
Output /tmp/jLc4vO5pBA looks good.
ok 22 - Computing differences
Testing full mailbox reset with Cache implementation
Comparing /tmp/KYZx9DdIUL to t/results/reset_mailarc-1-dos.stdout
Output /tmp/KYZx9DdIUL looks good.
ok 23 - Computing differences
Testing full mailbox reset with Grep implementation
ok 24 # skip GNU grep not available
Testing filename: t/mailboxes/mailarc-1.txt
Testing partial mailbox reset with Perl implementation
Comparing /tmp/dftn69ANWs to t/results/reset_mailarc-1.stdout
Output /tmp/dftn69ANWs looks good.
ok 25 - Computing differences
Testing partial mailbox reset with Cache implementation
Comparing /tmp/RWDV58p8U9 to t/results/reset_mailarc-1.stdout
Output /tmp/RWDV58p8U9 looks good.
ok 26 - Computing differences
Testing partial mailbox reset with Grep implementation
ok 27 # skip GNU grep not available
Testing full mailbox reset with Perl implementation
Comparing /tmp/tQcJSJ_Gcu to t/results/reset_mailarc-1.stdout
Output /tmp/tQcJSJ_Gcu looks good.
ok 28 - Computing differences
Testing full mailbox reset with Cache implementation
Comparing /tmp/sw23bi6dKl to t/results/reset_mailarc-1.stdout
Output /tmp/sw23bi6dKl looks good.
ok 29 - Computing differences
Testing full mailbox reset with Grep implementation
ok 30 # skip GNU grep not available
Testing filename: t/mailboxes/mailarc-2.txt
Testing partial mailbox reset with Perl implementation
Comparing /tmp/sekgjxbOAF to t/results/reset_mailarc-2.stdout
Output /tmp/sekgjxbOAF looks good.
ok 31 - Computing differences
Testing partial mailbox reset with Cache implementation
Comparing /tmp/oc1OkhY1sA to t/results/reset_mailarc-2.stdout
Output /tmp/oc1OkhY1sA looks good.
ok 32 - Computing differences
Testing partial mailbox reset with Grep implementation
ok 33 # skip GNU grep not available
Testing full mailbox reset with Perl implementation
Comparing /tmp/ghPrtb8NMf to t/results/reset_mailarc-2.stdout
Output /tmp/ghPrtb8NMf looks good.
ok 34 - Computing differences
Testing full mailbox reset with Cache implementation
Comparing /tmp/4mCZ5k8AsO to t/results/reset_mailarc-2.stdout
Output /tmp/4mCZ5k8AsO looks good.
ok 35 - Computing differences
Testing full mailbox reset with Grep implementation
ok 36 # skip GNU grep not available
Testing filename: t/mailboxes/mailarc-3.txt
Testing partial mailbox reset with Perl implementation
Comparing /tmp/bSzNXhXknj to t/results/reset_mailarc-3.stdout
Output /tmp/bSzNXhXknj looks good.
ok 37 - Computing differences
Testing partial mailbox reset with Cache implementation
Comparing /tmp/aV1WT9ltjw to t/results/reset_mailarc-3.stdout
Output /tmp/aV1WT9ltjw looks good.
ok 38 - Computing differences
Testing partial mailbox reset with Grep implementation
ok 39 # skip GNU grep not available
Testing full mailbox reset with Perl implementation
Comparing /tmp/NyjY1243Ab to t/results/reset_mailarc-3.stdout
Output /tmp/NyjY1243Ab looks good.
ok 40 - Computing differences
Testing full mailbox reset with Cache implementation
Comparing /tmp/mqqR_i7FHV to t/results/reset_mailarc-3.stdout
Output /tmp/mqqR_i7FHV looks good.
ok 41 - Computing differences
Testing full mailbox reset with Grep implementation
ok 42 # skip GNU grep not available
Testing filename: t/mailboxes/mailseparators.txt
Testing partial mailbox reset with Perl implementation
Comparing /tmp/4jr4f2ODaE to t/results/reset_mailseparators.stdout
Output /tmp/4jr4f2ODaE looks good.
ok 43 - Computing differences
Testing partial mailbox reset with Cache implementation
Comparing /tmp/vMB8dywrMf to t/results/reset_mailseparators.stdout
Output /tmp/vMB8dywrMf looks good.
ok 44 - Computing differences
Testing partial mailbox reset with Grep implementation
ok 45 # skip GNU grep not available
Testing full mailbox reset with Perl implementation
Comparing /tmp/6Udrh6DYr0 to t/results/reset_mailseparators.stdout
Output /tmp/6Udrh6DYr0 looks good.
ok 46 - Computing differences
Testing full mailbox reset with Cache implementation
Comparing /tmp/xkmbj6RkaY to t/results/reset_mailseparators.stdout
Output /tmp/xkmbj6RkaY looks good.
ok 47 - Computing differences
Testing full mailbox reset with Grep implementation
ok 48 # skip GNU grep not available
Testing filename: t/mailboxes/malformed.txt
Testing partial mailbox reset with Perl implementation
Comparing /tmp/HLi0i5FwBH to t/results/reset_malformed.stdout
Output /tmp/HLi0i5FwBH looks good.
ok 49 - Computing differences
Testing partial mailbox reset with Cache implementation
Comparing /tmp/RztD7hYnS7 to t/results/reset_malformed.stdout
Output /tmp/RztD7hYnS7 looks good.
ok 50 - Computing differences
Testing partial mailbox reset with Grep implementation
ok 51 # skip GNU grep not available
Testing full mailbox reset with Perl implementation
Comparing /tmp/r9OrwykVc3 to t/results/reset_malformed.stdout
Output /tmp/r9OrwykVc3 looks good.
ok 52 - Computing differences
Testing full mailbox reset with Cache implementation
Comparing /tmp/pZYF7xdOQJ to t/results/reset_malformed.stdout
Output /tmp/pZYF7xdOQJ looks good.
ok 53 - Computing differences
Testing full mailbox reset with Grep implementation
ok 54 # skip GNU grep not available
Testing filename: t/mailboxes/newlines_at_beginning.txt
Testing partial mailbox reset with Perl implementation
Comparing /tmp/QIcBOFvjgX to t/results/reset_newlines_at_beginning.stdout
Output /tmp/QIcBOFvjgX looks good.
ok 55 - Computing differences
Testing partial mailbox reset with Cache implementation
Comparing /tmp/ylaER1zP1i to t/results/reset_newlines_at_beginning.stdout
Output /tmp/ylaER1zP1i looks good.
ok 56 - Computing differences
Testing partial mailbox reset with Grep implementation
ok 57 # skip GNU grep not available
Testing full mailbox reset with Perl implementation
Comparing /tmp/vn5vYG7d8l to t/results/reset_newlines_at_beginning.stdout
Output /tmp/vn5vYG7d8l looks good.
ok 58 - Computing differences
Testing full mailbox reset with Cache implementation
Comparing /tmp/2jZS3EZdDs to t/results/reset_newlines_at_beginning.stdout
Output /tmp/2jZS3EZdDs looks good.
ok 59 - Computing differences
Testing full mailbox reset with Grep implementation
ok 60 # skip GNU grep not available
ok
t/separators.t .................. 
1..6
Testing filename: t/mailboxes/separators2.sep
ok 1 - Number of emails in t/mailboxes/separators2.sep
ok 2 - Number of emails in t/mailboxes/separators2.sep
ok 3 # skip GNU grep not available
Testing filename: t/mailboxes/separators1.sep
ok 4 - Number of emails in t/mailboxes/separators1.sep
ok 5 - Number of emails in t/mailboxes/separators1.sep
ok 6 # skip GNU grep not available
ok
t/stdin_compressed.t ............ 
1..4
Testing filename: t/mailboxes/mailarc-2.txt.bz2
Comparing /tmp/YzJ0iPwdSl to t/mailboxes/mailarc-2.txt
Output /tmp/YzJ0iPwdSl looks good.
ok 1 - Computing differences
Testing filename: t/mailboxes/mailarc-2.txt.gz
Comparing /tmp/1sRgKl_hzM to t/mailboxes/mailarc-2.txt
Output /tmp/1sRgKl_hzM looks good.
ok 2 - Computing differences
Testing filename: t/mailboxes/mailarc-2.txt.lz
ok 3 # skip lzip not available
Testing filename: t/mailboxes/mailarc-2.txt.xz
Comparing /tmp/HQhOz9LRRY to t/mailboxes/mailarc-2.txt
Output /tmp/HQhOz9LRRY looks good.
ok 4 - Computing differences
ok
t/stdin_uncompressed.t .......... 
1..11
Testing filename: t/mailboxes/binary_body.txt
Comparing /tmp/nh5mO9pM0K to t/mailboxes/binary_body.txt
Output /tmp/nh5mO9pM0K looks good.
ok 1 - Computing differences
Testing filename: t/mailboxes/hessbug.txt
Comparing /tmp/ZARajoGgep to t/mailboxes/hessbug.txt
Output /tmp/ZARajoGgep looks good.
ok 2 - Computing differences
Testing filename: t/mailboxes/invalid-boundaries.txt
Comparing /tmp/te3eAMcsxK to t/mailboxes/invalid-boundaries.txt
Output /tmp/te3eAMcsxK looks good.
ok 3 - Computing differences
Testing filename: t/mailboxes/mailarc-1-dos.txt
Comparing /tmp/gSYmAVd0j7 to t/mailboxes/mailarc-1-dos.txt
Output /tmp/gSYmAVd0j7 looks good.
ok 4 - Computing differences
Testing filename: t/mailboxes/mailarc-1.txt
Comparing /tmp/u8jAmCf9HJ to t/mailboxes/mailarc-1.txt
Output /tmp/u8jAmCf9HJ looks good.
ok 5 - Computing differences
Testing filename: t/mailboxes/mailarc-2.txt
Comparing /tmp/nZCBZqHOd8 to t/mailboxes/mailarc-2.txt
Output /tmp/nZCBZqHOd8 looks good.
ok 6 - Computing differences
Testing filename: t/mailboxes/mailarc-3.txt
Comparing /tmp/vhuuADBJxF to t/mailboxes/mailarc-3.txt
Output /tmp/vhuuADBJxF looks good.
ok 7 - Computing differences
Testing filename: t/mailboxes/mailseparators.txt
Comparing /tmp/aAJNc_F2no to t/mailboxes/mailseparators.txt
Output /tmp/aAJNc_F2no looks good.
ok 8 - Computing differences
Testing filename: t/mailboxes/malformed.txt
Comparing /tmp/L8EOi3x8v0 to t/mailboxes/malformed.txt
Output /tmp/L8EOi3x8v0 looks good.
ok 9 - Computing differences
Testing filename: t/mailboxes/newlines_at_beginning.txt
Comparing /tmp/DMZafSCYtj to t/mailboxes/newlines_at_beginning.txt
Output /tmp/DMZafSCYtj looks good.
ok 10 - Computing differences
Testing filename: t/mailboxes/vm-emacs.txt
Comparing /tmp/UwteJe9ufh to t/mailboxes/vm-emacs.txt
Output /tmp/UwteJe9ufh looks good.
ok 11 - Computing differences
ok
t/undef_return_value.t .......... 
1..33
Testing Perl 
Comparing /tmp/BWreHbcQaP to t/mailboxes/binary_body.txt
Output /tmp/BWreHbcQaP looks good.
ok 1 - Computing differences
Testing Cache implementation
Comparing /tmp/xi4VjXVTvC to t/mailboxes/binary_body.txt
Output /tmp/xi4VjXVTvC looks good.
ok 2 - Computing differences
ok 3 # skip GNU grep not available
Testing Perl 
Comparing /tmp/WfOovXVXJE to t/mailboxes/hessbug.txt
Output /tmp/WfOovXVXJE looks good.
ok 4 - Computing differences
Testing Cache implementation
Comparing /tmp/nItc1W0oCF to t/mailboxes/hessbug.txt
Output /tmp/nItc1W0oCF looks good.
ok 5 - Computing differences
ok 6 # skip GNU grep not available
Testing Perl 
Comparing /tmp/9YBbXnAeQi to t/mailboxes/invalid-boundaries.txt
Output /tmp/9YBbXnAeQi looks good.
ok 7 - Computing differences
Testing Cache implementation
Comparing /tmp/OBdcS4k4c2 to t/mailboxes/invalid-boundaries.txt
Output /tmp/OBdcS4k4c2 looks good.
ok 8 - Computing differences
ok 9 # skip GNU grep not available
Testing Perl 
Comparing /tmp/k6j2xdZOL4 to t/mailboxes/mailarc-1-dos.txt
Output /tmp/k6j2xdZOL4 looks good.
ok 10 - Computing differences
Testing Cache implementation
Comparing /tmp/M3GwasMcOe to t/mailboxes/mailarc-1-dos.txt
Output /tmp/M3GwasMcOe looks good.
ok 11 - Computing differences
ok 12 # skip GNU grep not available
Testing Perl 
Comparing /tmp/0VubCBo8d2 to t/mailboxes/mailarc-1.txt
Output /tmp/0VubCBo8d2 looks good.
ok 13 - Computing differences
Testing Cache implementation
Comparing /tmp/4TGeHfgVUz to t/mailboxes/mailarc-1.txt
Output /tmp/4TGeHfgVUz looks good.
ok 14 - Computing differences
ok 15 # skip GNU grep not available
Testing Perl 
Comparing /tmp/xvoNAEpiUb to t/mailboxes/mailarc-2.txt
Output /tmp/xvoNAEpiUb looks good.
ok 16 - Computing differences
Testing Cache implementation
Comparing /tmp/gqL4S7dAni to t/mailboxes/mailarc-2.txt
Output /tmp/gqL4S7dAni looks good.
ok 17 - Computing differences
ok 18 # skip GNU grep not available
Testing Perl 
Comparing /tmp/NOklt6Oiwt to t/mailboxes/mailarc-3.txt
Output /tmp/NOklt6Oiwt looks good.
ok 19 - Computing differences
Testing Cache implementation
Comparing /tmp/upMOE8EyfF to t/mailboxes/mailarc-3.txt
Output /tmp/upMOE8EyfF looks good.
ok 20 - Computing differences
ok 21 # skip GNU grep not available
Testing Perl 
Comparing /tmp/zOAMslT8BS to t/mailboxes/mailseparators.txt
Output /tmp/zOAMslT8BS looks good.
ok 22 - Computing differences
Testing Cache implementation
Comparing /tmp/qBmcUoqKh3 to t/mailboxes/mailseparators.txt
Output /tmp/qBmcUoqKh3 looks good.
ok 23 - Computing differences
ok 24 # skip GNU grep not available
Testing Perl 
Comparing /tmp/Y6LBQu_cYR to t/mailboxes/malformed.txt
Output /tmp/Y6LBQu_cYR looks good.
ok 25 - Computing differences
Testing Cache implementation
Comparing /tmp/4b0NiWjmr4 to t/mailboxes/malformed.txt
Output /tmp/4b0NiWjmr4 looks good.
ok 26 - Computing differences
ok 27 # skip GNU grep not available
Testing Perl 
Comparing /tmp/rzZ3fKC9eK to t/mailboxes/newlines_at_beginning.txt
Output /tmp/rzZ3fKC9eK looks good.
ok 28 - Computing differences
Testing Cache implementation
Comparing /tmp/cruXnxrNsl to t/mailboxes/newlines_at_beginning.txt
Output /tmp/cruXnxrNsl looks good.
ok 29 - Computing differences
ok 30 # skip GNU grep not available
Testing Perl 
Comparing /tmp/_20i1yXmHb to t/mailboxes/vm-emacs.txt
Output /tmp/_20i1yXmHb looks good.
ok 31 - Computing differences
Testing Cache implementation
Comparing /tmp/Oiq1jgf6bG to t/mailboxes/vm-emacs.txt
Output /tmp/Oiq1jgf6bG looks good.
ok 32 - Computing differences
ok 33 # skip GNU grep not available
ok
t/xz.t .......................... 
1..1
Running test:
  "/bin/cat" "t/mailboxes/mailarc-2.txt.xz" | "/usr/bin/xz" -cd
Comparing /tmp/rJr_wTcOMJ to t/results/mailarc-2.txt
Output /tmp/rJr_wTcOMJ looks good.
Comparing /tmp/KUGPDytoiP to t/results/none
Output /tmp/KUGPDytoiP looks good.
ok 1 - Computing differences
ok
All tests successful.
Files=25, Tests=382, 172 wallclock secs ( 2.96 usr  0.34 sys + 127.77 cusr  8.51 csys = 139.58 CPU)
Result: PASS

------------------------------
PREREQUISITES
------------------------------

Prerequisite modules loaded:

requires:

    Module              Need  Have    
    ------------------- ----- --------
    FileHandle::Unget   0     0.1633  
    perl                5.005 5.028000
    Storable            0     3.11    

build_requires:

    Module              Need  Have    
    ------------------- ----- --------
    ExtUtils::MakeMaker 6.36  7.34    
    File::Path          2.08  2.15    
    File::Slurper       0     0.012   
    Test::Compile       0     v1.3.0  
    Test::More          0     1.302136
    Text::Diff          0     1.45    
    UNIVERSAL::require  0     0.18    
    URI::Escape         0     3.31    

configure_requires:

    Module              Need  Have    
    ------------------- ----- --------
    ExtUtils::MakeMaker 6.36  7.34    
    URI::Escape         0     3.31    


------------------------------
ENVIRONMENT AND OTHER CONTEXT
------------------------------

Environment variables:

    AUTOMATED_TESTING = 1
    LC_CTYPE = de_AT.utf8
    LD_LIBRARY_PATH = /usr/lib/libeatmydata
    NONINTERACTIVE_TESTING = 1
    PATH = /srv/smoker/bin:/usr/lib/ccache:/srv/smoker/perl5/perlbrew/bin:/srv/smoker/perl5/perlbrew/perls/perl-5.28.0/bin:/usr/local/bin:/usr/bin:/bin:/usr/local/games:/usr/games
    PERL5LIB = /srv/smoker/cpan/build/FileHandle-Unget-0.1633-1/blib/arch:/srv/smoker/cpan/build/FileHandle-Unget-0.1633-1/blib/lib:/srv/smoker/cpan/build/Test-Compile-v1.3.0-9/blib/arch:/srv/smoker/cpan/build/Test-Compile-v1.3.0-9/blib/lib:/srv/smoker/cpan/build/UNIVERSAL-require-0.18-9/blib/arch:/srv/smoker/cpan/build/UNIVERSAL-require-0.18-9/blib/lib:/srv/smoker/cpan/build/File-Slurper-0.012-5/blib/arch:/srv/smoker/cpan/build/File-Slurper-0.012-5/blib/lib
    PERL5OPT = 
    PERL5_CPANPLUS_IS_RUNNING = 28963
    PERL5_CPAN_IS_RUNNING = 28963
    PERL5_CPAN_IS_RUNNING_IN_RECURSION = 16125,28963
    PERLBREW_HOME = /srv/smoker/.perlbrew
    PERLBREW_MANPATH = /srv/smoker/perl5/perlbrew/perls/perl-5.28.0/man
    PERLBREW_PATH = /srv/smoker/perl5/perlbrew/bin:/srv/smoker/perl5/perlbrew/perls/perl-5.28.0/bin
    PERLBREW_PERL = perl-5.28.0
    PERLBREW_ROOT = /srv/smoker/perl5/perlbrew
    PERLBREW_SHELLRC_VERSION = 0.84
    PERLBREW_VERSION = 0.84
    PERL_CR_SMOKER_CURRENT = Mail-Mbox-MessageParser-1.5111
    PERL_EXTUTILS_AUTOINSTALL = --defaultdeps
    PERL_MM_USE_DEFAULT = 1
    PERL_USE_UNSAFE_INC = 1
    SHELL = /bin/bash
    TERM = screen-256color

Perl special variables (and OS-specific diagnostics, for MSWin32):

    $^X = /srv/smoker/perl5/perlbrew/perls/perl-5.28.0/bin/perl
    $UID/$EUID = 1111 / 1111
    $GID = 65534 65534
    $EGID = 65534 65534

Perl module toolchain versions installed:

    Module              Have    
    ------------------- --------
    CPAN                2.20    
    CPAN::Meta          2.150010
    Cwd                 3.74    
    ExtUtils::CBuilder  0.280230
    ExtUtils::Command   7.34    
    ExtUtils::Install   2.14    
    ExtUtils::MakeMaker 7.34    
    ExtUtils::Manifest  1.71    
    ExtUtils::ParseXS   3.39    
    File::Spec          3.74    
    JSON                2.97001 
    JSON::PP            2.97001 
    Module::Build       0.4224  
    Module::Signature   n/a     
    Parse::CPAN::Meta   2.150010
    Test::Harness       3.42    
    Test::More          1.302136
    YAML                1.26    
    YAML::Syck          n/a     
    version             0.9924  


--

Summary of my perl5 (revision 5 version 28 subversion 0) configuration:
   
  Platform:
    osname=linux
    osvers=4.9.0-6-rpi
    archname=armv6l-linux
    uname='linux smoker 4.9.0-6-rpi #1 debian 4.9.82-1+deb9u3+rpi1 (2018-03-31) armv6l gnulinux '
    config_args='-de -Dprefix=/srv/smoker/perl5/perlbrew/perls/perl-5.28.0 -Aeval:scriptdir=/srv/smoker/perl5/perlbrew/perls/perl-5.28.0/bin'
    hint=recommended
    useposix=true
    d_sigaction=define
    useithreads=undef
    usemultiplicity=undef
    use64bitint=undef
    use64bitall=undef
    uselongdouble=undef
    usemymalloc=n
    default_inc_excludes_dot=define
    bincompat5005=undef
  Compiler:
    cc='cc'
    ccflags ='-fwrapv -fno-strict-aliasing -pipe -fstack-protector-strong -I/usr/local/include -D_LARGEFILE_SOURCE -D_FILE_OFFSET_BITS=64 -D_FORTIFY_SOURCE=2'
    optimize='-O2'
    cppflags='-fwrapv -fno-strict-aliasing -pipe -fstack-protector-strong -I/usr/local/include'
    ccversion=''
    gccversion='7.3.0'
    gccosandvers=''
    intsize=4
    longsize=4
    ptrsize=4
    doublesize=8
    byteorder=1234
    doublekind=3
    d_longlong=define
    longlongsize=8
    d_longdbl=define
    longdblsize=8
    longdblkind=0
    ivtype='long'
    ivsize=4
    nvtype='double'
    nvsize=8
    Off_t='off_t'
    lseeksize=8
    alignbytes=8
    prototype=define
  Linker and Libraries:
    ld='cc'
    ldflags =' -fstack-protector-strong -L/usr/local/lib'
    libpth=/usr/local/lib /usr/lib/gcc/arm-linux-gnueabihf/7/include-fixed /usr/include/arm-linux-gnueabihf /usr/lib /lib/arm-linux-gnueabihf /lib /usr/lib/arm-linux-gnueabihf
    libs=-lpthread -lnsl -ldl -lm -lcrypt -lutil -lc
    perllibs=-lpthread -lnsl -ldl -lm -lcrypt -lutil -lc
    libc=libc-2.27.so
    so=so
    useshrplib=false
    libperl=libperl.a
    gnulibc_version='2.27'
  Dynamic Linking:
    dlsrc=dl_dlopen.xs
    dlext=so
    d_dlsymun=undef
    ccdlflags='-Wl,-E'
    cccdlflags='-fPIC'
    lddlflags='-shared -O2 -L/usr/local/lib -fstack-protector-strong'


Characteristics of this binary (from libperl): 
  Compile-time options:
    HAS_TIMES
    PERLIO_LAYERS
    PERL_COPY_ON_WRITE
    PERL_DONT_CREATE_GVSV
    PERL_MALLOC_WRAP
    PERL_OP_PARENT
    PERL_PRESERVE_IVUV
    USE_LARGE_FILES
    USE_LOCALE
    USE_LOCALE_COLLATE
    USE_LOCALE_CTYPE
    USE_LOCALE_NUMERIC
    USE_LOCALE_TIME
    USE_PERLIO
    USE_PERL_ATOF
  Locally applied patches:
    Devel::PatchPerl 1.38
  Built under linux
  Compiled at Jun 23 2018 22:02:53
  %ENV:
    PERL5LIB="/srv/smoker/cpan/build/FileHandle-Unget-0.1633-1/blib/arch:/srv/smoker/cpan/build/FileHandle-Unget-0.1633-1/blib/lib:/srv/smoker/cpan/build/Test-Compile-v1.3.0-9/blib/arch:/srv/smoker/cpan/build/Test-Compile-v1.3.0-9/blib/lib:/srv/smoker/cpan/build/UNIVERSAL-require-0.18-9/blib/arch:/srv/smoker/cpan/build/UNIVERSAL-require-0.18-9/blib/lib:/srv/smoker/cpan/build/File-Slurper-0.012-5/blib/arch:/srv/smoker/cpan/build/File-Slurper-0.012-5/blib/lib"
    PERL5OPT=""
    PERL5_CPANPLUS_IS_RUNNING="28963"
    PERL5_CPAN_IS_RUNNING="28963"
    PERL5_CPAN_IS_RUNNING_IN_RECURSION="16125,28963"
    PERLBREW_HOME="/srv/smoker/.perlbrew"
    PERLBREW_MANPATH="/srv/smoker/perl5/perlbrew/perls/perl-5.28.0/man"
    PERLBREW_PATH="/srv/smoker/perl5/perlbrew/bin:/srv/smoker/perl5/perlbrew/perls/perl-5.28.0/bin"
    PERLBREW_PERL="perl-5.28.0"
    PERLBREW_ROOT="/srv/smoker/perl5/perlbrew"
    PERLBREW_SHELLRC_VERSION="0.84"
    PERLBREW_VERSION="0.84"
    PERL_CR_SMOKER_CURRENT="Mail-Mbox-MessageParser-1.5111"
    PERL_EXTUTILS_AUTOINSTALL="--defaultdeps"
    PERL_MM_USE_DEFAULT="1"
    PERL_USE_UNSAFE_INC="1"
  @INC:
    /srv/smoker/cpan/build/FileHandle-Unget-0.1633-1/blib/arch
    /srv/smoker/cpan/build/FileHandle-Unget-0.1633-1/blib/lib
    /srv/smoker/cpan/build/Test-Compile-v1.3.0-9/blib/arch
    /srv/smoker/cpan/build/Test-Compile-v1.3.0-9/blib/lib
    /srv/smoker/cpan/build/UNIVERSAL-require-0.18-9/blib/arch
    /srv/smoker/cpan/build/UNIVERSAL-require-0.18-9/blib/lib
    /srv/smoker/cpan/build/File-Slurper-0.012-5/blib/arch
    /srv/smoker/cpan/build/File-Slurper-0.012-5/blib/lib
    /srv/smoker/perl5/perlbrew/perls/perl-5.28.0/lib/site_perl/5.28.0/armv6l-linux
    /srv/smoker/perl5/perlbrew/perls/perl-5.28.0/lib/site_perl/5.28.0
    /srv/smoker/perl5/perlbrew/perls/perl-5.28.0/lib/5.28.0/armv6l-linux
    /srv/smoker/perl5/perlbrew/perls/perl-5.28.0/lib/5.28.0
    .