Report for Patterns-ChainOfResponsibility-0.02

Back
From: metabase:user:314402c4-2aae-11df-837a-5e0a49663a4f
Subject: PASS Patterns-ChainOfResponsibility-0.02 v5.24.1 RC3 GNU/Linux
Date: 2016-09-03T18:21:05Z

This distribution has been tested as part of the CPAN Testers
project, supporting the Perl programming language.  See
http://wiki.cpantesters.org/ for more information or email
questions to cpan-testers-discuss@perl.org


--
Dear John Napiorkowski,

This is a computer-generated report for Patterns-ChainOfResponsibility-0.02
on perl 5.24.1, created by CPAN-Reporter-1.2018.

Thank you for uploading your work to CPAN.  Congratulations!
All tests were successful.

Sections of this report:

    * Tester comments
    * Program output
    * Prerequisites
    * Environment and other context

------------------------------
TESTER COMMENTS
------------------------------

Additional comments from tester:

none provided

------------------------------
PROGRAM OUTPUT
------------------------------

Output from '/usr/bin/make test':

PERL_DL_NONLAZY=1 "/bbbike/perl-5.24.1-RC3/bin/perl" "-MExtUtils::Command::MM" "-MTest::Harness" "-e" "undef *Test::Harness::Switches; test_harness(0, 'inc', 'blib/lib', 'blib/arch')" t/*.t
Class::MOP::load_class is deprecated at /opt/perl-5.24.1-RC3/lib/site_perl/5.24.1/x86_64-linux/Class/MOP.pm line 69.
	Class::MOP::load_class("Patterns::ChainOfResponsibility::Provider") called at /tmpfs/.cpan-build-cpansand/2016090315/Patterns-ChainOfResponsibility-0.02-0/blib/lib/Patterns/ChainOfResponsibility/Role/Handler.pm line 22
	Patterns::ChainOfResponsibility::Role::Handler::__ANON__(Moose::Meta::Class::__ANON__::SERIAL::2=HASH(0x303f3f8), "operating_on", MooseX::Role::Parameterized::Meta::Role::Parameterized=HASH(0x3172cb8), "consumer", Moose::Meta::Class=HASH(0x2fd1b08)) called at /opt/perl-5.24.1-RC3/lib/site_perl/5.24.1/MooseX/Role/Parameterized/Meta/Trait/Parameterizable.pm line 88
	MooseX::Role::Parameterized::Meta::Trait::Parameterizable::generate_role(Moose::Meta::Class::__ANON__::SERIAL::1=HASH(0x315c9e0), "consumer", Moose::Meta::Class=HASH(0x2fd1b08), "parameters", HASH(0x3113ee8), "orig_apply", CODE(0x2dc12a8)) called at /opt/perl-5.24.1-RC3/lib/site_perl/5.24.1/MooseX/Role/Parameterized/Meta/Trait/Parameterizable.pm line 110
	Class::MOP::Class:::around(CODE(0x2dc12a8), Moose::Meta::Class::__ANON__::SERIAL::1=HASH(0x315c9e0), Moose::Meta::Class=HASH(0x2fd1b08)) called at /opt/perl-5.24.1-RC3/lib/site_perl/5.24.1/x86_64-linux/Class/MOP/Method/Wrapped.pm line 164
	Moose::Meta::Class::__ANON__::SERIAL::1::_wrapped_apply(Moose::Meta::Class::__ANON__::SERIAL::1=HASH(0x315c9e0), Moose::Meta::Class=HASH(0x2fd1b08)) called at /opt/perl-5.24.1-RC3/lib/site_perl/5.24.1/x86_64-linux/Class/MOP/Method/Wrapped.pm line 95
	Moose::Meta::Class::__ANON__::SERIAL::1::apply(Moose::Meta::Class::__ANON__::SERIAL::1=HASH(0x315c9e0), Moose::Meta::Class=HASH(0x2fd1b08)) called at /opt/perl-5.24.1-RC3/lib/site_perl/5.24.1/x86_64-linux/Moose/Util.pm line 172
	Moose::Util::_apply_all_roles(Moose::Meta::Class=HASH(0x2fd1b08), undef, "Patterns::ChainOfResponsibility::Role::Handler") called at /opt/perl-5.24.1-RC3/lib/site_perl/5.24.1/x86_64-linux/Moose/Util.pm line 114
	Moose::Util::apply_all_roles(Moose::Meta::Class=HASH(0x2fd1b08), "Patterns::ChainOfResponsibility::Role::Handler") called at /opt/perl-5.24.1-RC3/lib/site_perl/5.24.1/x86_64-linux/Moose.pm line 57
	Moose::with(Moose::Meta::Class=HASH(0x2fd1b08), "Patterns::ChainOfResponsibility::Role::Handler") called at /opt/perl-5.24.1-RC3/lib/site_perl/5.24.1/x86_64-linux/Moose/Exporter.pm line 419
	Moose::with("Patterns::ChainOfResponsibility::Role::Handler") called at t/application.t line 9
t/application.t .. ok
t/basic.t ........ ok
Class::MOP::load_class is deprecated at /opt/perl-5.24.1-RC3/lib/site_perl/5.24.1/x86_64-linux/Class/MOP.pm line 69.
	Class::MOP::load_class("Patterns::ChainOfResponsibility::Broadcast") called at /tmpfs/.cpan-build-cpansand/2016090315/Patterns-ChainOfResponsibility-0.02-0/blib/lib/Patterns/ChainOfResponsibility/Role/Handler.pm line 22
	Patterns::ChainOfResponsibility::Role::Handler::__ANON__(Moose::Meta::Class::__ANON__::SERIAL::4=HASH(0x2c47bc0), "operating_on", MooseX::Role::Parameterized::Meta::Role::Parameterized=HASH(0x2e53e30), "consumer", Moose::Meta::Class=HASH(0x2c2d9b0)) called at /opt/perl-5.24.1-RC3/lib/site_perl/5.24.1/MooseX/Role/Parameterized/Meta/Trait/Parameterizable.pm line 88
	MooseX::Role::Parameterized::Meta::Trait::Parameterizable::generate_role(Moose::Meta::Class::__ANON__::SERIAL::3=HASH(0x2e35d50), "consumer", Moose::Meta::Class=HASH(0x2c2d9b0), "parameters", HASH(0x2de28f8), "orig_apply", CODE(0x29e4238)) called at /opt/perl-5.24.1-RC3/lib/site_perl/5.24.1/MooseX/Role/Parameterized/Meta/Trait/Parameterizable.pm line 110
	Class::MOP::Class:::around(CODE(0x29e4238), Moose::Meta::Class::__ANON__::SERIAL::3=HASH(0x2e35d50), Moose::Meta::Class=HASH(0x2c2d9b0), "dispatcher", "::Broadcast") called at /opt/perl-5.24.1-RC3/lib/site_perl/5.24.1/x86_64-linux/Class/MOP/Method/Wrapped.pm line 164
	Moose::Meta::Class::__ANON__::SERIAL::3::_wrapped_apply(Moose::Meta::Class::__ANON__::SERIAL::3=HASH(0x2e35d50), Moose::Meta::Class=HASH(0x2c2d9b0), "dispatcher", "::Broadcast") called at /opt/perl-5.24.1-RC3/lib/site_perl/5.24.1/x86_64-linux/Class/MOP/Method/Wrapped.pm line 95
	Moose::Meta::Class::__ANON__::SERIAL::3::apply(Moose::Meta::Class::__ANON__::SERIAL::3=HASH(0x2e35d50), Moose::Meta::Class=HASH(0x2c2d9b0), "dispatcher", "::Broadcast") called at /opt/perl-5.24.1-RC3/lib/site_perl/5.24.1/x86_64-linux/Moose/Util.pm line 172
	Moose::Util::_apply_all_roles(Moose::Meta::Class=HASH(0x2c2d9b0), undef, "Patterns::ChainOfResponsibility::Role::Handler", HASH(0x1b035c0)) called at /opt/perl-5.24.1-RC3/lib/site_perl/5.24.1/x86_64-linux/Moose/Util.pm line 114
	Moose::Util::apply_all_roles(Moose::Meta::Class=HASH(0x2c2d9b0), "Patterns::ChainOfResponsibility::Role::Handler", HASH(0x1b035c0)) called at /opt/perl-5.24.1-RC3/lib/site_perl/5.24.1/x86_64-linux/Moose.pm line 57
	Moose::with(Moose::Meta::Class=HASH(0x2c2d9b0), "Patterns::ChainOfResponsibility::Role::Handler", HASH(0x1b035c0)) called at /opt/perl-5.24.1-RC3/lib/site_perl/5.24.1/x86_64-linux/Moose/Exporter.pm line 419
	Moose::with("Patterns::ChainOfResponsibility::Role::Handler", HASH(0x1b035c0)) called at t/broadcast.t line 13
t/broadcast.t .... ok
Class::MOP::load_class is deprecated at /opt/perl-5.24.1-RC3/lib/site_perl/5.24.1/x86_64-linux/Class/MOP.pm line 69.
	Class::MOP::load_class("Patterns::ChainOfResponsibility::Filter") called at /tmpfs/.cpan-build-cpansand/2016090315/Patterns-ChainOfResponsibility-0.02-0/blib/lib/Patterns/ChainOfResponsibility/Role/Handler.pm line 22
	Patterns::ChainOfResponsibility::Role::Handler::__ANON__(Moose::Meta::Class::__ANON__::SERIAL::2=HASH(0x2aa57d8), "operating_on", MooseX::Role::Parameterized::Meta::Role::Parameterized=HASH(0x2be2d90), "consumer", Moose::Meta::Class=HASH(0x2a5d988)) called at /opt/perl-5.24.1-RC3/lib/site_perl/5.24.1/MooseX/Role/Parameterized/Meta/Trait/Parameterizable.pm line 88
	MooseX::Role::Parameterized::Meta::Trait::Parameterizable::generate_role(Moose::Meta::Class::__ANON__::SERIAL::1=HASH(0x2bd3c80), "consumer", Moose::Meta::Class=HASH(0x2a5d988), "parameters", HASH(0x2b733d0), "orig_apply", CODE(0x284d0e8)) called at /opt/perl-5.24.1-RC3/lib/site_perl/5.24.1/MooseX/Role/Parameterized/Meta/Trait/Parameterizable.pm line 110
	Class::MOP::Class:::around(CODE(0x284d0e8), Moose::Meta::Class::__ANON__::SERIAL::1=HASH(0x2bd3c80), Moose::Meta::Class=HASH(0x2a5d988), "dispatcher", "::Filter") called at /opt/perl-5.24.1-RC3/lib/site_perl/5.24.1/x86_64-linux/Class/MOP/Method/Wrapped.pm line 164
	Moose::Meta::Class::__ANON__::SERIAL::1::_wrapped_apply(Moose::Meta::Class::__ANON__::SERIAL::1=HASH(0x2bd3c80), Moose::Meta::Class=HASH(0x2a5d988), "dispatcher", "::Filter") called at /opt/perl-5.24.1-RC3/lib/site_perl/5.24.1/x86_64-linux/Class/MOP/Method/Wrapped.pm line 95
	Moose::Meta::Class::__ANON__::SERIAL::1::apply(Moose::Meta::Class::__ANON__::SERIAL::1=HASH(0x2bd3c80), Moose::Meta::Class=HASH(0x2a5d988), "dispatcher", "::Filter") called at /opt/perl-5.24.1-RC3/lib/site_perl/5.24.1/x86_64-linux/Moose/Util.pm line 172
	Moose::Util::_apply_all_roles(Moose::Meta::Class=HASH(0x2a5d988), undef, "Patterns::ChainOfResponsibility::Role::Handler", HASH(0x196c5c0)) called at /opt/perl-5.24.1-RC3/lib/site_perl/5.24.1/x86_64-linux/Moose/Util.pm line 114
	Moose::Util::apply_all_roles(Moose::Meta::Class=HASH(0x2a5d988), "Patterns::ChainOfResponsibility::Role::Handler", HASH(0x196c5c0)) called at /opt/perl-5.24.1-RC3/lib/site_perl/5.24.1/x86_64-linux/Moose.pm line 57
	Moose::with(Moose::Meta::Class=HASH(0x2a5d988), "Patterns::ChainOfResponsibility::Role::Handler", HASH(0x196c5c0)) called at /opt/perl-5.24.1-RC3/lib/site_perl/5.24.1/x86_64-linux/Moose/Exporter.pm line 419
	Moose::with("Patterns::ChainOfResponsibility::Role::Handler", HASH(0x196c5c0)) called at t/filter.t line 9
t/filter.t ....... ok
Class::MOP::load_class is deprecated at /opt/perl-5.24.1-RC3/lib/site_perl/5.24.1/x86_64-linux/Class/MOP.pm line 69.
	Class::MOP::load_class("Patterns::ChainOfResponsibility::Provider") called at /tmpfs/.cpan-build-cpansand/2016090315/Patterns-ChainOfResponsibility-0.02-0/blib/lib/Patterns/ChainOfResponsibility/Role/Handler.pm line 22
	Patterns::ChainOfResponsibility::Role::Handler::__ANON__(Moose::Meta::Class::__ANON__::SERIAL::2=HASH(0x2844128), "operating_on", MooseX::Role::Parameterized::Meta::Role::Parameterized=HASH(0x2982280), "consumer", Moose::Meta::Class=HASH(0x27fba78)) called at /opt/perl-5.24.1-RC3/lib/site_perl/5.24.1/MooseX/Role/Parameterized/Meta/Trait/Parameterizable.pm line 88
	MooseX::Role::Parameterized::Meta::Trait::Parameterizable::generate_role(Moose::Meta::Class::__ANON__::SERIAL::1=HASH(0x29737f8), "consumer", Moose::Meta::Class=HASH(0x27fba78), "parameters", HASH(0x2912b08), "orig_apply", CODE(0x25ec1d8)) called at /opt/perl-5.24.1-RC3/lib/site_perl/5.24.1/MooseX/Role/Parameterized/Meta/Trait/Parameterizable.pm line 110
	Class::MOP::Class:::around(CODE(0x25ec1d8), Moose::Meta::Class::__ANON__::SERIAL::1=HASH(0x29737f8), Moose::Meta::Class=HASH(0x27fba78)) called at /opt/perl-5.24.1-RC3/lib/site_perl/5.24.1/x86_64-linux/Class/MOP/Method/Wrapped.pm line 164
	Moose::Meta::Class::__ANON__::SERIAL::1::_wrapped_apply(Moose::Meta::Class::__ANON__::SERIAL::1=HASH(0x29737f8), Moose::Meta::Class=HASH(0x27fba78)) called at /opt/perl-5.24.1-RC3/lib/site_perl/5.24.1/x86_64-linux/Class/MOP/Method/Wrapped.pm line 95
	Moose::Meta::Class::__ANON__::SERIAL::1::apply(Moose::Meta::Class::__ANON__::SERIAL::1=HASH(0x29737f8), Moose::Meta::Class=HASH(0x27fba78)) called at /opt/perl-5.24.1-RC3/lib/site_perl/5.24.1/x86_64-linux/Moose/Util.pm line 172
	Moose::Util::_apply_all_roles(Moose::Meta::Class=HASH(0x27fba78), undef, "Patterns::ChainOfResponsibility::Role::Handler") called at /opt/perl-5.24.1-RC3/lib/site_perl/5.24.1/x86_64-linux/Moose/Util.pm line 114
	Moose::Util::apply_all_roles(Moose::Meta::Class=HASH(0x27fba78), "Patterns::ChainOfResponsibility::Role::Handler") called at /opt/perl-5.24.1-RC3/lib/site_perl/5.24.1/x86_64-linux/Moose.pm line 57
	Moose::with(Moose::Meta::Class=HASH(0x27fba78), "Patterns::ChainOfResponsibility::Role::Handler") called at /opt/perl-5.24.1-RC3/lib/site_perl/5.24.1/x86_64-linux/Moose/Exporter.pm line 419
	Moose::with("Patterns::ChainOfResponsibility::Role::Handler") called at t/provider.t line 9
t/provider.t ..... ok
All tests successful.
Files=5, Tests=20,  1 wallclock secs ( 0.02 usr  0.02 sys +  0.84 cusr  0.11 csys =  0.99 CPU)
Result: PASS

------------------------------
PREREQUISITES
------------------------------

Prerequisite modules loaded:

requires:

    Module                      Need     Have    
    --------------------------- -------- --------
    Moose                       1.21     2.1805  
    MooseX::Role::Parameterized 0.23     1.09    
    perl                        5.008005 5.024001
    Test::More                  0.96     1.302052

build_requires:

    Module                      Need     Have    
    --------------------------- -------- --------
    ExtUtils::MakeMaker         6.42     7.22    
    Test::More                  0.96     1.302052

configure_requires:

    Module                      Need     Have    
    --------------------------- -------- --------
    ExtUtils::MakeMaker         6.42     7.22    


------------------------------
ENVIRONMENT AND OTHER CONTEXT
------------------------------

Environment variables:

    LANG = C
    LC_ALL = de_DE.UTF-8
    PATH = /usr/local/bin:/usr/bin:/bin:/usr/local/sbin:/usr/sbin:/sbin:/home/cpansand/bin/linux-gnu:/home/cpansand/bin/sh:/home/cpansand/bin:/usr/games:/home/cpansand/devel:/home/eserte/src/srezic-misc/scripts
    PERL5LIB = 
    PERL5OPT = 
    PERL5_CPANPLUS_IS_RUNNING = 8921
    PERL5_CPAN_IS_RUNNING = 8921
    PERL5_CPAN_IS_RUNNING_IN_RECURSION = 21697,8921
    PERLDOC = -MPod::Perldoc::ToTextOverstrike
    PERL_BATCH = yes
    PERL_CANARY_STABILITY_NOPROMPT = 1
    PERL_CPAN_REPORTER_CONFIG = /run/user/1023/cpansmoker/2016090309/cpanreporter_000_config.ini
    PERL_EXTUTILS_AUTOINSTALL = --defaultdeps
    PERL_PARALLEL_SMOKER = yes
    PERL_USE_UNSAFE_INC = 1
    SHELL = /bin/zsh
    TERM = screen
    TMPDIR = /run/user/1023/cpansmoker/2016090309

Perl special variables (and OS-specific diagnostics, for MSWin32):

    $^X = /bbbike/perl-5.24.1-RC3/bin/perl
    $UID/$EUID = 1023 / 1023
    $GID = 1023 1023
    $EGID = 1023 1023

Perl module toolchain versions installed:

    Module              Have    
    ------------------- --------
    CPAN                2.14    
    CPAN::Meta          2.150010
    Cwd                 3.62    
    ExtUtils::CBuilder  0.280224
    ExtUtils::Command   7.22    
    ExtUtils::Install   2.04    
    ExtUtils::MakeMaker 7.22    
    ExtUtils::Manifest  1.70    
    ExtUtils::ParseXS   3.30    
    File::Spec          3.62    
    JSON                2.90    
    JSON::PP            2.27400 
    Module::Build       0.4220  
    Module::Signature   0.80    
    Parse::CPAN::Meta   2.150010
    Test::Harness       3.36    
    Test::More          1.302052
    YAML                1.18    
    YAML::Syck          1.29    
    version             0.9917  


--

Summary of my perl5 (revision 5 version 24 subversion 1) configuration:
   
  Platform:
    osname=linux, osvers=3.16.0-4-amd64, archname=x86_64-linux
    uname='linux eserte 3.16.0-4-amd64 #1 smp debian 3.16.7-ckt25-2+deb8u3 (2016-07-02) x86_64 gnulinux '
    config_args='-ds -e -Dprefix=/opt/perl-5.24.1-RC3 -Dcf_email=srezic@cpan.org'
    hint=recommended, useposix=true, d_sigaction=define
    useithreads=undef, usemultiplicity=undef
    use64bitint=define, use64bitall=define, uselongdouble=undef
    usemymalloc=n, bincompat5005=undef
  Compiler:
    cc='cc', ccflags ='-fwrapv -fno-strict-aliasing -pipe -fstack-protector-strong -I/usr/local/include -D_LARGEFILE_SOURCE -D_FILE_OFFSET_BITS=64 -D_FORTIFY_SOURCE=2',
    optimize='-O2',
    cppflags='-fwrapv -fno-strict-aliasing -pipe -fstack-protector-strong -I/usr/local/include'
    ccversion='', gccversion='4.9.2', gccosandvers=''
    intsize=4, longsize=8, ptrsize=8, doublesize=8, byteorder=12345678, doublekind=3
    d_longlong=define, longlongsize=8, d_longdbl=define, longdblsize=16, longdblkind=3
    ivtype='long', ivsize=8, nvtype='double', nvsize=8, Off_t='off_t', lseeksize=8
    alignbytes=8, prototype=define
  Linker and Libraries:
    ld='cc', ldflags =' -fstack-protector-strong -L/usr/local/lib'
    libpth=/usr/local/lib /usr/lib/gcc/x86_64-linux-gnu/4.9/include-fixed /usr/include/x86_64-linux-gnu /usr/lib /lib/x86_64-linux-gnu /lib/../lib /usr/lib/x86_64-linux-gnu /usr/lib/../lib /lib
    libs=-lpthread -lnsl -lgdbm -ldb -ldl -lm -lcrypt -lutil -lc -lgdbm_compat
    perllibs=-lpthread -lnsl -ldl -lm -lcrypt -lutil -lc
    libc=libc-2.19.so, so=so, useshrplib=false, libperl=libperl.a
    gnulibc_version='2.19'
  Dynamic Linking:
    dlsrc=dl_dlopen.xs, dlext=so, d_dlsymun=undef, ccdlflags='-Wl,-E'
    cccdlflags='-fPIC', lddlflags='-shared -O2 -L/usr/local/lib -fstack-protector-strong'


Characteristics of this binary (from libperl): 
  Compile-time options: HAS_TIMES PERLIO_LAYERS PERL_COPY_ON_WRITE
                        PERL_DONT_CREATE_GVSV
                        PERL_HASH_FUNC_ONE_AT_A_TIME_HARD PERL_MALLOC_WRAP
                        PERL_PRESERVE_IVUV USE_64_BIT_ALL USE_64_BIT_INT
                        USE_LARGE_FILES USE_LOCALE USE_LOCALE_COLLATE
                        USE_LOCALE_CTYPE USE_LOCALE_NUMERIC USE_LOCALE_TIME
                        USE_PERLIO USE_PERL_ATOF
  Locally applied patches:
	RC3
  Built under linux
  Compiled at Aug 19 2016 14:16:54
  %ENV:
    PERL5LIB=""
    PERL5OPT=""
    PERL5_CPANPLUS_IS_RUNNING="8921"
    PERL5_CPAN_IS_RUNNING="8921"
    PERL5_CPAN_IS_RUNNING_IN_RECURSION="21697,8921"
    PERLDOC="-MPod::Perldoc::ToTextOverstrike"
    PERL_BATCH="yes"
    PERL_CANARY_STABILITY_NOPROMPT="1"
    PERL_CPAN_REPORTER_CONFIG="/run/user/1023/cpansmoker/2016090309/cpanreporter_000_config.ini"
    PERL_EXTUTILS_AUTOINSTALL="--defaultdeps"
    PERL_PARALLEL_SMOKER="yes"
    PERL_USE_UNSAFE_INC="1"
  @INC:
    /opt/perl-5.24.1-RC3/lib/site_perl/5.24.1/x86_64-linux
    /opt/perl-5.24.1-RC3/lib/site_perl/5.24.1
    /opt/perl-5.24.1-RC3/lib/5.24.1/x86_64-linux
    /opt/perl-5.24.1-RC3/lib/5.24.1
    .