Report for Perlbal-1.80

Back
From: metabase:user:320bfe00-2aae-11df-837a-5e0a49663a4f
Subject: PASS Perlbal-1.80 v5.15.8 GNU/Linux
Date: 2012-03-05T21:28:40Z

This distribution has been tested as part of the CPAN Testers
project, supporting the Perl programming language.  See
http://wiki.cpantesters.org/ for more information or email
questions to cpan-testers-discuss@perl.org


--
Dear Alan Kasindorf,

This is a computer-generated report for Perlbal-1.80
on perl 5.15.8, created by CPAN-Reporter-1.2005.

Thank you for uploading your work to CPAN.  Congratulations!
All tests were successful.

Sections of this report:

    * Tester comments
    * Program output
    * Prerequisites
    * Environment and other context

------------------------------
TESTER COMMENTS
------------------------------

Additional comments from tester:

this report is from an automated smoke testing program
and was not reviewed by a human for accuracy

------------------------------
PROGRAM OUTPUT
------------------------------

Output from '/usr/bin/make test':

PERL_DL_NONLAZY=1 /home/sand/src/perl/repoperls/installed-perls/perl/v5.15.8-72-g920e47b/165a/bin/perl "-MExtUtils::Command::MM" "-e" "test_harness(0, 'blib/lib', 'blib/arch')" t/*.t
Use of uninitialized value $^WARNING_BITS in bitwise xor (^) at /home/src/perl/repoperls/installed-perls/perl/v5.15.8-72-g920e47b/165a/lib/site_perl/5.15.8/common/sense.pm line 237.
SSL support failed on load: Can't locate IO/Socket/SSL.pm in @INC (@INC contains: /tmp/loop_over_bdir-ChUqOr/Perlbal-1.80-_rsaaF/blib/lib /tmp/loop_over_bdir-ChUqOr/Perlbal-1.80-_rsaaF/blib/arch /tmp/loop_over_bdir-ChUqOr/Encode-IBM-0.11-9PHknZ/blib/arch /tmp/loop_over_bdir-ChUqOr/Encode-IBM-0.11-9PHknZ/blib/lib /tmp/loop_over_bdir-ChUqOr/Encode-IBM-0.11-9PHknZ/blib/arch /tmp/loop_over_bdir-ChUqOr/Encode-IBM-0.11-9PHknZ/blib/lib /home/src/perl/repoperls/installed-perls/perl/v5.15.8-72-g920e47b/165a/lib/site_perl/5.15.8/x86_64-linux /home/src/perl/repoperls/installed-perls/perl/v5.15.8-72-g920e47b/165a/lib/site_perl/5.15.8 /home/src/perl/repoperls/installed-perls/perl/v5.15.8-72-g920e47b/165a/lib/5.15.8/x86_64-linux /home/src/perl/repoperls/installed-perls/perl/v5.15.8-72-g920e47b/165a/lib/5.15.8 .) at /tmp/loop_over_bdir-ChUqOr/Perlbal-1.80-_rsaaF/blib/lib/Perlbal/SocketSSL.pm line 17.
BEGIN failed--compilation aborted at /tmp/loop_over_bdir-ChUqOr/Perlbal-1.80-_rsaaF/blib/lib/Perlbal/SocketSSL.pm line 17.
Compilation failed in require at /tmp/loop_over_bdir-ChUqOr/Perlbal-1.80-_rsaaF/blib/lib/Perlbal/TCPListener.pm line 22.

t/00-use.t ............... ok
Use of uninitialized value $^WARNING_BITS in bitwise xor (^) at /home/src/perl/repoperls/installed-perls/perl/v5.15.8-72-g920e47b/165a/lib/site_perl/5.15.8/common/sense.pm line 237.
SSL support failed on load: Can't locate IO/Socket/SSL.pm in @INC (@INC contains: /tmp/loop_over_bdir-ChUqOr/Perlbal-1.80-_rsaaF/blib/lib /tmp/loop_over_bdir-ChUqOr/Perlbal-1.80-_rsaaF/blib/arch /tmp/loop_over_bdir-ChUqOr/Encode-IBM-0.11-9PHknZ/blib/arch /tmp/loop_over_bdir-ChUqOr/Encode-IBM-0.11-9PHknZ/blib/lib /tmp/loop_over_bdir-ChUqOr/Encode-IBM-0.11-9PHknZ/blib/arch /tmp/loop_over_bdir-ChUqOr/Encode-IBM-0.11-9PHknZ/blib/lib /home/src/perl/repoperls/installed-perls/perl/v5.15.8-72-g920e47b/165a/lib/site_perl/5.15.8/x86_64-linux /home/src/perl/repoperls/installed-perls/perl/v5.15.8-72-g920e47b/165a/lib/site_perl/5.15.8 /home/src/perl/repoperls/installed-perls/perl/v5.15.8-72-g920e47b/165a/lib/5.15.8/x86_64-linux /home/src/perl/repoperls/installed-perls/perl/v5.15.8-72-g920e47b/165a/lib/5.15.8 .) at /tmp/loop_over_bdir-ChUqOr/Perlbal-1.80-_rsaaF/blib/lib/Perlbal/SocketSSL.pm line 17.
BEGIN failed--compilation aborted at /tmp/loop_over_bdir-ChUqOr/Perlbal-1.80-_rsaaF/blib/lib/Perlbal/SocketSSL.pm line 17.
Compilation failed in require at /tmp/loop_over_bdir-ChUqOr/Perlbal-1.80-_rsaaF/blib/lib/Perlbal/TCPListener.pm line 22.

t/10-testharness.t ....... ok
Use of uninitialized value $^WARNING_BITS in bitwise xor (^) at /home/src/perl/repoperls/installed-perls/perl/v5.15.8-72-g920e47b/165a/lib/site_perl/5.15.8/common/sense.pm line 237.
SSL support failed on load: Can't locate IO/Socket/SSL.pm in @INC (@INC contains: /tmp/loop_over_bdir-ChUqOr/Perlbal-1.80-_rsaaF/blib/lib /tmp/loop_over_bdir-ChUqOr/Perlbal-1.80-_rsaaF/blib/arch /tmp/loop_over_bdir-ChUqOr/Encode-IBM-0.11-9PHknZ/blib/arch /tmp/loop_over_bdir-ChUqOr/Encode-IBM-0.11-9PHknZ/blib/lib /tmp/loop_over_bdir-ChUqOr/Encode-IBM-0.11-9PHknZ/blib/arch /tmp/loop_over_bdir-ChUqOr/Encode-IBM-0.11-9PHknZ/blib/lib /home/src/perl/repoperls/installed-perls/perl/v5.15.8-72-g920e47b/165a/lib/site_perl/5.15.8/x86_64-linux /home/src/perl/repoperls/installed-perls/perl/v5.15.8-72-g920e47b/165a/lib/site_perl/5.15.8 /home/src/perl/repoperls/installed-perls/perl/v5.15.8-72-g920e47b/165a/lib/5.15.8/x86_64-linux /home/src/perl/repoperls/installed-perls/perl/v5.15.8-72-g920e47b/165a/lib/5.15.8 .) at /tmp/loop_over_bdir-ChUqOr/Perlbal-1.80-_rsaaF/blib/lib/Perlbal/SocketSSL.pm line 17.
BEGIN failed--compilation aborted at /tmp/loop_over_bdir-ChUqOr/Perlbal-1.80-_rsaaF/blib/lib/Perlbal/SocketSSL.pm line 17.
Compilation failed in require at /tmp/loop_over_bdir-ChUqOr/Perlbal-1.80-_rsaaF/blib/lib/Perlbal/TCPListener.pm line 22.

t/12-headers.t ........... ok
Use of uninitialized value $^WARNING_BITS in bitwise xor (^) at /home/src/perl/repoperls/installed-perls/perl/v5.15.8-72-g920e47b/165a/lib/site_perl/5.15.8/common/sense.pm line 237.
SSL support failed on load: Can't locate IO/Socket/SSL.pm in @INC (@INC contains: /tmp/loop_over_bdir-ChUqOr/Perlbal-1.80-_rsaaF/blib/lib /tmp/loop_over_bdir-ChUqOr/Perlbal-1.80-_rsaaF/blib/arch /tmp/loop_over_bdir-ChUqOr/Encode-IBM-0.11-9PHknZ/blib/arch /tmp/loop_over_bdir-ChUqOr/Encode-IBM-0.11-9PHknZ/blib/lib /tmp/loop_over_bdir-ChUqOr/Encode-IBM-0.11-9PHknZ/blib/arch /tmp/loop_over_bdir-ChUqOr/Encode-IBM-0.11-9PHknZ/blib/lib /home/src/perl/repoperls/installed-perls/perl/v5.15.8-72-g920e47b/165a/lib/site_perl/5.15.8/x86_64-linux /home/src/perl/repoperls/installed-perls/perl/v5.15.8-72-g920e47b/165a/lib/site_perl/5.15.8 /home/src/perl/repoperls/installed-perls/perl/v5.15.8-72-g920e47b/165a/lib/5.15.8/x86_64-linux /home/src/perl/repoperls/installed-perls/perl/v5.15.8-72-g920e47b/165a/lib/5.15.8 .) at /tmp/loop_over_bdir-ChUqOr/Perlbal-1.80-_rsaaF/blib/lib/Perlbal/SocketSSL.pm line 17.
BEGIN failed--compilation aborted at /tmp/loop_over_bdir-ChUqOr/Perlbal-1.80-_rsaaF/blib/lib/Perlbal/SocketSSL.pm line 17.
Compilation failed in require at /tmp/loop_over_bdir-ChUqOr/Perlbal-1.80-_rsaaF/blib/lib/Perlbal/TCPListener.pm line 22.

Use of uninitialized value $^WARNING_BITS in bitwise xor (^) at /home/src/perl/repoperls/installed-perls/perl/v5.15.8-72-g920e47b/165a/lib/site_perl/5.15.8/common/sense.pm line 237, <GEN5> line 6.
SSL support failed on load: Can't locate IO/Socket/SSL.pm in @INC (@INC contains: /tmp/loop_over_bdir-ChUqOr/Perlbal-1.80-_rsaaF/blib/lib /tmp/loop_over_bdir-ChUqOr/Perlbal-1.80-_rsaaF/blib/arch /tmp/loop_over_bdir-ChUqOr/Encode-IBM-0.11-9PHknZ/blib/arch /tmp/loop_over_bdir-ChUqOr/Encode-IBM-0.11-9PHknZ/blib/lib /tmp/loop_over_bdir-ChUqOr/Encode-IBM-0.11-9PHknZ/blib/arch /tmp/loop_over_bdir-ChUqOr/Encode-IBM-0.11-9PHknZ/blib/lib /home/src/perl/repoperls/installed-perls/perl/v5.15.8-72-g920e47b/165a/lib/site_perl/5.15.8/x86_64-linux /home/src/perl/repoperls/installed-perls/perl/v5.15.8-72-g920e47b/165a/lib/site_perl/5.15.8 /home/src/perl/repoperls/installed-perls/perl/v5.15.8-72-g920e47b/165a/lib/5.15.8/x86_64-linux /home/src/perl/repoperls/installed-perls/perl/v5.15.8-72-g920e47b/165a/lib/5.15.8 .) at /tmp/loop_over_bdir-ChUqOr/Perlbal-1.80-_rsaaF/blib/lib/Perlbal/SocketSSL.pm line 17, <GEN5> line 6.
BEGIN failed--compilation aborted at /tmp/loop_over_bdir-ChUqOr/Perlbal-1.80-_rsaaF/blib/lib/Perlbal/SocketSSL.pm line 17, <GEN5> line 6.
Compilation failed in require at /tmp/loop_over_bdir-ChUqOr/Perlbal-1.80-_rsaaF/blib/lib/Perlbal/TCPListener.pm line 22, <GEN5> line 6.

t/13-server-tokens.t ..... ok
Use of uninitialized value $^WARNING_BITS in bitwise xor (^) at /home/src/perl/repoperls/installed-perls/perl/v5.15.8-72-g920e47b/165a/lib/site_perl/5.15.8/common/sense.pm line 237.
SSL support failed on load: Can't locate IO/Socket/SSL.pm in @INC (@INC contains: /tmp/loop_over_bdir-ChUqOr/Perlbal-1.80-_rsaaF/blib/lib /tmp/loop_over_bdir-ChUqOr/Perlbal-1.80-_rsaaF/blib/arch /tmp/loop_over_bdir-ChUqOr/Encode-IBM-0.11-9PHknZ/blib/arch /tmp/loop_over_bdir-ChUqOr/Encode-IBM-0.11-9PHknZ/blib/lib /tmp/loop_over_bdir-ChUqOr/Encode-IBM-0.11-9PHknZ/blib/arch /tmp/loop_over_bdir-ChUqOr/Encode-IBM-0.11-9PHknZ/blib/lib /home/src/perl/repoperls/installed-perls/perl/v5.15.8-72-g920e47b/165a/lib/site_perl/5.15.8/x86_64-linux /home/src/perl/repoperls/installed-perls/perl/v5.15.8-72-g920e47b/165a/lib/site_perl/5.15.8 /home/src/perl/repoperls/installed-perls/perl/v5.15.8-72-g920e47b/165a/lib/5.15.8/x86_64-linux /home/src/perl/repoperls/installed-perls/perl/v5.15.8-72-g920e47b/165a/lib/5.15.8 .) at /tmp/loop_over_bdir-ChUqOr/Perlbal-1.80-_rsaaF/blib/lib/Perlbal/SocketSSL.pm line 17.
BEGIN failed--compilation aborted at /tmp/loop_over_bdir-ChUqOr/Perlbal-1.80-_rsaaF/blib/lib/Perlbal/SocketSSL.pm line 17.
Compilation failed in require at /tmp/loop_over_bdir-ChUqOr/Perlbal-1.80-_rsaaF/blib/lib/Perlbal/TCPListener.pm line 22.

t/15-webserver.t ......... ok
Use of uninitialized value $^WARNING_BITS in bitwise xor (^) at /home/src/perl/repoperls/installed-perls/perl/v5.15.8-72-g920e47b/165a/lib/site_perl/5.15.8/common/sense.pm line 237.
SSL support failed on load: Can't locate IO/Socket/SSL.pm in @INC (@INC contains: /tmp/loop_over_bdir-ChUqOr/Perlbal-1.80-_rsaaF/blib/lib /tmp/loop_over_bdir-ChUqOr/Perlbal-1.80-_rsaaF/blib/arch /tmp/loop_over_bdir-ChUqOr/Encode-IBM-0.11-9PHknZ/blib/arch /tmp/loop_over_bdir-ChUqOr/Encode-IBM-0.11-9PHknZ/blib/lib /tmp/loop_over_bdir-ChUqOr/Encode-IBM-0.11-9PHknZ/blib/arch /tmp/loop_over_bdir-ChUqOr/Encode-IBM-0.11-9PHknZ/blib/lib /home/src/perl/repoperls/installed-perls/perl/v5.15.8-72-g920e47b/165a/lib/site_perl/5.15.8/x86_64-linux /home/src/perl/repoperls/installed-perls/perl/v5.15.8-72-g920e47b/165a/lib/site_perl/5.15.8 /home/src/perl/repoperls/installed-perls/perl/v5.15.8-72-g920e47b/165a/lib/5.15.8/x86_64-linux /home/src/perl/repoperls/installed-perls/perl/v5.15.8-72-g920e47b/165a/lib/5.15.8 .) at /tmp/loop_over_bdir-ChUqOr/Perlbal-1.80-_rsaaF/blib/lib/Perlbal/SocketSSL.pm line 17.
BEGIN failed--compilation aborted at /tmp/loop_over_bdir-ChUqOr/Perlbal-1.80-_rsaaF/blib/lib/Perlbal/SocketSSL.pm line 17.
Compilation failed in require at /tmp/loop_over_bdir-ChUqOr/Perlbal-1.80-_rsaaF/blib/lib/Perlbal/TCPListener.pm line 22.

t/17-webserver-concat.t .. ok
Use of uninitialized value $^WARNING_BITS in bitwise xor (^) at /home/src/perl/repoperls/installed-perls/perl/v5.15.8-72-g920e47b/165a/lib/site_perl/5.15.8/common/sense.pm line 237.
SSL support failed on load: Can't locate IO/Socket/SSL.pm in @INC (@INC contains: /tmp/loop_over_bdir-ChUqOr/Perlbal-1.80-_rsaaF/blib/lib /tmp/loop_over_bdir-ChUqOr/Perlbal-1.80-_rsaaF/blib/arch /tmp/loop_over_bdir-ChUqOr/Encode-IBM-0.11-9PHknZ/blib/arch /tmp/loop_over_bdir-ChUqOr/Encode-IBM-0.11-9PHknZ/blib/lib /tmp/loop_over_bdir-ChUqOr/Encode-IBM-0.11-9PHknZ/blib/arch /tmp/loop_over_bdir-ChUqOr/Encode-IBM-0.11-9PHknZ/blib/lib /home/src/perl/repoperls/installed-perls/perl/v5.15.8-72-g920e47b/165a/lib/site_perl/5.15.8/x86_64-linux /home/src/perl/repoperls/installed-perls/perl/v5.15.8-72-g920e47b/165a/lib/site_perl/5.15.8 /home/src/perl/repoperls/installed-perls/perl/v5.15.8-72-g920e47b/165a/lib/5.15.8/x86_64-linux /home/src/perl/repoperls/installed-perls/perl/v5.15.8-72-g920e47b/165a/lib/5.15.8 .) at /tmp/loop_over_bdir-ChUqOr/Perlbal-1.80-_rsaaF/blib/lib/Perlbal/SocketSSL.pm line 17.
BEGIN failed--compilation aborted at /tmp/loop_over_bdir-ChUqOr/Perlbal-1.80-_rsaaF/blib/lib/Perlbal/SocketSSL.pm line 17.
Compilation failed in require at /tmp/loop_over_bdir-ChUqOr/Perlbal-1.80-_rsaaF/blib/lib/Perlbal/TCPListener.pm line 22.

t/20-put.t ............... ok
Use of uninitialized value $^WARNING_BITS in bitwise xor (^) at /home/src/perl/repoperls/installed-perls/perl/v5.15.8-72-g920e47b/165a/lib/site_perl/5.15.8/common/sense.pm line 237.
SSL support failed on load: Can't locate IO/Socket/SSL.pm in @INC (@INC contains: /tmp/loop_over_bdir-ChUqOr/Perlbal-1.80-_rsaaF/blib/lib /tmp/loop_over_bdir-ChUqOr/Perlbal-1.80-_rsaaF/blib/arch /tmp/loop_over_bdir-ChUqOr/Encode-IBM-0.11-9PHknZ/blib/arch /tmp/loop_over_bdir-ChUqOr/Encode-IBM-0.11-9PHknZ/blib/lib /tmp/loop_over_bdir-ChUqOr/Encode-IBM-0.11-9PHknZ/blib/arch /tmp/loop_over_bdir-ChUqOr/Encode-IBM-0.11-9PHknZ/blib/lib /home/src/perl/repoperls/installed-perls/perl/v5.15.8-72-g920e47b/165a/lib/site_perl/5.15.8/x86_64-linux /home/src/perl/repoperls/installed-perls/perl/v5.15.8-72-g920e47b/165a/lib/site_perl/5.15.8 /home/src/perl/repoperls/installed-perls/perl/v5.15.8-72-g920e47b/165a/lib/5.15.8/x86_64-linux /home/src/perl/repoperls/installed-perls/perl/v5.15.8-72-g920e47b/165a/lib/5.15.8 .) at /tmp/loop_over_bdir-ChUqOr/Perlbal-1.80-_rsaaF/blib/lib/Perlbal/SocketSSL.pm line 17.
BEGIN failed--compilation aborted at /tmp/loop_over_bdir-ChUqOr/Perlbal-1.80-_rsaaF/blib/lib/Perlbal/SocketSSL.pm line 17.
Compilation failed in require at /tmp/loop_over_bdir-ChUqOr/Perlbal-1.80-_rsaaF/blib/lib/Perlbal/TCPListener.pm line 22.

# Writing: 500
# Writing: 5
# Writing: 5
# Writing: 5
# Writing: 100000
# Writing: 60000
# Writing: 1000
# Writing: 338485
t/22-chunked-put.t ....... ok
Use of uninitialized value $^WARNING_BITS in bitwise xor (^) at /home/src/perl/repoperls/installed-perls/perl/v5.15.8-72-g920e47b/165a/lib/site_perl/5.15.8/common/sense.pm line 237, <GEN21> line 1.
SSL support failed on load: Can't locate IO/Socket/SSL.pm in @INC (@INC contains: /tmp/loop_over_bdir-ChUqOr/Perlbal-1.80-_rsaaF/blib/lib /tmp/loop_over_bdir-ChUqOr/Perlbal-1.80-_rsaaF/blib/arch /tmp/loop_over_bdir-ChUqOr/Encode-IBM-0.11-9PHknZ/blib/arch /tmp/loop_over_bdir-ChUqOr/Encode-IBM-0.11-9PHknZ/blib/lib /tmp/loop_over_bdir-ChUqOr/Encode-IBM-0.11-9PHknZ/blib/arch /tmp/loop_over_bdir-ChUqOr/Encode-IBM-0.11-9PHknZ/blib/lib /home/src/perl/repoperls/installed-perls/perl/v5.15.8-72-g920e47b/165a/lib/site_perl/5.15.8/x86_64-linux /home/src/perl/repoperls/installed-perls/perl/v5.15.8-72-g920e47b/165a/lib/site_perl/5.15.8 /home/src/perl/repoperls/installed-perls/perl/v5.15.8-72-g920e47b/165a/lib/5.15.8/x86_64-linux /home/src/perl/repoperls/installed-perls/perl/v5.15.8-72-g920e47b/165a/lib/5.15.8 .) at /tmp/loop_over_bdir-ChUqOr/Perlbal-1.80-_rsaaF/blib/lib/Perlbal/SocketSSL.pm line 17, <GEN21> line 1.
BEGIN failed--compilation aborted at /tmp/loop_over_bdir-ChUqOr/Perlbal-1.80-_rsaaF/blib/lib/Perlbal/SocketSSL.pm line 17, <GEN21> line 1.
Compilation failed in require at /tmp/loop_over_bdir-ChUqOr/Perlbal-1.80-_rsaaF/blib/lib/Perlbal/TCPListener.pm line 22, <GEN21> line 1.

t/30-reverseproxy.t ...... ok
Use of uninitialized value $^WARNING_BITS in bitwise xor (^) at /home/src/perl/repoperls/installed-perls/perl/v5.15.8-72-g920e47b/165a/lib/site_perl/5.15.8/common/sense.pm line 237, <GEN26> line 1.
SSL support failed on load: Can't locate IO/Socket/SSL.pm in @INC (@INC contains: /tmp/loop_over_bdir-ChUqOr/Perlbal-1.80-_rsaaF/blib/lib /tmp/loop_over_bdir-ChUqOr/Perlbal-1.80-_rsaaF/blib/arch /tmp/loop_over_bdir-ChUqOr/Encode-IBM-0.11-9PHknZ/blib/arch /tmp/loop_over_bdir-ChUqOr/Encode-IBM-0.11-9PHknZ/blib/lib /tmp/loop_over_bdir-ChUqOr/Encode-IBM-0.11-9PHknZ/blib/arch /tmp/loop_over_bdir-ChUqOr/Encode-IBM-0.11-9PHknZ/blib/lib /home/src/perl/repoperls/installed-perls/perl/v5.15.8-72-g920e47b/165a/lib/site_perl/5.15.8/x86_64-linux /home/src/perl/repoperls/installed-perls/perl/v5.15.8-72-g920e47b/165a/lib/site_perl/5.15.8 /home/src/perl/repoperls/installed-perls/perl/v5.15.8-72-g920e47b/165a/lib/5.15.8/x86_64-linux /home/src/perl/repoperls/installed-perls/perl/v5.15.8-72-g920e47b/165a/lib/5.15.8 .) at /tmp/loop_over_bdir-ChUqOr/Perlbal-1.80-_rsaaF/blib/lib/Perlbal/SocketSSL.pm line 17, <GEN26> line 1.
BEGIN failed--compilation aborted at /tmp/loop_over_bdir-ChUqOr/Perlbal-1.80-_rsaaF/blib/lib/Perlbal/SocketSSL.pm line 17, <GEN26> line 1.
Compilation failed in require at /tmp/loop_over_bdir-ChUqOr/Perlbal-1.80-_rsaaF/blib/lib/Perlbal/TCPListener.pm line 22, <GEN26> line 1.

t/31-realworld.t ......... ok
Use of uninitialized value $^WARNING_BITS in bitwise xor (^) at /home/src/perl/repoperls/installed-perls/perl/v5.15.8-72-g920e47b/165a/lib/site_perl/5.15.8/common/sense.pm line 237, <GEN25> line 1.
SSL support failed on load: Can't locate IO/Socket/SSL.pm in @INC (@INC contains: /tmp/loop_over_bdir-ChUqOr/Perlbal-1.80-_rsaaF/blib/lib /tmp/loop_over_bdir-ChUqOr/Perlbal-1.80-_rsaaF/blib/arch /tmp/loop_over_bdir-ChUqOr/Encode-IBM-0.11-9PHknZ/blib/arch /tmp/loop_over_bdir-ChUqOr/Encode-IBM-0.11-9PHknZ/blib/lib /tmp/loop_over_bdir-ChUqOr/Encode-IBM-0.11-9PHknZ/blib/arch /tmp/loop_over_bdir-ChUqOr/Encode-IBM-0.11-9PHknZ/blib/lib /home/src/perl/repoperls/installed-perls/perl/v5.15.8-72-g920e47b/165a/lib/site_perl/5.15.8/x86_64-linux /home/src/perl/repoperls/installed-perls/perl/v5.15.8-72-g920e47b/165a/lib/site_perl/5.15.8 /home/src/perl/repoperls/installed-perls/perl/v5.15.8-72-g920e47b/165a/lib/5.15.8/x86_64-linux /home/src/perl/repoperls/installed-perls/perl/v5.15.8-72-g920e47b/165a/lib/5.15.8 .) at /tmp/loop_over_bdir-ChUqOr/Perlbal-1.80-_rsaaF/blib/lib/Perlbal/SocketSSL.pm line 17, <GEN25> line 1.
BEGIN failed--compilation aborted at /tmp/loop_over_bdir-ChUqOr/Perlbal-1.80-_rsaaF/blib/lib/Perlbal/SocketSSL.pm line 17, <GEN25> line 1.
Compilation failed in require at /tmp/loop_over_bdir-ChUqOr/Perlbal-1.80-_rsaaF/blib/lib/Perlbal/TCPListener.pm line 22, <GEN25> line 1.

# separator length 2
# separator length 0
500 response!
t/32-pipelining.t ........ ok
Use of uninitialized value $^WARNING_BITS in bitwise xor (^) at /home/src/perl/repoperls/installed-perls/perl/v5.15.8-72-g920e47b/165a/lib/site_perl/5.15.8/common/sense.pm line 237, <GEN31> line 1.
SSL support failed on load: Can't locate IO/Socket/SSL.pm in @INC (@INC contains: /tmp/loop_over_bdir-ChUqOr/Perlbal-1.80-_rsaaF/blib/lib /tmp/loop_over_bdir-ChUqOr/Perlbal-1.80-_rsaaF/blib/arch /tmp/loop_over_bdir-ChUqOr/Encode-IBM-0.11-9PHknZ/blib/arch /tmp/loop_over_bdir-ChUqOr/Encode-IBM-0.11-9PHknZ/blib/lib /tmp/loop_over_bdir-ChUqOr/Encode-IBM-0.11-9PHknZ/blib/arch /tmp/loop_over_bdir-ChUqOr/Encode-IBM-0.11-9PHknZ/blib/lib /home/src/perl/repoperls/installed-perls/perl/v5.15.8-72-g920e47b/165a/lib/site_perl/5.15.8/x86_64-linux /home/src/perl/repoperls/installed-perls/perl/v5.15.8-72-g920e47b/165a/lib/site_perl/5.15.8 /home/src/perl/repoperls/installed-perls/perl/v5.15.8-72-g920e47b/165a/lib/5.15.8/x86_64-linux /home/src/perl/repoperls/installed-perls/perl/v5.15.8-72-g920e47b/165a/lib/5.15.8 .) at /tmp/loop_over_bdir-ChUqOr/Perlbal-1.80-_rsaaF/blib/lib/Perlbal/SocketSSL.pm line 17, <GEN31> line 1.
BEGIN failed--compilation aborted at /tmp/loop_over_bdir-ChUqOr/Perlbal-1.80-_rsaaF/blib/lib/Perlbal/SocketSSL.pm line 17, <GEN31> line 1.
Compilation failed in require at /tmp/loop_over_bdir-ChUqOr/Perlbal-1.80-_rsaaF/blib/lib/Perlbal/TCPListener.pm line 22, <GEN31> line 1.

t/32-selector.t .......... ok
Use of uninitialized value $^WARNING_BITS in bitwise xor (^) at /home/src/perl/repoperls/installed-perls/perl/v5.15.8-72-g920e47b/165a/lib/site_perl/5.15.8/common/sense.pm line 237, <GEN35> line 1.
SSL support failed on load: Can't locate IO/Socket/SSL.pm in @INC (@INC contains: /tmp/loop_over_bdir-ChUqOr/Perlbal-1.80-_rsaaF/blib/lib /tmp/loop_over_bdir-ChUqOr/Perlbal-1.80-_rsaaF/blib/arch /tmp/loop_over_bdir-ChUqOr/Encode-IBM-0.11-9PHknZ/blib/arch /tmp/loop_over_bdir-ChUqOr/Encode-IBM-0.11-9PHknZ/blib/lib /tmp/loop_over_bdir-ChUqOr/Encode-IBM-0.11-9PHknZ/blib/arch /tmp/loop_over_bdir-ChUqOr/Encode-IBM-0.11-9PHknZ/blib/lib /home/src/perl/repoperls/installed-perls/perl/v5.15.8-72-g920e47b/165a/lib/site_perl/5.15.8/x86_64-linux /home/src/perl/repoperls/installed-perls/perl/v5.15.8-72-g920e47b/165a/lib/site_perl/5.15.8 /home/src/perl/repoperls/installed-perls/perl/v5.15.8-72-g920e47b/165a/lib/5.15.8/x86_64-linux /home/src/perl/repoperls/installed-perls/perl/v5.15.8-72-g920e47b/165a/lib/5.15.8 .) at /tmp/loop_over_bdir-ChUqOr/Perlbal-1.80-_rsaaF/blib/lib/Perlbal/SocketSSL.pm line 17, <GEN35> line 1.
BEGIN failed--compilation aborted at /tmp/loop_over_bdir-ChUqOr/Perlbal-1.80-_rsaaF/blib/lib/Perlbal/SocketSSL.pm line 17, <GEN35> line 1.
Compilation failed in require at /tmp/loop_over_bdir-ChUqOr/Perlbal-1.80-_rsaaF/blib/lib/Perlbal/TCPListener.pm line 22, <GEN35> line 1.

t/35-reproxy.t ........... ok
Use of uninitialized value $^WARNING_BITS in bitwise xor (^) at /home/src/perl/repoperls/installed-perls/perl/v5.15.8-72-g920e47b/165a/lib/site_perl/5.15.8/common/sense.pm line 237, <GEN35> line 1.
SSL support failed on load: Can't locate IO/Socket/SSL.pm in @INC (@INC contains: /tmp/loop_over_bdir-ChUqOr/Perlbal-1.80-_rsaaF/blib/lib /tmp/loop_over_bdir-ChUqOr/Perlbal-1.80-_rsaaF/blib/arch /tmp/loop_over_bdir-ChUqOr/Encode-IBM-0.11-9PHknZ/blib/arch /tmp/loop_over_bdir-ChUqOr/Encode-IBM-0.11-9PHknZ/blib/lib /tmp/loop_over_bdir-ChUqOr/Encode-IBM-0.11-9PHknZ/blib/arch /tmp/loop_over_bdir-ChUqOr/Encode-IBM-0.11-9PHknZ/blib/lib /home/src/perl/repoperls/installed-perls/perl/v5.15.8-72-g920e47b/165a/lib/site_perl/5.15.8/x86_64-linux /home/src/perl/repoperls/installed-perls/perl/v5.15.8-72-g920e47b/165a/lib/site_perl/5.15.8 /home/src/perl/repoperls/installed-perls/perl/v5.15.8-72-g920e47b/165a/lib/5.15.8/x86_64-linux /home/src/perl/repoperls/installed-perls/perl/v5.15.8-72-g920e47b/165a/lib/5.15.8 .) at /tmp/loop_over_bdir-ChUqOr/Perlbal-1.80-_rsaaF/blib/lib/Perlbal/SocketSSL.pm line 17, <GEN35> line 1.
BEGIN failed--compilation aborted at /tmp/loop_over_bdir-ChUqOr/Perlbal-1.80-_rsaaF/blib/lib/Perlbal/SocketSSL.pm line 17, <GEN35> line 1.
Compilation failed in require at /tmp/loop_over_bdir-ChUqOr/Perlbal-1.80-_rsaaF/blib/lib/Perlbal/TCPListener.pm line 22, <GEN35> line 1.

t/40-ranges.t ............ ok
Use of uninitialized value $^WARNING_BITS in bitwise xor (^) at /home/src/perl/repoperls/installed-perls/perl/v5.15.8-72-g920e47b/165a/lib/site_perl/5.15.8/common/sense.pm line 237, <GEN39> line 1.
SSL support failed on load: Can't locate IO/Socket/SSL.pm in @INC (@INC contains: /tmp/loop_over_bdir-ChUqOr/Perlbal-1.80-_rsaaF/blib/lib /tmp/loop_over_bdir-ChUqOr/Perlbal-1.80-_rsaaF/blib/arch /tmp/loop_over_bdir-ChUqOr/Encode-IBM-0.11-9PHknZ/blib/arch /tmp/loop_over_bdir-ChUqOr/Encode-IBM-0.11-9PHknZ/blib/lib /tmp/loop_over_bdir-ChUqOr/Encode-IBM-0.11-9PHknZ/blib/arch /tmp/loop_over_bdir-ChUqOr/Encode-IBM-0.11-9PHknZ/blib/lib /home/src/perl/repoperls/installed-perls/perl/v5.15.8-72-g920e47b/165a/lib/site_perl/5.15.8/x86_64-linux /home/src/perl/repoperls/installed-perls/perl/v5.15.8-72-g920e47b/165a/lib/site_perl/5.15.8 /home/src/perl/repoperls/installed-perls/perl/v5.15.8-72-g920e47b/165a/lib/5.15.8/x86_64-linux /home/src/perl/repoperls/installed-perls/perl/v5.15.8-72-g920e47b/165a/lib/5.15.8 .) at /tmp/loop_over_bdir-ChUqOr/Perlbal-1.80-_rsaaF/blib/lib/Perlbal/SocketSSL.pm line 17, <GEN39> line 1.
BEGIN failed--compilation aborted at /tmp/loop_over_bdir-ChUqOr/Perlbal-1.80-_rsaaF/blib/lib/Perlbal/SocketSSL.pm line 17, <GEN39> line 1.
Compilation failed in require at /tmp/loop_over_bdir-ChUqOr/Perlbal-1.80-_rsaaF/blib/lib/Perlbal/TCPListener.pm line 22, <GEN39> line 1.

t/45-buffereduploads.t ... ok
Use of uninitialized value $^WARNING_BITS in bitwise xor (^) at /home/src/perl/repoperls/installed-perls/perl/v5.15.8-72-g920e47b/165a/lib/site_perl/5.15.8/common/sense.pm line 237.
SSL support failed on load: Can't locate IO/Socket/SSL.pm in @INC (@INC contains: /tmp/loop_over_bdir-ChUqOr/Perlbal-1.80-_rsaaF/blib/lib /tmp/loop_over_bdir-ChUqOr/Perlbal-1.80-_rsaaF/blib/arch /tmp/loop_over_bdir-ChUqOr/Encode-IBM-0.11-9PHknZ/blib/arch /tmp/loop_over_bdir-ChUqOr/Encode-IBM-0.11-9PHknZ/blib/lib /tmp/loop_over_bdir-ChUqOr/Encode-IBM-0.11-9PHknZ/blib/arch /tmp/loop_over_bdir-ChUqOr/Encode-IBM-0.11-9PHknZ/blib/lib /home/src/perl/repoperls/installed-perls/perl/v5.15.8-72-g920e47b/165a/lib/site_perl/5.15.8/x86_64-linux /home/src/perl/repoperls/installed-perls/perl/v5.15.8-72-g920e47b/165a/lib/site_perl/5.15.8 /home/src/perl/repoperls/installed-perls/perl/v5.15.8-72-g920e47b/165a/lib/5.15.8/x86_64-linux /home/src/perl/repoperls/installed-perls/perl/v5.15.8-72-g920e47b/165a/lib/5.15.8 .) at /tmp/loop_over_bdir-ChUqOr/Perlbal-1.80-_rsaaF/blib/lib/Perlbal/SocketSSL.pm line 17.
BEGIN failed--compilation aborted at /tmp/loop_over_bdir-ChUqOr/Perlbal-1.80-_rsaaF/blib/lib/Perlbal/SocketSSL.pm line 17.
Compilation failed in require at /tmp/loop_over_bdir-ChUqOr/Perlbal-1.80-_rsaaF/blib/lib/Perlbal/TCPListener.pm line 22.

t/50-plugins.t ........... ok
Use of uninitialized value $^WARNING_BITS in bitwise xor (^) at /home/src/perl/repoperls/installed-perls/perl/v5.15.8-72-g920e47b/165a/lib/site_perl/5.15.8/common/sense.pm line 237, <GEN44> line 1.
SSL support failed on load: Can't locate IO/Socket/SSL.pm in @INC (@INC contains: /tmp/loop_over_bdir-ChUqOr/Perlbal-1.80-_rsaaF/blib/lib /tmp/loop_over_bdir-ChUqOr/Perlbal-1.80-_rsaaF/blib/arch /tmp/loop_over_bdir-ChUqOr/Encode-IBM-0.11-9PHknZ/blib/arch /tmp/loop_over_bdir-ChUqOr/Encode-IBM-0.11-9PHknZ/blib/lib /tmp/loop_over_bdir-ChUqOr/Encode-IBM-0.11-9PHknZ/blib/arch /tmp/loop_over_bdir-ChUqOr/Encode-IBM-0.11-9PHknZ/blib/lib /home/src/perl/repoperls/installed-perls/perl/v5.15.8-72-g920e47b/165a/lib/site_perl/5.15.8/x86_64-linux /home/src/perl/repoperls/installed-perls/perl/v5.15.8-72-g920e47b/165a/lib/site_perl/5.15.8 /home/src/perl/repoperls/installed-perls/perl/v5.15.8-72-g920e47b/165a/lib/5.15.8/x86_64-linux /home/src/perl/repoperls/installed-perls/perl/v5.15.8-72-g920e47b/165a/lib/5.15.8 .) at /tmp/loop_over_bdir-ChUqOr/Perlbal-1.80-_rsaaF/blib/lib/Perlbal/SocketSSL.pm line 17, <GEN44> line 1.
BEGIN failed--compilation aborted at /tmp/loop_over_bdir-ChUqOr/Perlbal-1.80-_rsaaF/blib/lib/Perlbal/SocketSSL.pm line 17, <GEN44> line 1.
Compilation failed in require at /tmp/loop_over_bdir-ChUqOr/Perlbal-1.80-_rsaaF/blib/lib/Perlbal/TCPListener.pm line 22, <GEN44> line 1.

t/52-chunked-upload.t .... ok
t/60-child-httpd.t ....... skipped: Alpha feature; test skipped without $ENV{PERLBAL_TEST_ALPHA}
Use of uninitialized value $^WARNING_BITS in bitwise xor (^) at /home/src/perl/repoperls/installed-perls/perl/v5.15.8-72-g920e47b/165a/lib/site_perl/5.15.8/common/sense.pm line 237.
SSL support failed on load: Can't locate IO/Socket/SSL.pm in @INC (@INC contains: /tmp/loop_over_bdir-ChUqOr/Perlbal-1.80-_rsaaF/blib/lib /tmp/loop_over_bdir-ChUqOr/Perlbal-1.80-_rsaaF/blib/arch /tmp/loop_over_bdir-ChUqOr/Encode-IBM-0.11-9PHknZ/blib/arch /tmp/loop_over_bdir-ChUqOr/Encode-IBM-0.11-9PHknZ/blib/lib /tmp/loop_over_bdir-ChUqOr/Encode-IBM-0.11-9PHknZ/blib/arch /tmp/loop_over_bdir-ChUqOr/Encode-IBM-0.11-9PHknZ/blib/lib /home/src/perl/repoperls/installed-perls/perl/v5.15.8-72-g920e47b/165a/lib/site_perl/5.15.8/x86_64-linux /home/src/perl/repoperls/installed-perls/perl/v5.15.8-72-g920e47b/165a/lib/site_perl/5.15.8 /home/src/perl/repoperls/installed-perls/perl/v5.15.8-72-g920e47b/165a/lib/5.15.8/x86_64-linux /home/src/perl/repoperls/installed-perls/perl/v5.15.8-72-g920e47b/165a/lib/5.15.8 .) at /tmp/loop_over_bdir-ChUqOr/Perlbal-1.80-_rsaaF/blib/lib/Perlbal/SocketSSL.pm line 17.
BEGIN failed--compilation aborted at /tmp/loop_over_bdir-ChUqOr/Perlbal-1.80-_rsaaF/blib/lib/Perlbal/SocketSSL.pm line 17.
Compilation failed in require at /tmp/loop_over_bdir-ChUqOr/Perlbal-1.80-_rsaaF/blib/lib/Perlbal/TCPListener.pm line 22.

t/75-plugin-include.t .... ok
Use of uninitialized value $^WARNING_BITS in bitwise xor (^) at /home/src/perl/repoperls/installed-perls/perl/v5.15.8-72-g920e47b/165a/lib/site_perl/5.15.8/common/sense.pm line 237.
SSL support failed on load: Can't locate IO/Socket/SSL.pm in @INC (@INC contains: /tmp/loop_over_bdir-ChUqOr/Perlbal-1.80-_rsaaF/blib/lib /tmp/loop_over_bdir-ChUqOr/Perlbal-1.80-_rsaaF/blib/arch /tmp/loop_over_bdir-ChUqOr/Encode-IBM-0.11-9PHknZ/blib/arch /tmp/loop_over_bdir-ChUqOr/Encode-IBM-0.11-9PHknZ/blib/lib /tmp/loop_over_bdir-ChUqOr/Encode-IBM-0.11-9PHknZ/blib/arch /tmp/loop_over_bdir-ChUqOr/Encode-IBM-0.11-9PHknZ/blib/lib /home/src/perl/repoperls/installed-perls/perl/v5.15.8-72-g920e47b/165a/lib/site_perl/5.15.8/x86_64-linux /home/src/perl/repoperls/installed-perls/perl/v5.15.8-72-g920e47b/165a/lib/site_perl/5.15.8 /home/src/perl/repoperls/installed-perls/perl/v5.15.8-72-g920e47b/165a/lib/5.15.8/x86_64-linux /home/src/perl/repoperls/installed-perls/perl/v5.15.8-72-g920e47b/165a/lib/5.15.8 .) at /tmp/loop_over_bdir-ChUqOr/Perlbal-1.80-_rsaaF/blib/lib/Perlbal/SocketSSL.pm line 17.
BEGIN failed--compilation aborted at /tmp/loop_over_bdir-ChUqOr/Perlbal-1.80-_rsaaF/blib/lib/Perlbal/SocketSSL.pm line 17.
Compilation failed in require at /tmp/loop_over_bdir-ChUqOr/Perlbal-1.80-_rsaaF/blib/lib/Perlbal/TCPListener.pm line 22.

t/76-plugin-redirect.t ... ok
t/77-plugin-throttle.t ... ok
Use of uninitialized value $^WARNING_BITS in bitwise xor (^) at /home/src/perl/repoperls/installed-perls/perl/v5.15.8-72-g920e47b/165a/lib/site_perl/5.15.8/common/sense.pm line 237, <GEN3> line 1.
SSL support failed on load: Can't locate IO/Socket/SSL.pm in @INC (@INC contains: t/lib /tmp/loop_over_bdir-ChUqOr/Perlbal-1.80-_rsaaF/blib/lib /tmp/loop_over_bdir-ChUqOr/Perlbal-1.80-_rsaaF/blib/arch /tmp/loop_over_bdir-ChUqOr/Encode-IBM-0.11-9PHknZ/blib/arch /tmp/loop_over_bdir-ChUqOr/Encode-IBM-0.11-9PHknZ/blib/lib /home/src/perl/repoperls/installed-perls/perl/v5.15.8-72-g920e47b/165a/lib/site_perl/5.15.8/x86_64-linux /home/src/perl/repoperls/installed-perls/perl/v5.15.8-72-g920e47b/165a/lib/site_perl/5.15.8 /home/src/perl/repoperls/installed-perls/perl/v5.15.8-72-g920e47b/165a/lib/5.15.8/x86_64-linux /home/src/perl/repoperls/installed-perls/perl/v5.15.8-72-g920e47b/165a/lib/5.15.8 .) at /tmp/loop_over_bdir-ChUqOr/Perlbal-1.80-_rsaaF/blib/lib/Perlbal/SocketSSL.pm line 17, <GEN3> line 1.
BEGIN failed--compilation aborted at /tmp/loop_over_bdir-ChUqOr/Perlbal-1.80-_rsaaF/blib/lib/Perlbal/SocketSSL.pm line 17, <GEN3> line 1.
Compilation failed in require at /tmp/loop_over_bdir-ChUqOr/Perlbal-1.80-_rsaaF/blib/lib/Perlbal/TCPListener.pm line 22, <GEN3> line 1.

t/78-plugin-xffextras.t .. ok
Use of uninitialized value $^WARNING_BITS in bitwise xor (^) at /home/src/perl/repoperls/installed-perls/perl/v5.15.8-72-g920e47b/165a/lib/site_perl/5.15.8/common/sense.pm line 237.
SSL support failed on load: Can't locate IO/Socket/SSL.pm in @INC (@INC contains: /tmp/loop_over_bdir-ChUqOr/Perlbal-1.80-_rsaaF/blib/lib /tmp/loop_over_bdir-ChUqOr/Perlbal-1.80-_rsaaF/blib/arch /tmp/loop_over_bdir-ChUqOr/Encode-IBM-0.11-9PHknZ/blib/arch /tmp/loop_over_bdir-ChUqOr/Encode-IBM-0.11-9PHknZ/blib/lib /tmp/loop_over_bdir-ChUqOr/Encode-IBM-0.11-9PHknZ/blib/arch /tmp/loop_over_bdir-ChUqOr/Encode-IBM-0.11-9PHknZ/blib/lib /home/src/perl/repoperls/installed-perls/perl/v5.15.8-72-g920e47b/165a/lib/site_perl/5.15.8/x86_64-linux /home/src/perl/repoperls/installed-perls/perl/v5.15.8-72-g920e47b/165a/lib/site_perl/5.15.8 /home/src/perl/repoperls/installed-perls/perl/v5.15.8-72-g920e47b/165a/lib/5.15.8/x86_64-linux /home/src/perl/repoperls/installed-perls/perl/v5.15.8-72-g920e47b/165a/lib/5.15.8 .) at /tmp/loop_over_bdir-ChUqOr/Perlbal-1.80-_rsaaF/blib/lib/Perlbal/SocketSSL.pm line 17.
BEGIN failed--compilation aborted at /tmp/loop_over_bdir-ChUqOr/Perlbal-1.80-_rsaaF/blib/lib/Perlbal/SocketSSL.pm line 17.
Compilation failed in require at /tmp/loop_over_bdir-ChUqOr/Perlbal-1.80-_rsaaF/blib/lib/Perlbal/TCPListener.pm line 22.

t/90-accesscontrol.t ..... ok
t/91-fields.t ............ ok
Use of uninitialized value $^WARNING_BITS in bitwise xor (^) at /home/src/perl/repoperls/installed-perls/perl/v5.15.8-72-g920e47b/165a/lib/site_perl/5.15.8/common/sense.pm line 237.
SSL support failed on load: Can't locate IO/Socket/SSL.pm in @INC (@INC contains: /tmp/loop_over_bdir-ChUqOr/Perlbal-1.80-_rsaaF/blib/lib /tmp/loop_over_bdir-ChUqOr/Perlbal-1.80-_rsaaF/blib/arch /tmp/loop_over_bdir-ChUqOr/Encode-IBM-0.11-9PHknZ/blib/arch /tmp/loop_over_bdir-ChUqOr/Encode-IBM-0.11-9PHknZ/blib/lib /tmp/loop_over_bdir-ChUqOr/Encode-IBM-0.11-9PHknZ/blib/arch /tmp/loop_over_bdir-ChUqOr/Encode-IBM-0.11-9PHknZ/blib/lib /home/src/perl/repoperls/installed-perls/perl/v5.15.8-72-g920e47b/165a/lib/site_perl/5.15.8/x86_64-linux /home/src/perl/repoperls/installed-perls/perl/v5.15.8-72-g920e47b/165a/lib/site_perl/5.15.8 /home/src/perl/repoperls/installed-perls/perl/v5.15.8-72-g920e47b/165a/lib/5.15.8/x86_64-linux /home/src/perl/repoperls/installed-perls/perl/v5.15.8-72-g920e47b/165a/lib/5.15.8 .) at /tmp/loop_over_bdir-ChUqOr/Perlbal-1.80-_rsaaF/blib/lib/Perlbal/SocketSSL.pm line 17.
BEGIN failed--compilation aborted at /tmp/loop_over_bdir-ChUqOr/Perlbal-1.80-_rsaaF/blib/lib/Perlbal/SocketSSL.pm line 17.
Compilation failed in require at /tmp/loop_over_bdir-ChUqOr/Perlbal-1.80-_rsaaF/blib/lib/Perlbal/TCPListener.pm line 22.

t/99-benchmark-bool.t .... ok
All tests successful.
Files=25, Tests=583, 58 wallclock secs ( 0.15 usr  0.04 sys +  3.63 cusr  0.47 csys =  4.29 CPU)
Result: PASS

------------------------------
PREREQUISITES
------------------------------

Prerequisite modules loaded:

requires:

    Module              Need Have   
    ------------------- ---- -------
    base                0    2.18   
    BSD::Resource       0    1.2904 
    Carp                0    1.25   
    constant            0    1.23   
    Danga::Socket       1.44 1.61   
    Errno               0    1.15   
    Exporter            0    5.66   
    Fcntl               0    1.11   
    fields              0    2.16   
    File::Path          0    2.08_01
    File::Temp          0    0.22   
    FindBin             0    1.51   
    Getopt::Long        0    2.38   
    Hash::Util          0    0.11   
    HTTP::Date          0    6.01   
    HTTP::Request       0    6.00   
    HTTP::Response      0    6.03   
    IO::File            0    1.16   
    IO::Handle          0    1.33   
    IO::Select          0    1.21   
    IO::Socket::INET    0    1.33   
    lib                 0    0.63   
    LWP::UserAgent      0    6.04   
    Scalar::Util        0    1.23   
    Socket              0    1.98   
    strict              0    1.06   
    Sys::Syscall        0    0.23   
    Test::More          0.94 0.98   
    Time::HiRes         0    1.9725 
    vars                0    1.02   
    warnings            0    1.13   

build_requires:

    Module              Need Have   
    ------------------- ---- -------
    ExtUtils::MakeMaker 0    6.63_02

configure_requires:

    Module              Need Have   
    ------------------- ---- -------
    ExtUtils::MakeMaker 0    6.63_02


------------------------------
ENVIRONMENT AND OTHER CONTEXT
------------------------------

Environment variables:

    AUTOMATED_TESTING = 1
    LANG = en_US.UTF-8
    LANGUAGE = en_US:en
    PATH = /home/sand/bin:/usr/local/bin:/usr/bin:/bin:/usr/bin/X11:/usr/games:/usr/local/perl/bin:/usr/X11/bin:/sbin:/usr/sbin
    PERL5LIB = /tmp/loop_over_bdir-ChUqOr/Encode-IBM-0.11-9PHknZ/blib/arch:/tmp/loop_over_bdir-ChUqOr/Encode-IBM-0.11-9PHknZ/blib/lib
    PERL5OPT = 
    PERL5_CPANPLUS_IS_RUNNING = 2719
    PERL5_CPAN_IS_RUNNING = 2719
    PERLBAL_DEBUG = 1
    PERLBAL_DEBUG_OBJ = 1
    PERLBAL_TRACK_STATES = 1
    PERL_MM_USE_DEFAULT = 1
    SHELL = /usr/bin/zsh
    TERM = screen

Perl special variables (and OS-specific diagnostics, for MSWin32):

    $^X = /home/sand/src/perl/repoperls/installed-perls/perl/v5.15.8-72-g920e47b/165a/bin/perl
    $UID/$EUID = 1005 / 1005
    $GID = 1005 1005
    $EGID = 1005 1005

Perl module toolchain versions installed:

    Module              Have    
    ------------------- --------
    CPAN                1.9800  
    CPAN::Meta          2.120630
    Cwd                 3.39_02 
    ExtUtils::CBuilder  0.280206
    ExtUtils::Command   1.17    
    ExtUtils::Install   1.58    
    ExtUtils::MakeMaker 6.63_02 
    ExtUtils::Manifest  1.61    
    ExtUtils::ParseXS   3.16    
    File::Spec          3.39_02 
    JSON                2.53    
    JSON::PP            2.27200 
    Module::Build       0.40    
    Module::Signature   0.68    
    Parse::CPAN::Meta   1.4402  
    Test::Harness       3.23    
    Test::More          0.98    
    YAML                0.80    
    YAML::Syck          1.20    
    version             0.96    


--

Summary of my perl5 (revision 5 version 15 subversion 8) configuration:
  Commit id: 920e47bbc431efd5c1ca9d8b85fb88c172326b14
  Platform:
    osname=linux, osvers=3.2.0-1-amd64, archname=x86_64-linux
    uname='linux k83 3.2.0-1-amd64 #1 smp sun feb 5 15:17:15 utc 2012 x86_64 gnulinux '
    config_args='-Dprefix=/home/src/perl/repoperls/installed-perls/perl/v5.15.8-72-g920e47b/165a -Dmyhostname=k83 -Dinstallusrbinperl=n -Uversiononly -Dusedevel -des -Ui_db -Uuseithreads -Uuselongdouble -DDEBUGGING=-g'
    hint=recommended, useposix=true, d_sigaction=define
    useithreads=undef, usemultiplicity=undef
    useperlio=define, d_sfio=undef, uselargefiles=define, usesocks=undef
    use64bitint=define, use64bitall=define, uselongdouble=undef
    usemymalloc=n, bincompat5005=undef
  Compiler:
    cc='cc', ccflags ='-fno-strict-aliasing -pipe -fstack-protector -I/usr/local/include -D_LARGEFILE_SOURCE -D_FILE_OFFSET_BITS=64',
    optimize='-O2 -g',
    cppflags='-fno-strict-aliasing -pipe -fstack-protector -I/usr/local/include'
    ccversion='', gccversion='4.6.2', gccosandvers=''
    intsize=4, longsize=8, ptrsize=8, doublesize=8, byteorder=12345678
    d_longlong=define, longlongsize=8, d_longdbl=define, longdblsize=16
    ivtype='long', ivsize=8, nvtype='double', nvsize=8, Off_t='off_t', lseeksize=8
    alignbytes=8, prototype=define
  Linker and Libraries:
    ld='cc', ldflags =' -fstack-protector -L/usr/local/lib'
    libpth=/usr/local/lib /lib/x86_64-linux-gnu /lib/../lib /usr/lib/x86_64-linux-gnu /usr/lib/../lib /lib /usr/lib
    libs=-lnsl -ldb -ldl -lm -lcrypt -lutil -lc
    perllibs=-lnsl -ldl -lm -lcrypt -lutil -lc
    libc=, so=so, useshrplib=false, libperl=libperl.a
    gnulibc_version='2.13'
  Dynamic Linking:
    dlsrc=dl_dlopen.xs, dlext=so, d_dlsymun=undef, ccdlflags='-Wl,-E'
    cccdlflags='-fPIC', lddlflags='-shared -O2 -g -L/usr/local/lib -fstack-protector'


Characteristics of this binary (from libperl): 
  Compile-time options: HAS_TIMES PERLIO_LAYERS PERL_DONT_CREATE_GVSV
                        PERL_MALLOC_WRAP PERL_PRESERVE_IVUV PERL_USE_DEVEL
                        USE_64_BIT_ALL USE_64_BIT_INT USE_LARGE_FILES
                        USE_LOCALE USE_LOCALE_COLLATE USE_LOCALE_CTYPE
                        USE_LOCALE_NUMERIC USE_PERLIO USE_PERL_ATOF
  Built under linux
  Compiled at Mar  4 2012 20:40:22
  %ENV:
    PERL5LIB="/tmp/loop_over_bdir-ChUqOr/Encode-IBM-0.11-9PHknZ/blib/arch:/tmp/loop_over_bdir-ChUqOr/Encode-IBM-0.11-9PHknZ/blib/lib"
    PERL5OPT=""
    PERL5_CPANPLUS_IS_RUNNING="2719"
    PERL5_CPAN_IS_RUNNING="2719"
    PERLBAL_DEBUG="1"
    PERLBAL_DEBUG_OBJ="1"
    PERLBAL_TRACK_STATES="1"
    PERL_MM_USE_DEFAULT="1"
  @INC:
    /tmp/loop_over_bdir-ChUqOr/Encode-IBM-0.11-9PHknZ/blib/arch
    /tmp/loop_over_bdir-ChUqOr/Encode-IBM-0.11-9PHknZ/blib/lib
    /home/src/perl/repoperls/installed-perls/perl/v5.15.8-72-g920e47b/165a/lib/site_perl/5.15.8/x86_64-linux
    /home/src/perl/repoperls/installed-perls/perl/v5.15.8-72-g920e47b/165a/lib/site_perl/5.15.8
    /home/src/perl/repoperls/installed-perls/perl/v5.15.8-72-g920e47b/165a/lib/5.15.8/x86_64-linux
    /home/src/perl/repoperls/installed-perls/perl/v5.15.8-72-g920e47b/165a/lib/5.15.8
    .