Dist-Zilla-Plugin-CopyFilesFromBuild v0.170880 Perl 5 v5.18.1 darwin-2level
- Status
- Pass
- From
- Neil Bowers
- Dist
-
Dist-Zilla-Plugin-CopyFilesFromBuild v0.170880
- Platform
- Perl 5 v5.18.1 darwin-2level
- Date
- 2018-04-13 21:11:05
- ID
- 2d733380-3f5f-11e8-b93c-f0e98257c02f
This distribution has been tested as part of the CPAN Testers
project, supporting the Perl programming language. See
http://wiki.cpantesters.org/ for more information or email
questions to cpan-testers-discuss@perl.org
--
Dear Ryan C. Thompson,
This is a computer-generated report for Dist-Zilla-Plugin-CopyFilesFromBuild-0.170880
on perl 5.18.1, created by CPAN-Reporter-1.2014.
Thank you for uploading your work to CPAN. Congratulations!
All tests were successful.
Sections of this report:
* Tester comments
* Program output
* Prerequisites
* Environment and other context
------------------------------
TESTER COMMENTS
------------------------------
Additional comments from tester:
none provided
------------------------------
PROGRAM OUTPUT
------------------------------
Output from '/usr/bin/make test':
PERL_DL_NONLAZY=1 "/usr/local/bin/perl" "-MExtUtils::Command::MM" "-MTest::Harness" "-e" "undef *Test::Harness::Switches; test_harness(0, 'blib/lib', 'blib/arch')" t/*.t
t/00-compile.t ........... ok
# Testing with Perl 5.018001, /usr/local/bin/perl
# Carp version is 1.36
# Dist::Zilla::Plugin::ReadmeAnyFromPod version is 0.150250
# Dist::Zilla::Role::AfterBuild version is 6.011
# ExtUtils::MakeMaker version is 7.24
# File::Copy version is 2.26
# File::Spec version is 3.47
# IO::File version is 1.16
# IO::Handle version is 1.34
# IPC::Open3 version is 1.13
# List::Util version is 1.45
# Moose version is 2.1405
# MooseX::Has::Sugar version is 0.05070422
# Path::Tiny version is 0.096
# Scalar::Util version is 1.45
# Set::Scalar version is 1.27
# Test::DZil version is 6.011
# Test::Exception version is 0.35
# Test::More version is 1.302052
# Test::Most version is 0.34
# autodie version is 2.29
# blib version is 1.06
# strict version is 1.07
# utf8 version is 1.10
# warnings version is 1.18
t/000-report-versions.t .. ok
t/author-critic.t ........ skipped: these tests are for testing by the author
t/author-pod-coverage.t .. skipped: these tests are for testing by the author
t/author-pod-syntax.t .... skipped: these tests are for testing by the author
t/basic.t ................ ok
t/release-has-version.t .. skipped: these tests are for release candidate testing
t/release-kwalitee.t ..... skipped: these tests are for release candidate testing
t/release-portability.t .. skipped: these tests are for release candidate testing
t/release-unused-vars.t .. skipped: these tests are for release candidate testing
All tests successful.
Files=10, Tests=34, 1 wallclock secs ( 0.03 usr 0.03 sys + 1.38 cusr 0.17 csys = 1.61 CPU)
Result: PASS
------------------------------
PREREQUISITES
------------------------------
Prerequisite modules loaded:
requires:
Module Need Have
------------------------------------- ----- ----------
Dist::Zilla::Role::AfterBuild 0 6.011
File::Copy 0 2.26
IO::File 0 1.16
List::Util 1.33 1.45
Moose 0 2.1405
MooseX::Has::Sugar 0 0.05070422
Path::Tiny 0 0.096
perl 5.008 5.018001
Set::Scalar 0 1.27
strict 0 1.07
utf8 0 1.10
warnings 0 1.18
build_requires:
Module Need Have
------------------------------------- ----- ----------
autodie 0 2.29
blib 1.01 1.06
Carp 0 1.36
Dist::Zilla::Plugin::ReadmeAnyFromPod 0 0.150250
ExtUtils::MakeMaker 0 7.24
File::Spec 0 3.47
IO::Handle 0 1.34
IPC::Open3 0 1.13
Scalar::Util 0 1.45
Test::DZil 0 6.011
Test::Exception 0 0.35
Test::More 0.94 1.302052
Test::Most 0 0.34
configure_requires:
Module Need Have
------------------------------------- ----- ----------
ExtUtils::MakeMaker 0 7.24
perl 5.008 5.018001
------------------------------
ENVIRONMENT AND OTHER CONTEXT
------------------------------
Environment variables:
NONINTERACTIVE_TESTING = 1
PATH = /usr/local/apache/bin:/usr/local/bin:/usr/local/bin:/usr/bin:/bin:/usr/sbin:/sbin:/opt/X11/bin:/usr/local/git/bin
PERL5LIB =
PERL5OPT =
PERL5_CPANPLUS_IS_RUNNING = 19806
PERL5_CPAN_IS_RUNNING = 19806
PERL_MM_USE_DEFAULT = 1
SHELL = /bin/sh
TERM = xterm
Perl special variables (and OS-specific diagnostics, for MSWin32):
$^X = /usr/local/bin/perl
$UID/$EUID = 0 / 0
$GID = 0 0 1 2 3 4 5 8 9 12 20 29 61 80 33 98 100
$EGID = 0 0 1 2 3 4 5 8 9 12 20 29 61 80 33 98 100
Perl module toolchain versions installed:
Module Have
------------------- --------
CPAN 2.16
CPAN::Meta 2.150005
Cwd 3.47
ExtUtils::CBuilder 0.280216
ExtUtils::Command 7.24
ExtUtils::Install 1.63
ExtUtils::MakeMaker 7.24
ExtUtils::Manifest 1.70
ExtUtils::ParseXS 3.24
File::Spec 3.47
JSON 2.90
JSON::PP 2.27203
Module::Build 0.4222
Module::Signature 0.73
Parse::CPAN::Meta 1.4414
Test::Harness 3.35
Test::More 1.302052
YAML 1.15
YAML::Syck 1.27
version 0.9917
--
Summary of my perl5 (revision 5 version 18 subversion 1) configuration:
Platform:
osname=darwin, osvers=12.5.0, archname=darwin-2level
uname='darwin tucumcari.local 12.5.0 darwin kernel version 12.5.0: sun sep 29 13:33:47 pdt 2013; root:xnu-2050.48.12~1release_x86_64 x86_64 '
config_args=''
hint=recommended, useposix=true, d_sigaction=define
useithreads=undef, usemultiplicity=undef
useperlio=define, d_sfio=undef, uselargefiles=define, usesocks=undef
use64bitint=define, use64bitall=define, uselongdouble=undef
usemymalloc=n, bincompat5005=undef
Compiler:
cc='gcc', ccflags ='-fno-common -DPERL_DARWIN -fno-strict-aliasing -pipe -fstack-protector -I/usr/local/include',
optimize='-O3',
cppflags='-fno-common -DPERL_DARWIN -fno-strict-aliasing -pipe -fstack-protector -I/usr/local/include'
ccversion='', gccversion='4.2.1 (Based on Apple Inc. build 5658) (LLVM build 2336.11.00)', gccosandvers=''
intsize=4, longsize=8, ptrsize=8, doublesize=8, byteorder=12345678
d_longlong=define, longlongsize=8, d_longdbl=define, longdblsize=16
ivtype='long', ivsize=8, nvtype='double', nvsize=8, Off_t='off_t', lseeksize=8
alignbytes=8, prototype=define
Linker and Libraries:
ld='env MACOSX_DEPLOYMENT_TARGET=10.3 cc', ldflags =' -fstack-protector -L/usr/local/lib'
libpth=/usr/local/lib /usr/lib
libs=-lgdbm -ldbm -ldl -lm -lutil -lc
perllibs=-ldl -lm -lutil -lc
libc=, so=dylib, useshrplib=false, libperl=libperl.a
gnulibc_version=''
Dynamic Linking:
dlsrc=dl_dlopen.xs, dlext=bundle, d_dlsymun=undef, ccdlflags=' '
cccdlflags=' ', lddlflags=' -bundle -undefined dynamic_lookup -L/usr/local/lib -fstack-protector'
Characteristics of this binary (from libperl):
Compile-time options: HAS_TIMES PERLIO_LAYERS PERL_DONT_CREATE_GVSV
PERL_HASH_FUNC_ONE_AT_A_TIME_HARD PERL_MALLOC_WRAP
PERL_PRESERVE_IVUV PERL_SAWAMPERSAND USE_64_BIT_ALL
USE_64_BIT_INT USE_LARGE_FILES USE_LOCALE
USE_LOCALE_COLLATE USE_LOCALE_CTYPE
USE_LOCALE_NUMERIC USE_PERLIO USE_PERL_ATOF
Built under darwin
Compiled at Oct 18 2013 18:37:56
%ENV:
PERL5LIB=""
PERL5OPT=""
PERL5_CPANPLUS_IS_RUNNING="19806"
PERL5_CPAN_IS_RUNNING="19806"
PERL_MM_USE_DEFAULT="1"
@INC:
/usr/local/lib/perl5/site_perl/5.18.1/darwin-2level
/usr/local/lib/perl5/site_perl/5.18.1
/usr/local/lib/perl5/5.18.1/darwin-2level
/usr/local/lib/perl5/5.18.1
.