Report for NSMS-API-0.006

Back
From: metabase:user:315f03b2-2aae-11df-837a-5e0a49663a4f
Subject: PASS NSMS-API-0.006 v5.14.1 GNU/Linux
Date: 2011-07-17T12:42:05Z

This distribution has been tested as part of the CPAN Testers
project, supporting the Perl programming language.  See
http://wiki.cpantesters.org/ for more information or email
questions to cpan-testers-discuss@perl.org


--
Dear Thiago Berlitz Rondon,

This is a computer-generated report for NSMS-API-0.006
on perl 5.14.1, created by CPAN-Reporter-1.1902.

Thank you for uploading your work to CPAN.  Congratulations!
All tests were successful.

Sections of this report:

    * Tester comments
    * Program output
    * Prerequisites
    * Environment and other context

------------------------------
TESTER COMMENTS
------------------------------

Additional comments from tester:

this report is from an automated smoke testing program
and was not reviewed by a human for accuracy

------------------------------
PROGRAM OUTPUT
------------------------------

Output from 'make test':

PERL_DL_NONLAZY=1 /home/smoke/perl5/perlbrew/perls/perl-5.14.1/bin/perl "-MExtUtils::Command::MM" "-e" "test_harness(0, 'blib/lib', 'blib/arch')" t/*.t
t/00-compile.t ................ ok
# 
# 
# perl: v5.14.1 (wanted any version) on linux from /home/smoke/perl5/perlbrew/perls/perl-5.14.1/bin/perl
# 
# Carp                                          => 1.20       (want any version)
# Data::Dumper                                  => 2.131      (want any version)
# English                                       => 1.04       (want any version)
# ExtUtils::MakeMaker                           => 6.58       (want 6.30)   
# File::Find                                    => 1.19       (want any version)
# File::Temp                                    => 0.22       (want any version)
# HTTP::Request::Common                         => 6.00       (want any version)
# HTTP::Response                                => 6.01       (want any version)
# JSON                                          => 2.53       (want any version)
# LWP::UserAgent                                => 6.02       (want any version)
# Moose                                         => 2.0105     (want any version)
# Moose::Util::TypeConstraints                  => 2.0105     (want any version)
# Test::Mock::LWP::Dispatch                     => 0.02       (want any version)
# Test::More                                    => 0.98       (want 0.88)   
# URI::Escape                                   => 3.30       (want any version)
# utf8                                          => 1.09       (want any version)
# 
# Thanks for using my code.  I hope it works for you.
# If not, please try and include this output in the bug report.
# That will help me reproduce the issue and solve you problem.
# 
t/000-report-versions-tiny.t .. ok
t/author-critic.t ............. skipped: these tests are for testing by the author
t/basic.t ..................... ok
t/pod.t ....................... ok
t/release-distmeta.t .......... skipped: these tests are for release candidate testing
t/release-eol.t ............... skipped: these tests are for release candidate testing
t/release-has-version.t ....... skipped: these tests are for release candidate testing
t/release-kwalitee.t .......... skipped: these tests are for release candidate testing
t/release-pod-coverage.t ...... skipped: these tests are for release candidate testing
t/release-pod-syntax.t ........ skipped: these tests are for release candidate testing
t/release-unused-vars.t ....... skipped: these tests are for release candidate testing
All tests successful.
Files=12, Tests=10,  3 wallclock secs ( 0.11 usr  0.07 sys +  2.28 cusr  0.42 csys =  2.88 CPU)
Result: PASS

------------------------------
PREREQUISITES
------------------------------

Prerequisite modules loaded:

requires:

    Module                       Need Have  
    ---------------------------- ---- ------
    Carp                         0    1.20  
    Data::Dumper                 0    2.131 
    HTTP::Request::Common        0    6.00  
    HTTP::Response               0    6.01  
    JSON                         0    2.53  
    LWP::UserAgent               0    6.02  
    Moose                        0    2.0105
    Moose::Util::TypeConstraints 0    2.0105
    URI::Escape                  0    3.30  
    utf8                         0    1.09  

build_requires:

    Module                       Need Have  
    ---------------------------- ---- ------
    English                      0    1.04  
    File::Find                   0    1.19  
    File::Temp                   0    0.22  
    Test::Mock::LWP::Dispatch    0    0.02  
    Test::More                   0.88 0.98  

configure_requires:

    Module                       Need Have  
    ---------------------------- ---- ------
    ExtUtils::MakeMaker          6.30 6.58  


------------------------------
ENVIRONMENT AND OTHER CONTEXT
------------------------------

Environment variables:

    AUTOMATED_TESTING = 1
    LANG = en_US.UTF-8
    PATH = /home/smoke/perl5/perlbrew/bin:/home/smoke/perl5/perlbrew/perls/perl-5.14.1/bin:/usr/local/bin:/usr/bin:/bin:/usr/games
    PATH_WITHOUT_PERLBREW = /usr/local/bin:/usr/bin:/bin:/usr/games
    PERL5LIB = 
    PERL5OPT = 
    PERL5_CPANPLUS_IS_RUNNING = 4641
    PERL5_CPAN_IS_RUNNING = 4641
    PERL5_CPAN_IS_RUNNING_IN_RECURSION = 29495,4641
    PERLBREW_HOME = /home/smoke/.perlbrew
    PERLBREW_PATH = /home/smoke/perl5/perlbrew/bin:/home/smoke/perl5/perlbrew/perls/perl-5.14.1/bin
    PERLBREW_PERL = perl-5.14.1
    PERLBREW_ROOT = /home/smoke/perl5/perlbrew
    PERLBREW_VERSION = 0.25
    PERL_CR_SMOKER_CURRENT = NSMS-API-0.006
    PERL_EXTUTILS_AUTOINSTALL = --defaultdeps
    PERL_MM_USE_DEFAULT = 1
    SHELL = /bin/bash
    TERM = screen

Perl special variables (and OS-specific diagnostics, for MSWin32):

    $^X = /home/smoke/perl5/perlbrew/perls/perl-5.14.1/bin/perl
    $UID/$EUID = 1001 / 1001
    $GID = 1001 1001
    $EGID = 1001 1001

Perl module toolchain versions installed:

    Module              Have    
    ------------------- --------
    CPAN                1.97_51 
    Cwd                 3.36    
    ExtUtils::CBuilder  0.280203
    ExtUtils::Command   1.17    
    ExtUtils::Install   1.56    
    ExtUtils::MakeMaker 6.58    
    ExtUtils::Manifest  1.58    
    ExtUtils::ParseXS   3.00_02 
    File::Spec          3.33    
    Module::Build       0.3800  
    Module::Signature   0.68    
    Test::Harness       3.23    
    Test::More          0.98    
    YAML                0.73    
    YAML::Syck          1.17    
    version             0.91    


--

Summary of my perl5 (revision 5 version 14 subversion 1) configuration:
   
  Platform:
    osname=linux, osvers=2.6.32-5-xen-686, archname=i686-linux-thread-multi
    uname='linux prickle 2.6.32-5-xen-686 #1 smp tue jun 1 08:48:09 utc 2010 i686 gnulinux '
    config_args='-de -Dprefix=/home/smoke/perl5/perlbrew/perls/perl-5.14.1 -Dcc=gcc -Duseithreads'
    hint=recommended, useposix=true, d_sigaction=define
    useithreads=define, usemultiplicity=define
    useperlio=define, d_sfio=undef, uselargefiles=define, usesocks=undef
    use64bitint=undef, use64bitall=undef, uselongdouble=undef
    usemymalloc=n, bincompat5005=undef
  Compiler:
    cc='gcc', ccflags ='-D_REENTRANT -D_GNU_SOURCE -fno-strict-aliasing -pipe -fstack-protector -I/usr/local/include -D_LARGEFILE_SOURCE -D_FILE_OFFSET_BITS=64',
    optimize='-O2',
    cppflags='-D_REENTRANT -D_GNU_SOURCE -fno-strict-aliasing -pipe -fstack-protector -I/usr/local/include'
    ccversion='', gccversion='4.3.2', gccosandvers=''
    intsize=4, longsize=4, ptrsize=4, doublesize=8, byteorder=1234
    d_longlong=define, longlongsize=8, d_longdbl=define, longdblsize=12
    ivtype='long', ivsize=4, nvtype='double', nvsize=8, Off_t='off_t', lseeksize=8
    alignbytes=4, prototype=define
  Linker and Libraries:
    ld='gcc', ldflags =' -fstack-protector -L/usr/local/lib'
    libpth=/usr/local/lib /lib/../lib /usr/lib/../lib /lib /usr/lib
    libs=-lnsl -ldl -lm -lcrypt -lutil -lpthread -lc
    perllibs=-lnsl -ldl -lm -lcrypt -lutil -lpthread -lc
    libc=/lib/libc-2.11.2.so, so=so, useshrplib=false, libperl=libperl.a
    gnulibc_version='2.11.2'
  Dynamic Linking:
    dlsrc=dl_dlopen.xs, dlext=so, d_dlsymun=undef, ccdlflags='-Wl,-E'
    cccdlflags='-fPIC', lddlflags='-shared -O2 -L/usr/local/lib -fstack-protector'


Characteristics of this binary (from libperl): 
  Compile-time options: MULTIPLICITY PERL_DONT_CREATE_GVSV
                        PERL_IMPLICIT_CONTEXT PERL_MALLOC_WRAP
                        PERL_PRESERVE_IVUV USE_ITHREADS USE_LARGE_FILES
                        USE_PERLIO USE_PERL_ATOF USE_REENTRANT_API
  Built under linux
  Compiled at Jul  3 2011 12:14:00
  %ENV:
    PERL5LIB=""
    PERL5OPT=""
    PERL5_CPANPLUS_IS_RUNNING="4641"
    PERL5_CPAN_IS_RUNNING="4641"
    PERL5_CPAN_IS_RUNNING_IN_RECURSION="29495,4641"
    PERLBREW_HOME="/home/smoke/.perlbrew"
    PERLBREW_PATH="/home/smoke/perl5/perlbrew/bin:/home/smoke/perl5/perlbrew/perls/perl-5.14.1/bin"
    PERLBREW_PERL="perl-5.14.1"
    PERLBREW_ROOT="/home/smoke/perl5/perlbrew"
    PERLBREW_VERSION="0.25"
    PERL_CR_SMOKER_CURRENT="NSMS-API-0.006"
    PERL_EXTUTILS_AUTOINSTALL="--defaultdeps"
    PERL_MM_USE_DEFAULT="1"
  @INC:
    /home/smoke/perl5/perlbrew/perls/perl-5.14.1/lib/site_perl/5.14.1/i686-linux-thread-multi
    /home/smoke/perl5/perlbrew/perls/perl-5.14.1/lib/site_perl/5.14.1
    /home/smoke/perl5/perlbrew/perls/perl-5.14.1/lib/5.14.1/i686-linux-thread-multi
    /home/smoke/perl5/perlbrew/perls/perl-5.14.1/lib/5.14.1
    .