Catalyst-Controller-ActionRole v0.17 Perl 5 v5.42.0 RC1 darwin-2level

Status
Pass
From
John SJ Anderson
Dist
Catalyst-Controller-ActionRole v0.17
Platform
Perl 5 v5.42.0 RC1 darwin-2level
Date
2025-06-25 19:18:29
ID
2d4c7c36-51f9-11f0-8e89-9b15b2f7b70a
This distribution has been tested as part of the CPAN Testers
project, supporting the Perl programming language.  See
http://wiki.cpantesters.org/ for more information or email
questions to cpan-testers-discuss@perl.org


--
Dear ETHER,

This is a computer-generated report for Catalyst-Controller-ActionRole-0.17
on perl 5.42.0, created by App::cpanminus::reporter 0.22 (1.7048).

Thank you for uploading your work to CPAN.  Congratulations!
All tests were successful.

Sections of this report:

    * Tester comments
    * Program output
    * Prerequisites
    * Environment and other context

------------------------------
TESTER COMMENTS
------------------------------

Additional comments from tester:

none provided

------------------------------
PROGRAM OUTPUT
------------------------------

Output from '':

Building and testing Catalyst-Controller-ActionRole-0.17
cp lib/Catalyst/Controller/ActionRole.pm blib/lib/Catalyst/Controller/ActionRole.pm
# 
# Versions for all modules listed in MYMETA.json (including optional ones):
# 
# === Configure Requires ===
# 
#     Module               Want  Have
#     ------------------- ----- -----
#     Module::Build::Tiny 0.039 0.052
# 
# === Test Requires ===
# 
#     Module                 Want     Have
#     ---------------------- ---- --------
#     Catalyst                any  5.90132
#     Catalyst::Action        any    undef
#     Catalyst::Action::REST 0.74     1.21
#     Catalyst::Test          any    undef
#     ExtUtils::MakeMaker     any     7.76
#     File::Spec              any     3.94
#     FindBin                 any     1.54
#     Moose::Role             any   2.2207
#     Test::More              any 1.302210
#     lib                     any     0.65
#     namespace::clean        any     0.27
#     parent                  any    0.244
#     strict                  any     1.14
#     warnings                any     1.74
# 
# === Test Recommends ===
# 
#     Module         Want     Have
#     ---------- -------- --------
#     CPAN::Meta 2.120900 2.150010
# 
# === Runtime Requires ===
# 
#     Module                   Want    Have
#     --------------------- ------- -------
#     Catalyst::Controller      any   undef
#     Catalyst::Runtime     5.80025 5.90132
#     Catalyst::Utils           any   undef
#     Class::Load               any    0.25
#     List::Util                any 1.68_01
#     Moose                     any  2.2207
#     Moose::Meta::Class        any  2.2207
#     MooseX::Types::Moose      any    0.51
#     String::RewritePrefix   0.004   0.009
#     namespace::autoclean      any    0.31
# 
t/00-report-prereqs.t ..... ok
t/action-class.t .......... ok
t/basic.t ................. ok
t/basic_rest.t ............ ok
t/execution-via-config.t .. ok
t/execution-via-does.t .... ok
All tests successful.
Files=6, Tests=44,  2 wallclock secs ( 0.02 usr  0.01 sys +  2.13 cusr  0.21 csys =  2.37 CPU)
Result: PASS

------------------------------
PREREQUISITES
------------------------------

Prerequisite modules loaded:

runtime:

    Module                Need    Have    
    --------------------- ------- --------
    Catalyst::Controller  0       0       
    Catalyst::Runtime     5.80025 5.90132 
    Catalyst::Utils       0       0       
    Class::Load           0       0.25    
    List::Util            0       1.68_01 
    Moose                 0       2.2207  
    Moose::Meta::Class    0       2.2207  
    MooseX::Types::Moose  0       0.51    
    namespace::autoclean  0       0.31    
    perl                  5.006   5.042000
    String::RewritePrefix 0.004   0.009   

configure:

    Module                Need    Have    
    --------------------- ------- --------
    Module::Build::Tiny   0.039   0.052   
    perl                  5.006   5.042000


------------------------------
ENVIRONMENT AND OTHER CONTEXT
------------------------------

Environment variables:

    LANG = en_US.UTF-8
    LC_ALL = en_US.UTF-8
    LC_TERMINAL = iTerm2
    LC_TERMINAL_VERSION = 3.5.14
    PATH = /opt/plenv/versions/5.42.0-RC1/bin:/opt/plenv/libexec:/opt/plenv/plugins/Perl-Build/bin:/opt/rbenv/shims:/opt/nextstrain-env/cli-standalone:/Users/genehack/bin:/opt/rust/cargo/bin:/opt/plenv/shims:/opt/plenv/bin:/opt/git/bin:/usr/local/bin:/usr/local/sbin:/opt/local/bin:/usr/bin:/bin:/usr/sbin:/sbin:/usr/local/opt/fzf/bin/
    PERL_CPANM_OPT = --skip-installed --prompt
    SHELL = /bin/zsh
    TERM = screen-256color
    TMPDIR = /var/folders/91/jjmr4sms7fz9s27f3_9glhb80000gn/T/

Perl special variables (and OS-specific diagnostics, for MSWin32):

    EGID = 20 20 12 61 79 80 81 98 701 33 100 204 250 395 398 399 400
    EUID = 501
    EXECUTABLE_NAME = /opt/plenv/versions/5.42.0-RC1/bin/perl5.42.0
    GID = 20 20 12 61 79 80 81 98 701 33 100 204 250 395 398 399 400
    UID = 501

Perl module toolchain versions installed:

    Module              Have    
    ------------------- --------
    CPAN                2.38    
    CPAN::Meta          2.150010
    Cwd                 3.94    
    ExtUtils::CBuilder  0.280241
    ExtUtils::Command   7.76    
    ExtUtils::Install   2.22    
    ExtUtils::MakeMaker 7.76    
    ExtUtils::Manifest  1.75    
    ExtUtils::ParseXS   3.57    
    File::Spec          3.94    
    JSON                4.10    
    JSON::PP            4.16    
    Module::Build       0.4234  
    Module::Signature   n/a     
    Parse::CPAN::Meta   2.150010
    Test::Harness       3.50    
    Test::More          1.302210
    YAML                1.31    
    YAML::Syck          n/a     
    version             0.9933  


--

Summary of my perl5 (revision 5 version 42 subversion 0) configuration:
   
  Platform:
    osname=darwin
    osvers=24.5.0
    archname=darwin-2level
    uname='darwin bigjob.home.genehack.org 24.5.0 darwin kernel version 24.5.0: tue apr 22 19:53:26 pdt 2025; root:xnu-11417.121.6~2release_x86_64 x86_64 i386 macmini8,1 darwin '
    config_args='-Dprefix=/opt/plenv/versions/5.42.0-RC1 -de -Dversiononly -Dusedevel -A'eval:scriptdir=/opt/plenv/versions/5.42.0-RC1/bin''
    hint=recommended
    useposix=true
    d_sigaction=define
    useithreads=undef
    usemultiplicity=undef
    use64bitint=define
    use64bitall=define
    uselongdouble=undef
    usemymalloc=n
    default_inc_excludes_dot=define
  Compiler:
    cc='cc'
    ccflags ='-fno-common -DPERL_DARWIN -DNO_THREAD_SAFE_QUERYLOCALE -DNO_POSIX_2008_LOCALE -DHAS_BROKEN_LANGINFO_CODESET -DNO_LOCALE_COLLATE -fno-strict-aliasing -pipe -fstack-protector-strong -I/usr/local/include'
    optimize='-O3'
    cppflags='-fno-common -DPERL_DARWIN -DNO_THREAD_SAFE_QUERYLOCALE -DNO_POSIX_2008_LOCALE -DHAS_BROKEN_LANGINFO_CODESET -DNO_LOCALE_COLLATE -fno-strict-aliasing -pipe -fstack-protector-strong -I/usr/local/include'
    ccversion=''
    gccversion='Apple LLVM 17.0.0 (clang-1700.0.13.5)'
    gccosandvers=''
    intsize=4
    longsize=8
    ptrsize=8
    doublesize=8
    byteorder=12345678
    doublekind=3
    d_longlong=define
    longlongsize=8
    d_longdbl=define
    longdblsize=16
    longdblkind=3
    ivtype='long'
    ivsize=8
    nvtype='double'
    nvsize=8
    Off_t='off_t'
    lseeksize=8
    alignbytes=8
    prototype=define
  Linker and Libraries:
    ld='cc'
    ldflags =' -fstack-protector-strong -L/usr/local/lib'
    libpth=/usr/local/lib /Applications/Xcode.app/Contents/Developer/Toolchains/XcodeDefault.xctoolchain/usr/lib/clang/17/lib /Applications/Xcode.app/Contents/Developer/Platforms/MacOSX.platform/Developer/SDKs/MacOSX.sdk/usr/lib /Applications/Xcode.app/Contents/Developer/Toolchains/XcodeDefault.xctoolchain/usr/lib /usr/lib
    libs= 
    perllibs=
    libc=
    so=dylib
    useshrplib=false
    libperl=libperl.a
    gnulibc_version=''
  Dynamic Linking:
    dlsrc=dl_dlopen.xs
    dlext=bundle
    d_dlsymun=undef
    ccdlflags=' '
    cccdlflags=' '
    lddlflags='-bundle -undefined dynamic_lookup -L/usr/local/lib -fstack-protector-strong'


Characteristics of this binary (from libperl): 
  Compile-time options:
    HAS_LONG_DOUBLE
    HAS_STRTOLD
    HAS_TIMES
    PERLIO_LAYERS
    PERL_COPY_ON_WRITE
    PERL_DONT_CREATE_GVSV
    PERL_HASH_FUNC_SIPHASH13
    PERL_HASH_USE_SBOX32
    PERL_MALLOC_WRAP
    PERL_OP_PARENT
    PERL_PRESERVE_IVUV
    PERL_USE_DEVEL
    PERL_USE_SAFE_PUTENV
    USE_64_BIT_ALL
    USE_64_BIT_INT
    USE_LARGE_FILES
    USE_LOCALE
    USE_LOCALE_CTYPE
    USE_LOCALE_NUMERIC
    USE_LOCALE_TIME
    USE_PERLIO
    USE_PERL_ATOF
  Locally applied patches:
    RC1
  Built under darwin
  Compiled at Jun 25 2025 11:02:09
  %ENV:
    PERL_CPANM_OPT="--skip-installed --prompt"
  @INC:
    /opt/plenv/versions/5.42.0-RC1/lib/perl5/site_perl/5.42.0/darwin-2level
    /opt/plenv/versions/5.42.0-RC1/lib/perl5/site_perl/5.42.0
    /opt/plenv/versions/5.42.0-RC1/lib/perl5/5.42.0/darwin-2level
    /opt/plenv/versions/5.42.0-RC1/lib/perl5/5.42.0