Text-Amuse-Preprocessor v0.64 Perl 5 v5.28.1 x86_64-linux

Status
Pass
From
Slaven Rezić
Dist
Text-Amuse-Preprocessor v0.64
Platform
Perl 5 v5.28.1 x86_64-linux
Date
2020-11-05 20:33:34
ID
2d27ce2a-1fa6-11eb-a6a9-4c7a1f24ea8f
This distribution has been tested as part of the CPAN Testers
project, supporting the Perl programming language.  See
http://wiki.cpantesters.org/ for more information or email
questions to cpan-testers-discuss@perl.org


--
Dear Marco Pessotto,

This is a computer-generated report for Text-Amuse-Preprocessor-0.64
on perl 5.28.1, created by CPAN-Reporter-1.2018.

Thank you for uploading your work to CPAN.  Congratulations!
All tests were successful.

Sections of this report:

    * Tester comments
    * Program output
    * Prerequisites
    * Environment and other context

------------------------------
TESTER COMMENTS
------------------------------

Additional comments from tester:

none provided

------------------------------
PROGRAM OUTPUT
------------------------------

Output from '/usr/bin/make test':

PERL_DL_NONLAZY=1 "/opt/perl-5.28.1/bin/perl" "-MExtUtils::Command::MM" "-MTest::Harness" "-e" "undef *Test::Harness::Switches; test_harness(0, 'blib/lib', 'blib/arch')" t/*.t
# Testing Text::Amuse::Preprocessor 0.64, Perl 5.028001, /opt/perl-5.28.1/bin/perl
t/00-load.t ........... ok
t/changes.t ........... skipped: Changes testing not required (or Test::CPAN::Changes not found)
t/chars.t ............. ok
# Using /var/tmp/cpansmoker-1023/2020110519/dpOPkppzhs for ligatures
# Using /var/tmp/cpansmoker-1023/2020110519/Wtk7lkCRph for missing_nl
# Using /var/tmp/cpansmoker-1023/2020110519/mtlxsoiN5e for garbage
# Using /var/tmp/cpansmoker-1023/2020110519/NbNM2PXK2m for ellipsis_no_fix
# Using /var/tmp/cpansmoker-1023/2020110519/QBx0h7NRO8 for ellipsis
# Using /var/tmp/cpansmoker-1023/2020110519/fIaOnnYppi for links
# Using /var/tmp/cpansmoker-1023/2020110519/SLA26tk3eP for en
# Using /var/tmp/cpansmoker-1023/2020110519/3hP4dvI2y0 for fi
# Using /var/tmp/cpansmoker-1023/2020110519/NUOtlW19Nu for es
# Using /var/tmp/cpansmoker-1023/2020110519/lqF3Dj5601 for sr
# Using /var/tmp/cpansmoker-1023/2020110519/cIkrXfMWdT for hr
# Using /var/tmp/cpansmoker-1023/2020110519/ZNKsgJwY5d for ru
# Using /var/tmp/cpansmoker-1023/2020110519/XlGn5zB3WC for it
# Using /var/tmp/cpansmoker-1023/2020110519/wfXOkxRIwv for mk
# Using /var/tmp/cpansmoker-1023/2020110519/guixdUrXsM for sv
# Using /var/tmp/cpansmoker-1023/2020110519/zJXW9MRRnS for de
# Using /var/tmp/cpansmoker-1023/2020110519/NapNTh7_h0 for pl
# Using /var/tmp/cpansmoker-1023/2020110519/W2Su9c3THq for bg
# Using /var/tmp/cpansmoker-1023/2020110519/XCPAmKj1uR for fr
# Using /var/tmp/cpansmoker-1023/2020110519/5rOEvlqUsD for pt
# Using /var/tmp/cpansmoker-1023/2020110519/MjHAKg_Tyh for sq
# Using /var/tmp/cpansmoker-1023/2020110519/iDtF77jVBx for da
# Using /var/tmp/cpansmoker-1023/2020110519/7gMDNGfpg1 for nl
# Using /var/tmp/cpansmoker-1023/2020110519/0Py6UNQppG for id
# Using /var/tmp/cpansmoker-1023/2020110519/v46HC6v6lV for Full example
# Using /var/tmp/cpansmoker-1023/2020110519/VK5qzIXjlK for Quote
# Using /var/tmp/cpansmoker-1023/2020110519/GBoXa7v3vz for Quote
# Using /var/tmp/cpansmoker-1023/2020110519/TWylDV6fl7 for Nl quotation
t/common.t ............ ok
t/crash-on-verb.t ..... ok
# $VAR1 = "#title Test
# #lang en
# 
# 0
# 
# \x{201c}0\x{201d}
# 
# 0
# ";
# $VAR1 = "#title Test
# #lang en
# 
# 0
# 
# \x{201c}0\x{201d}
# 
# 0
# ";
t/crash_on_loop.t ..... ok
# /var/tmp/cpansmoker-1023/2020110519/snG7ZvUiEi/verbatim-in.muse
# /var/tmp/cpansmoker-1023/2020110519/snG7ZvUiEi
t/exclude-verbatim.t .. ok
# Testing t/footnotes/good.in => t/footnotes/good.out
# Testing t/footnotes/good2.in => t/footnotes/good2.out
# Testing t/footnotes/good3.in => t/footnotes/good3.out
# Testing t/footnotes/mixed.in => t/footnotes/mixed.out
# Testing t/footnotes/indentation.in => t/footnotes/indentation.out
# Testing t/footnotes/sec-good.in => t/footnotes/sec-good.out
# Testing t/footnotes/sec-good2.in => t/footnotes/sec-good2.out
# Testing t/footnotes/sec-good3.in => t/footnotes/sec-good3.out
# Testing t/footnotes/sec-bad.in => t/footnotes/sec-bad.out
# @@ -1 +1,2 @@
# -{4}
# +{3}
# +{3}
# Testing t/footnotes/sec-bad2.in => t/footnotes/sec-bad2.out
# @@ -1,3 +1,2 @@
# -{4}
# +{3}
# -{5}
# +{3}
# -{6}
# Testing t/footnotes/bad.in => t/footnotes/bad.out
# @@ -1,2 +1,3 @@
#  [1]
# -[1]
# +[2]
# +[4]
# Testing t/footnotes/bad2.in => t/footnotes/bad2.out
# @@ -1,4 +1,3 @@
#  [1]
# -[1]
# +[2]
#  [4]
# -[5]
t/footnotes.t ......... ok
tagpile mismatch: root, p
t/html-2.t ............ ok
# Using /var/tmp/cpansmoker-1023/2020110519/THhwDbbmaX.html
# Using /var/tmp/cpansmoker-1023/2020110519/IdPzV0EdDs.html
# Using /var/tmp/cpansmoker-1023/2020110519/e1p2bxysDS.html
# Using /var/tmp/cpansmoker-1023/2020110519/aZV76optWe.html
# Using /var/tmp/cpansmoker-1023/2020110519/oHr9ED9G0g.html
# Using /var/tmp/cpansmoker-1023/2020110519/rRJMGiMeOd.html
# Using /var/tmp/cpansmoker-1023/2020110519/jgK9eU26d7.html
# Using /var/tmp/cpansmoker-1023/2020110519/s3iI0vgDRG.html
# Using /var/tmp/cpansmoker-1023/2020110519/pIJXVfYfml.html
# Using /var/tmp/cpansmoker-1023/2020110519/o1vxKcUdhj.html
# Using /var/tmp/cpansmoker-1023/2020110519/YnOL7UGe9S.html
# Using /var/tmp/cpansmoker-1023/2020110519/fWU9sCqk4h.html
# Using /var/tmp/cpansmoker-1023/2020110519/h9OJUJahLK.html
# Using /var/tmp/cpansmoker-1023/2020110519/mB3SnNUADd.html
# Using /var/tmp/cpansmoker-1023/2020110519/hgN0RP8vCj.html
# Using /var/tmp/cpansmoker-1023/2020110519/sI3Vx3b2sV.html
# Using /var/tmp/cpansmoker-1023/2020110519/9D6TIz_5dC.html
t/html.t .............. ok
t/manifest.t .......... skipped: Author tests not required for installation
t/memory-cycles.t ..... ok
t/nbsp.t .............. ok
# Infile is /var/tmp/cpansmoker-1023/2020110519/vR1_dp4Fb7/input.txt
# Using /var/tmp/cpansmoker-1023/2020110519/XygTh4ie3h as temporary dir
t/object.t ............ ok
t/pod-coverage.t ...... skipped: Pod coverage not required for installation
t/pod.t ............... skipped: Pod test not required for installation
t/russian.t ........... ok
t/subs.t .............. ok
t/typography.t ........ ok
All tests successful.
Files=19, Tests=431,  2 wallclock secs ( 0.14 usr  0.05 sys +  2.19 cusr  0.40 csys =  2.78 CPU)
Result: PASS

------------------------------
PREREQUISITES
------------------------------

Prerequisite modules loaded:

requires:

    Module              Need Have    
    ------------------- ---- --------
    HTML::PullParser    0    3.57    
    IO::HTML            1    1.001   
    Pod::Simple::Wiki   0.19 0.20    
    Text::Amuse         0.95 1.70    
    Text::Diff          0    1.45    

build_requires:

    Module              Need Have    
    ------------------- ---- --------
    Test::More          0    1.302140

configure_requires:

    Module              Need Have    
    ------------------- ---- --------
    ExtUtils::MakeMaker 0    7.34    


------------------------------
ENVIRONMENT AND OTHER CONTEXT
------------------------------

Environment variables:

    LANG = en_US.UTF-8
    PATH = /usr/local/bin:/usr/bin:/bin:/usr/local/sbin:/usr/sbin:/sbin:/home/cpansand/bin/linux-gnu:/home/cpansand/bin/sh:/home/cpansand/bin:/usr/games:/home/cpansand/devel:/home/eserte/src/srezic-misc/scripts
    PERL5LIB = /home/cpansand/.cpan/build/2020110521/Text-Amuse-1.70-0/blib/arch:/home/cpansand/.cpan/build/2020110521/Text-Amuse-1.70-0/blib/lib:/home/cpansand/.cpan/build/2020110521/Pod-Simple-Wiki-0.20-0/blib/arch:/home/cpansand/.cpan/build/2020110521/Pod-Simple-Wiki-0.20-0/blib/lib
    PERL5OPT = 
    PERL5_CPANPLUS_IS_RUNNING = 2890177
    PERL5_CPAN_IS_RUNNING = 2890177
    PERL5_CPAN_IS_RUNNING_IN_RECURSION = 2814219,2890177
    PERLDOC = -MPod::Perldoc::ToTextOverstrike
    PERL_BATCH = yes
    PERL_CANARY_STABILITY_NOPROMPT = 1
    PERL_CPAN_REPORTER_CONFIG = /var/tmp/cpansmoker-1023/2020110519/cpanreporter_000_config.ini
    PERL_EXTUTILS_AUTOINSTALL = --defaultdeps
    PERL_USE_UNSAFE_INC = 1
    SHELL = /usr/bin/zsh
    TERM = screen
    TMPDIR = /var/tmp/cpansmoker-1023/2020110519

Perl special variables (and OS-specific diagnostics, for MSWin32):

    $^X = /opt/perl-5.28.1/bin/perl
    $UID/$EUID = 1023 / 1023
    $GID = 1023 1023
    $EGID = 1023 1023

Perl module toolchain versions installed:

    Module              Have    
    ------------------- --------
    CPAN                2.20    
    CPAN::Meta          2.150010
    Cwd                 3.74    
    ExtUtils::CBuilder  0.280230
    ExtUtils::Command   7.34    
    ExtUtils::Install   2.14    
    ExtUtils::MakeMaker 7.34    
    ExtUtils::Manifest  1.70    
    ExtUtils::ParseXS   3.39    
    File::Spec          3.74    
    JSON                n/a     
    JSON::PP            2.97001 
    Module::Build       0.4224  
    Module::Signature   0.83    
    Parse::CPAN::Meta   2.150010
    Test::Harness       3.42    
    Test::More          1.302140
    YAML                1.27    
    YAML::Syck          1.31    
    version             0.9923  


--

Summary of my perl5 (revision 5 version 28 subversion 1) configuration:
   
  Platform:
    osname=linux
    osvers=4.18.16-200.fc28.x86_64
    archname=x86_64-linux
    uname='linux fedora-4gb-hel1-1 4.18.16-200.fc28.x86_64 #1 smp sat oct 20 23:53:47 utc 2018 x86_64 x86_64 x86_64 gnulinux '
    config_args='-ds -e -Dprefix=/opt/perl-5.28.1 -Dcf_email=srezic@cpan.org'
    hint=recommended
    useposix=true
    d_sigaction=define
    useithreads=undef
    usemultiplicity=undef
    use64bitint=define
    use64bitall=define
    uselongdouble=undef
    usemymalloc=n
    default_inc_excludes_dot=define
    bincompat5005=undef
  Compiler:
    cc='cc'
    ccflags ='-fwrapv -fno-strict-aliasing -pipe -fstack-protector-strong -I/usr/local/include -D_LARGEFILE_SOURCE -D_FILE_OFFSET_BITS=64'
    optimize='-O2'
    cppflags='-fwrapv -fno-strict-aliasing -pipe -fstack-protector-strong -I/usr/local/include'
    ccversion=''
    gccversion='8.2.1 20181105 (Red Hat 8.2.1-5)'
    gccosandvers=''
    intsize=4
    longsize=8
    ptrsize=8
    doublesize=8
    byteorder=12345678
    doublekind=3
    d_longlong=define
    longlongsize=8
    d_longdbl=define
    longdblsize=16
    longdblkind=3
    ivtype='long'
    ivsize=8
    nvtype='double'
    nvsize=8
    Off_t='off_t'
    lseeksize=8
    alignbytes=8
    prototype=define
  Linker and Libraries:
    ld='cc'
    ldflags =' -fstack-protector-strong -L/usr/local/lib'
    libpth=/usr/local/lib /usr/lib /lib/../lib64 /usr/lib/../lib64 /lib /lib64 /usr/lib64 /usr/local/lib64
    libs=-lpthread -ldb -ldl -lm -lcrypt -lutil -lc
    perllibs=-lpthread -ldl -lm -lcrypt -lutil -lc
    libc=libc-2.27.so
    so=so
    useshrplib=false
    libperl=libperl.a
    gnulibc_version='2.27'
  Dynamic Linking:
    dlsrc=dl_dlopen.xs
    dlext=so
    d_dlsymun=undef
    ccdlflags='-Wl,-E'
    cccdlflags='-fPIC'
    lddlflags='-shared -O2 -L/usr/local/lib -fstack-protector-strong'


Characteristics of this binary (from libperl): 
  Compile-time options:
    HAS_TIMES
    PERLIO_LAYERS
    PERL_COPY_ON_WRITE
    PERL_DONT_CREATE_GVSV
    PERL_MALLOC_WRAP
    PERL_OP_PARENT
    PERL_PRESERVE_IVUV
    USE_64_BIT_ALL
    USE_64_BIT_INT
    USE_LARGE_FILES
    USE_LOCALE
    USE_LOCALE_COLLATE
    USE_LOCALE_CTYPE
    USE_LOCALE_NUMERIC
    USE_LOCALE_TIME
    USE_PERLIO
    USE_PERL_ATOF
  Built under linux
  Compiled at Nov 29 2018 21:12:20
  %ENV:
    PERL5LIB="/home/cpansand/.cpan/build/2020110521/Text-Amuse-1.70-0/blib/arch:/home/cpansand/.cpan/build/2020110521/Text-Amuse-1.70-0/blib/lib:/home/cpansand/.cpan/build/2020110521/Pod-Simple-Wiki-0.20-0/blib/arch:/home/cpansand/.cpan/build/2020110521/Pod-Simple-Wiki-0.20-0/blib/lib"
    PERL5OPT=""
    PERL5_CPANPLUS_IS_RUNNING="2890177"
    PERL5_CPAN_IS_RUNNING="2890177"
    PERL5_CPAN_IS_RUNNING_IN_RECURSION="2814219,2890177"
    PERLDOC="-MPod::Perldoc::ToTextOverstrike"
    PERL_BATCH="yes"
    PERL_CANARY_STABILITY_NOPROMPT="1"
    PERL_CPAN_REPORTER_CONFIG="/var/tmp/cpansmoker-1023/2020110519/cpanreporter_000_config.ini"
    PERL_EXTUTILS_AUTOINSTALL="--defaultdeps"
    PERL_USE_UNSAFE_INC="1"
  @INC:
    /home/cpansand/.cpan/build/2020110521/Text-Amuse-1.70-0/blib/arch
    /home/cpansand/.cpan/build/2020110521/Text-Amuse-1.70-0/blib/lib
    /home/cpansand/.cpan/build/2020110521/Pod-Simple-Wiki-0.20-0/blib/arch
    /home/cpansand/.cpan/build/2020110521/Pod-Simple-Wiki-0.20-0/blib/lib
    /opt/perl-5.28.1/lib/site_perl/5.28.1/x86_64-linux
    /opt/perl-5.28.1/lib/site_perl/5.28.1
    /opt/perl-5.28.1/lib/5.28.1/x86_64-linux
    /opt/perl-5.28.1/lib/5.28.1
    .