Back
From: metabase:user:fb19509c-17e3-11e3-a14d-fdb79081a995
Subject: PASS JSON-DWIW-0.47 v5.25.10 Mac OS X
Date: 2017-02-23T21:43:55Z
This distribution has been tested as part of the CPAN Testers
project, supporting the Perl programming language. See
http://wiki.cpantesters.org/ for more information or email
questions to cpan-testers-discuss@perl.org
--
Dear DOWENS,
This is a computer-generated report for JSON-DWIW-0.47
on perl 5.25.10, created by App::cpanminus::reporter 0.17 (1.7042).
Thank you for uploading your work to CPAN. Congratulations!
All tests were successful.
Sections of this report:
* Tester comments
* Program output
* Prerequisites
* Environment and other context
------------------------------
TESTER COMMENTS
------------------------------
Additional comments from tester:
none provided
------------------------------
PROGRAM OUTPUT
------------------------------
Output from '':
Building and testing JSON-DWIW-0.47
Running Mkbootstrap for DWIW ()
chmod 644 "DWIW.bs"
"/Users/ether/perl5/perlbrew/perls/25.10/bin/perl5.25.10" -MExtUtils::Command::MM -e 'cp_nonempty' -- DWIW.bs blib/arch/auto/JSON/DWIW/DWIW.bs 644
"/Users/ether/perl5/perlbrew/perls/25.10/bin/perl5.25.10" "/Users/ether/perl5/perlbrew/perls/25.10/lib/5.25.10/ExtUtils/xsubpp" -typemap '/Users/ether/perl5/perlbrew/perls/25.10/lib/5.25.10/ExtUtils/typemap' DWIW.xs > DWIW.xsc
mv DWIW.xsc DWIW.c
cd libjsonevt; ./configure && ./fixup_config '/Users/ether/perl5/perlbrew/perls/25.10/bin/perl5.25.10'
checking for a BSD-compatible install... /usr/bin/install -c
checking whether build environment is sane... yes
checking for a thread-safe mkdir -p... ./install-sh -c -d
checking for gawk... no
checking for mawk... no
checking for nawk... no
checking for awk... awk
checking whether make sets $(MAKE)... yes
checking for gcc... gcc
checking for C compiler default output file name... a.out
checking whether the C compiler works... yes
checking whether we are cross compiling... no
checking for suffix of executables...
checking for suffix of object files... o
checking whether we are using the GNU C compiler... yes
checking whether gcc accepts -g... yes
checking for gcc option to accept ISO C89... none needed
checking for style of include used by make... GNU
checking dependency style of gcc... gcc3
checking how to run the C preprocessor... gcc -E
checking for grep that handles long lines and -e... /usr/bin/grep
checking for egrep... /usr/bin/grep -E
checking for ANSI C header files... yes
checking for sys/types.h... yes
checking for sys/stat.h... yes
checking for stdlib.h... yes
checking for string.h... yes
checking for memory.h... yes
checking for strings.h... yes
checking for inttypes.h... yes
checking for stdint.h... yes
checking for unistd.h... yes
checking for stdlib.h... (cached) yes
checking for string.h... (cached) yes
checking sys/time.h usability... yes
checking sys/time.h presence... yes
checking for sys/time.h... yes
checking sys/mman.h usability... yes
checking sys/mman.h presence... yes
checking for sys/mman.h... yes
checking limits.h usability... yes
checking limits.h presence... yes
checking for limits.h... yes
checking for an ANSI C-conforming const... yes
checking for inline... inline
checking for size_t... yes
checking whether time.h and sys/time.h may both be included... yes
checking for uint8_t... yes
checking for uint16_t... yes
checking for uint32_t... yes
checking for uintptr_t... yes
checking for uint... yes
checking for stdlib.h... (cached) yes
checking for GNU libc compatible malloc... yes
checking for working memcmp... yes
checking for gettimeofday... yes
checking for memset... yes
checking for strcasecmp... yes
checking for strncasecmp... yes
checking for vsnprintf... yes
checking for _vsnprintf... no
checking for vasprintf... yes
checking for asprintf... yes
checking build system type... i386-apple-darwin12.6.0
checking host system type... i386-apple-darwin12.6.0
checking for a sed that does not truncate output... /opt/local/bin/gsed
checking for ld used by gcc... /usr/llvm-gcc-4.2/libexec/gcc/i686-apple-darwin11/4.2.1/ld
checking if the linker (/usr/llvm-gcc-4.2/libexec/gcc/i686-apple-darwin11/4.2.1/ld) is GNU ld... no
checking for /usr/llvm-gcc-4.2/libexec/gcc/i686-apple-darwin11/4.2.1/ld option to reload object files... -r
checking for BSD-compatible nm... /usr/bin/nm
checking whether ln -s works... yes
checking how to recognize dependent libraries... pass_all
checking dlfcn.h usability... yes
checking dlfcn.h presence... yes
checking for dlfcn.h... yes
checking for g++... g++
checking whether we are using the GNU C++ compiler... yes
checking whether g++ accepts -g... yes
checking dependency style of g++... gcc3
checking how to run the C++ preprocessor... g++ -E
checking for g77... no
checking for xlf... no
checking for f77... no
checking for frt... no
checking for pgf77... no
checking for cf77... no
checking for fort77... no
checking for fl32... no
checking for af77... no
checking for xlf90... no
checking for f90... no
checking for pgf90... no
checking for pghpf... no
checking for epcf90... no
checking for gfortran... no
checking for g95... no
checking for xlf95... no
checking for f95... no
checking for fort... no
checking for ifort... no
checking for ifc... no
checking for efc... no
checking for pgf95... no
checking for lf95... no
checking for ftn... no
checking whether we are using the GNU Fortran 77 compiler... no
checking whether accepts -g... no
checking the maximum length of command line arguments... 196608
checking command to parse /usr/bin/nm output from gcc object... ok
checking for objdir... .libs
checking for ar... ar
checking for ranlib... ranlib
checking for strip... strip
checking for dsymutil... dsymutil
checking for nmedit... nmedit
checking for -single_module linker flag... yes
checking for -exported_symbols_list linker flag... yes
checking if gcc supports -fno-rtti -fno-exceptions... no
checking for gcc option to produce PIC... -fno-common
checking if gcc PIC flag -fno-common works... yes
checking if gcc static flag -static works... no
checking if gcc supports -c -o file.o... yes
checking whether the gcc linker (/usr/llvm-gcc-4.2/libexec/gcc/i686-apple-darwin11/4.2.1/ld) supports shared libraries... yes
checking dynamic linker characteristics... darwin12.6.0 dyld
checking how to hardcode library paths into programs... immediate
checking whether stripping libraries is possible... yes
checking if libtool supports shared libraries... yes
checking whether to build shared libraries... yes
checking whether to build static libraries... yes
configure: creating libtool
appending configuration tag "CXX" to libtool
checking for ld used by g++... /usr/llvm-gcc-4.2/libexec/gcc/i686-apple-darwin11/4.2.1/ld
checking if the linker (/usr/llvm-gcc-4.2/libexec/gcc/i686-apple-darwin11/4.2.1/ld) is GNU ld... no
checking whether the g++ linker (/usr/llvm-gcc-4.2/libexec/gcc/i686-apple-darwin11/4.2.1/ld) supports shared libraries... yes
checking for g++ option to produce PIC... -fno-common
checking if g++ PIC flag -fno-common works... yes
checking if g++ static flag -static works... no
checking if g++ supports -c -o file.o... yes
checking whether the g++ linker (/usr/llvm-gcc-4.2/libexec/gcc/i686-apple-darwin11/4.2.1/ld) supports shared libraries... yes
checking dynamic linker characteristics... darwin12.6.0 dyld
(cached) (cached) checking how to hardcode library paths into programs... immediate
appending configuration tag "F77" to libtool
configure: creating ./config.status
config.status: creating Makefile
config.status: creating c++/Makefile
config.status: creating config.h
config.status: executing depfiles commands
cc -c -Ilibjsonevt -fno-common -DPERL_DARWIN -fno-strict-aliasing -pipe -fstack-protector -I/opt/local/include -O3 -DVERSION=\"0.47\" -DXS_VERSION=\"0.47\" "-I/Users/ether/perl5/perlbrew/perls/25.10/lib/5.25.10/darwin-2level/CORE" -DHAVE_JSONEVT -DNO_VERSION_IN_ERROR DWIW.c
DWIW.xs:1871:21: warning: 'Perl_utf8_to_uvuni' is deprecated [-Wdeprecated-declarations]
this_char = convert_utf8_to_uv(&data_str[pos], &len);
^
./old_common.h:83:44: note: expanded from macro 'convert_utf8_to_uv'
#define convert_utf8_to_uv(utf8, len_ptr) utf8_to_uvuni(utf8, len_ptr)
^
/Users/ether/perl5/perlbrew/perls/25.10/lib/5.25.10/darwin-2level/CORE/embed.h:745:28: note: expanded from macro 'utf8_to_uvuni'
#define utf8_to_uvuni(a,b) Perl_utf8_to_uvuni(aTHX_ a,b)
^
/Users/ether/perl5/perlbrew/perls/25.10/lib/5.25.10/darwin-2level/CORE/proto.h:3552:18: note: 'Perl_utf8_to_uvuni' declared here
PERL_CALLCONV UV Perl_utf8_to_uvuni(pTHX_ const U8 *s, STRLEN *retlen)
^
1 warning generated.
cc -c -Ilibjsonevt -fno-common -DPERL_DARWIN -fno-strict-aliasing -pipe -fstack-protector -I/opt/local/include -O3 -DVERSION=\"0.47\" -DXS_VERSION=\"0.47\" "-I/Users/ether/perl5/perlbrew/perls/25.10/lib/5.25.10/darwin-2level/CORE" -DHAVE_JSONEVT -DNO_VERSION_IN_ERROR libjsonevt/utf8.c
cc -c -Ilibjsonevt -fno-common -DPERL_DARWIN -fno-strict-aliasing -pipe -fstack-protector -I/opt/local/include -O3 -DVERSION=\"0.47\" -DXS_VERSION=\"0.47\" "-I/Users/ether/perl5/perlbrew/perls/25.10/lib/5.25.10/darwin-2level/CORE" -DHAVE_JSONEVT -DNO_VERSION_IN_ERROR libjsonevt/utf16.c
cc -c -Ilibjsonevt -fno-common -DPERL_DARWIN -fno-strict-aliasing -pipe -fstack-protector -I/opt/local/include -O3 -DVERSION=\"0.47\" -DXS_VERSION=\"0.47\" "-I/Users/ether/perl5/perlbrew/perls/25.10/lib/5.25.10/darwin-2level/CORE" -DHAVE_JSONEVT -DNO_VERSION_IN_ERROR libjsonevt/utf32.c
cc -c -Ilibjsonevt -fno-common -DPERL_DARWIN -fno-strict-aliasing -pipe -fstack-protector -I/opt/local/include -O3 -DVERSION=\"0.47\" -DXS_VERSION=\"0.47\" "-I/Users/ether/perl5/perlbrew/perls/25.10/lib/5.25.10/darwin-2level/CORE" -DHAVE_JSONEVT -DNO_VERSION_IN_ERROR evt.c
evt.c:339:25: warning: expression result unused [-Wunused-value]
new_entry = PUSH_STACK_ENTRY(ctx);
^~~~~~~~~~~~~~~~~~~~~
evt.c:116:33: note: expanded from macro 'PUSH_STACK_ENTRY'
#define PUSH_STACK_ENTRY(ctx) ( ENSURE_STACK(ctx), (ctx)->stack_level++, ( (parse_cb_stack_entry *)((ctx)->stack + (ctx)->stack_level) ) )
^~~~~~~~~~~~~~~~~
evt.c:111:75: note: expanded from macro 'ENSURE_STACK'
#define ENSURE_STACK(ctx) ( (ctx)->stack_level >= (ctx)->stack_size - 1 ? GROW_STACK(ctx) : 0 )
^~~~~~~~~~~~~~~
evt.c:103:54: note: expanded from macro 'GROW_STACK'
#define GROW_STACK(ctx) ( ((ctx)->stack_size <<= 1), JSONEVT_RENEW_RV((ctx)->stack, (ctx)->stack_size, parse_cb_stack_entry))
^~~~~~~~~~~~~~~~~~~~~~~~~~~~~~~~~~~~~~~~~~~~~~~~~~~~~~~~~~~~~~~~~~~~~~~
libjsonevt/jsonevt_utils.h:86:6: note: expanded from macro 'JSONEVT_RENEW_RV'
((type *)_jsonevt_renew((void *)(&(var)), (nitems) * sizeof(type)))
^ ~~~~~~~~~~~~~~~~~~~~~~~~~~~~~~~~~~~~~~~~~~~~~~~~~~~~~~~~~
evt.c:387:21: warning: expression result unused [-Wunused-value]
new_entry = PUSH_STACK_ENTRY(ctx);
^~~~~~~~~~~~~~~~~~~~~
evt.c:116:33: note: expanded from macro 'PUSH_STACK_ENTRY'
#define PUSH_STACK_ENTRY(ctx) ( ENSURE_STACK(ctx), (ctx)->stack_level++, ( (parse_cb_stack_entry *)((ctx)->stack + (ctx)->stack_level) ) )
^~~~~~~~~~~~~~~~~
evt.c:111:75: note: expanded from macro 'ENSURE_STACK'
#define ENSURE_STACK(ctx) ( (ctx)->stack_level >= (ctx)->stack_size - 1 ? GROW_STACK(ctx) : 0 )
^~~~~~~~~~~~~~~
evt.c:103:54: note: expanded from macro 'GROW_STACK'
#define GROW_STACK(ctx) ( ((ctx)->stack_size <<= 1), JSONEVT_RENEW_RV((ctx)->stack, (ctx)->stack_size, parse_cb_stack_entry))
^~~~~~~~~~~~~~~~~~~~~~~~~~~~~~~~~~~~~~~~~~~~~~~~~~~~~~~~~~~~~~~~~~~~~~~
libjsonevt/jsonevt_utils.h:86:6: note: expanded from macro 'JSONEVT_RENEW_RV'
((type *)_jsonevt_renew((void *)(&(var)), (nitems) * sizeof(type)))
^ ~~~~~~~~~~~~~~~~~~~~~~~~~~~~~~~~~~~~~~~~~~~~~~~~~~~~~~~~~
evt.c:398:25: warning: expression result unused [-Wunused-value]
new_entry = PUSH_STACK_ENTRY(ctx);
^~~~~~~~~~~~~~~~~~~~~
evt.c:116:33: note: expanded from macro 'PUSH_STACK_ENTRY'
#define PUSH_STACK_ENTRY(ctx) ( ENSURE_STACK(ctx), (ctx)->stack_level++, ( (parse_cb_stack_entry *)((ctx)->stack + (ctx)->stack_level) ) )
^~~~~~~~~~~~~~~~~
evt.c:111:75: note: expanded from macro 'ENSURE_STACK'
#define ENSURE_STACK(ctx) ( (ctx)->stack_level >= (ctx)->stack_size - 1 ? GROW_STACK(ctx) : 0 )
^~~~~~~~~~~~~~~
evt.c:103:54: note: expanded from macro 'GROW_STACK'
#define GROW_STACK(ctx) ( ((ctx)->stack_size <<= 1), JSONEVT_RENEW_RV((ctx)->stack, (ctx)->stack_size, parse_cb_stack_entry))
^~~~~~~~~~~~~~~~~~~~~~~~~~~~~~~~~~~~~~~~~~~~~~~~~~~~~~~~~~~~~~~~~~~~~~~
libjsonevt/jsonevt_utils.h:86:6: note: expanded from macro 'JSONEVT_RENEW_RV'
((type *)_jsonevt_renew((void *)(&(var)), (nitems) * sizeof(type)))
^ ~~~~~~~~~~~~~~~~~~~~~~~~~~~~~~~~~~~~~~~~~~~~~~~~~~~~~~~~~
3 warnings generated.
cc -c -Ilibjsonevt -fno-common -DPERL_DARWIN -fno-strict-aliasing -pipe -fstack-protector -I/opt/local/include -O3 -DVERSION=\"0.47\" -DXS_VERSION=\"0.47\" "-I/Users/ether/perl5/perlbrew/perls/25.10/lib/5.25.10/darwin-2level/CORE" -DHAVE_JSONEVT -DNO_VERSION_IN_ERROR libjsonevt/jsonevt.c
cc -c -Ilibjsonevt -fno-common -DPERL_DARWIN -fno-strict-aliasing -pipe -fstack-protector -I/opt/local/include -O3 -DVERSION=\"0.47\" -DXS_VERSION=\"0.47\" "-I/Users/ether/perl5/perlbrew/perls/25.10/lib/5.25.10/darwin-2level/CORE" -DHAVE_JSONEVT -DNO_VERSION_IN_ERROR libjsonevt/json_writer.c
cc -c -Ilibjsonevt -fno-common -DPERL_DARWIN -fno-strict-aliasing -pipe -fstack-protector -I/opt/local/include -O3 -DVERSION=\"0.47\" -DXS_VERSION=\"0.47\" "-I/Users/ether/perl5/perlbrew/perls/25.10/lib/5.25.10/darwin-2level/CORE" -DHAVE_JSONEVT -DNO_VERSION_IN_ERROR libjsonevt/print.c
cc -c -Ilibjsonevt -fno-common -DPERL_DARWIN -fno-strict-aliasing -pipe -fstack-protector -I/opt/local/include -O3 -DVERSION=\"0.47\" -DXS_VERSION=\"0.47\" "-I/Users/ether/perl5/perlbrew/perls/25.10/lib/5.25.10/darwin-2level/CORE" -DHAVE_JSONEVT -DNO_VERSION_IN_ERROR old_common.c
cc -c -Ilibjsonevt -fno-common -DPERL_DARWIN -fno-strict-aliasing -pipe -fstack-protector -I/opt/local/include -O3 -DVERSION=\"0.47\" -DXS_VERSION=\"0.47\" "-I/Users/ether/perl5/perlbrew/perls/25.10/lib/5.25.10/darwin-2level/CORE" -DHAVE_JSONEVT -DNO_VERSION_IN_ERROR libjsonevt/convenience.c
rm -f blib/arch/auto/JSON/DWIW/DWIW.bundle
env MACOSX_DEPLOYMENT_TARGET=10.3 cc -bundle -undefined dynamic_lookup -L/opt/local/lib -fstack-protector DWIW.o utf8.o utf16.o utf32.o evt.o jsonevt.o json_writer.o print.o old_common.o convenience.o -o blib/arch/auto/JSON/DWIW/DWIW.bundle \
\
chmod 755 blib/arch/auto/JSON/DWIW/DWIW.bundle
Manifying 3 pod documents
"/Users/ether/perl5/perlbrew/perls/25.10/bin/perl5.25.10" -MExtUtils::Command::MM -e 'cp_nonempty' -- DWIW.bs blib/arch/auto/JSON/DWIW/DWIW.bs 644
PERL_DL_NONLAZY=1 "/Users/ether/perl5/perlbrew/perls/25.10/bin/perl5.25.10" "-MExtUtils::Command::MM" "-MTest::Harness" "-e" "undef *Test::Harness::Switches; test_harness(0, 'blib/lib', 'blib/arch')" t/*.t
t/00use.t ................ ok
t/03parse_constants.t .... ok
t/02decode.t ............. ok
t/04extras.t ............. ok
t/01encode.t ............. ok
t/05exceptions.t ......... ok
t/06big_numbers.t ........ ok
t/08pvxv.t ............... ok
t/07magic.t .............. ok
t/09bool.t ............... ok
t/10unicode.t ............ ok
Argument "0e+" isn't numeric in subroutine entry at /Users/ether/.cpanm/work/1487885619.18207/JSON-DWIW-0.47/blib/lib/JSON/DWIW.pm line 676.
t/11parse_file.t ......... ok
t/12error.t .............. ok
t/13stats.t .............. ok
t/14nonoo.t .............. ok
t/15bom.t ................ ok
t/compat01.t ............. ok
t/deser01.t .............. ok
t/16to_xml.t ............. ok
t/17callbacks.t .......... ok
t/deser02_constants.t .... ok
t/deser03_extras.t ....... ok
t/deser04_exceptions.t ... ok
t/deser05_big_numbers.t .. ok
t/deser06_bool.t ......... ok
t/deser07_error.t ........ ok
t/deser08_stats.t ........ ok
t/deser09_edge.t ......... ok
Argument "0e+" isn't numeric in subroutine entry at t/deser11_file.t line 108.
t/deser11_file.t ......... ok
t/deser10_bom.t .......... ok
t/deser12_unicode.t ...... ok
t/deser13_escapes.t ...... ok
t/from_json01_escapes.t .. ok
t/encode01.t ............. ok
t/deser14_depth.t ........ ok
t/tickets.t .............. ok
All tests successful.
Files=36, Tests=391, 1 wallclock secs ( 0.18 usr 0.08 sys + 4.40 cusr 0.47 csys = 5.13 CPU)
Result: PASS
------------------------------
PREREQUISITES
------------------------------
Prerequisite modules loaded:
No requirements found
------------------------------
ENVIRONMENT AND OTHER CONTEXT
------------------------------
Environment variables:
HARNESS_OPTIONS = j5:c
LANG = en_CA.UTF-8
NO_NETWORK_TESTING = 1
PATH = /Users/ether/.perlbrew/libs/25.10@std/bin:/Users/ether/perl5/perlbrew/bin:/Users/ether/perl5/perlbrew/perls/25.10/bin:/Users/ether/bin:/Users/ether/git/misc/install/bourbon/bin:/Users/ether/git/misc/install/generic/bin:/opt/local/bin:/opt/local/sbin:/Users/ether/git/git-hub/lib:/Users/ether/src/CE/devtools:/Users/ether/git/CE/devtools:/Users/ether/src/CE/bin:/Users/ether/git/CE/bin:/usr/bin:/bin:/usr/sbin:/sbin:/usr/local/bin:/opt/local/share/git-core/contrib/workdir
PERL5LIB = /Users/ether/.perlbrew/libs/25.10@std/lib/perl5
PERLBREW_BASHRC_VERSION = 0.78
PERLBREW_HOME = /Users/ether/.perlbrew
PERLBREW_LIB = std
PERLBREW_MANPATH = /Users/ether/.perlbrew/libs/25.10@std/man:/Users/ether/perl5/perlbrew/perls/25.10/man
PERLBREW_PATH = /Users/ether/.perlbrew/libs/25.10@std/bin:/Users/ether/perl5/perlbrew/bin:/Users/ether/perl5/perlbrew/perls/25.10/bin
PERLBREW_PERL = 25.10
PERLBREW_ROOT = /Users/ether/perl5/perlbrew
PERLBREW_VERSION = 0.78
PERLDOC_PAGER = less -sicMr
PERL_AUTOINSTALL_PREFER_CPAN = 1
PERL_INSTALL_QUIET = 1
PERL_LOCAL_LIB_ROOT = /Users/ether/.perlbrew/libs/25.10@std
PERL_MB_OPT = --install_base /Users/ether/.perlbrew/libs/25.10@std
PERL_MM_OPT = INSTALL_BASE=/Users/ether/.perlbrew/libs/25.10@std
SHELL = /bin/bash
TERM = xterm-color
TMPDIR = /var/folders/kx/9dgyhhpn2yb7v2mggnr385fr0000gn/T/
Perl special variables (and OS-specific diagnostics, for MSWin32):
EGID = 20 20 402 401 12 33 61 79 80 81 98 100 204
EUID = 501
EXECUTABLE_NAME = /Users/ether/perl5/perlbrew/perls/25.10/bin/perl5.25.10
GID = 20 20 402 401 12 33 61 79 80 81 98 100 204
UID = 501
Perl module toolchain versions installed:
Module Have
------------------- --------
CPAN 2.17
CPAN::Meta 2.150010
Cwd 3.66
ExtUtils::CBuilder 0.280225
ExtUtils::Command 7.25_01
ExtUtils::Install 2.04
ExtUtils::MakeMaker 7.25_01
ExtUtils::Manifest 1.70
ExtUtils::ParseXS 3.33
File::Spec 3.66
JSON 2.91_04
JSON::PP 2.91_04
Module::Build 0.4220
Module::Signature n/a
Parse::CPAN::Meta 2.150010
Test::Harness 3.36_01
Test::More 1.302073
YAML 1.23
YAML::Syck 1.29
version 0.9917
--
Summary of my perl5 (revision 5 version 25 subversion 10) configuration:
Platform:
osname=darwin
osvers=12.6.0
archname=darwin-2level
uname='darwin bourbon 12.6.0 darwin kernel version 12.6.0: wed mar 18 16:23:48 pdt 2015; root:xnu-2050.48.19~1release_x86_64 x86_64 '
config_args='-de -Dprefix=/Users/ether/perl5/perlbrew/perls/25.10 -Dman1dir=none -Dman3dir=none -Dusedevel -Aeval:scriptdir=/Users/ether/perl5/perlbrew/perls/25.10/bin'
hint=recommended
useposix=true
d_sigaction=define
useithreads=undef
usemultiplicity=undef
use64bitint=define
use64bitall=define
uselongdouble=undef
usemymalloc=n
bincompat5005=undef
Compiler:
cc='cc'
ccflags ='-fno-common -DPERL_DARWIN -fno-strict-aliasing -pipe -fstack-protector -I/opt/local/include'
optimize='-O3'
cppflags='-fno-common -DPERL_DARWIN -fno-strict-aliasing -pipe -fstack-protector -I/opt/local/include'
ccversion=''
gccversion='4.2.1 Compatible Apple LLVM 4.2 (clang-425.0.28)'
gccosandvers=''
intsize=4
longsize=8
ptrsize=8
doublesize=8
byteorder=12345678
doublekind=3
d_longlong=define
longlongsize=8
d_longdbl=define
longdblsize=16
longdblkind=3
ivtype='long'
ivsize=8
nvtype='double'
nvsize=8
Off_t='off_t'
lseeksize=8
alignbytes=8
prototype=define
Linker and Libraries:
ld='env MACOSX_DEPLOYMENT_TARGET=10.3 cc'
ldflags =' -fstack-protector -L/opt/local/lib'
libpth=/usr/bin/../lib/clang/4.2/lib /usr/lib /opt/local/lib
libs=-lpthread -lgdbm -ldbm -ldl -lm -lutil -lc
perllibs=-lpthread -ldl -lm -lutil -lc
libc=
so=dylib
useshrplib=false
libperl=libperl.a
gnulibc_version=''
Dynamic Linking:
dlsrc=dl_dlopen.xs
dlext=bundle
d_dlsymun=undef
ccdlflags=' '
cccdlflags=' '
lddlflags=' -bundle -undefined dynamic_lookup -L/opt/local/lib -fstack-protector'
Characteristics of this binary (from libperl):
Compile-time options:
HAS_TIMES
PERLIO_LAYERS
PERL_COPY_ON_WRITE
PERL_DONT_CREATE_GVSV
PERL_MALLOC_WRAP
PERL_OP_PARENT
PERL_PRESERVE_IVUV
PERL_USE_DEVEL
USE_64_BIT_ALL
USE_64_BIT_INT
USE_LARGE_FILES
USE_LOCALE
USE_LOCALE_COLLATE
USE_LOCALE_CTYPE
USE_LOCALE_NUMERIC
USE_LOCALE_TIME
USE_PERLIO
USE_PERL_ATOF
Locally applied patches:
Devel::PatchPerl 1.38
Built under darwin
Compiled at Feb 23 2017 12:39:10
%ENV:
PERL5LIB="/Users/ether/.perlbrew/libs/25.10@std/lib/perl5"
PERLBREW_BASHRC_VERSION="0.78"
PERLBREW_HOME="/Users/ether/.perlbrew"
PERLBREW_LIB="std"
PERLBREW_MANPATH="/Users/ether/.perlbrew/libs/25.10@std/man:/Users/ether/perl5/perlbrew/perls/25.10/man"
PERLBREW_PATH="/Users/ether/.perlbrew/libs/25.10@std/bin:/Users/ether/perl5/perlbrew/bin:/Users/ether/perl5/perlbrew/perls/25.10/bin"
PERLBREW_PERL="25.10"
PERLBREW_ROOT="/Users/ether/perl5/perlbrew"
PERLBREW_VERSION="0.78"
PERLDOC_PAGER="less -sicMr"
PERL_AUTOINSTALL_PREFER_CPAN="1"
PERL_INSTALL_QUIET="1"
PERL_LOCAL_LIB_ROOT="/Users/ether/.perlbrew/libs/25.10@std"
PERL_MB_OPT="--install_base /Users/ether/.perlbrew/libs/25.10@std"
PERL_MM_OPT="INSTALL_BASE=/Users/ether/.perlbrew/libs/25.10@std"
@INC:
/Users/ether/.perlbrew/libs/25.10@std/lib/perl5/darwin-2level
/Users/ether/.perlbrew/libs/25.10@std/lib/perl5
/Users/ether/perl5/perlbrew/perls/25.10/lib/site_perl/5.25.10/darwin-2level
/Users/ether/perl5/perlbrew/perls/25.10/lib/site_perl/5.25.10
/Users/ether/perl5/perlbrew/perls/25.10/lib/5.25.10/darwin-2level
/Users/ether/perl5/perlbrew/perls/25.10/lib/5.25.10
.