Sys-Filesystem v1.408 Perl 5 v5.43.5 i86pc-solaris-thread-multi-64
- Status
- Pass
- From
- Carlos Guevara
- Dist
-
Sys-Filesystem v1.408
- Platform
- Perl 5 v5.43.5 i86pc-solaris-thread-multi-64
- Date
- 2025-11-13 05:04:04
- ID
- 2d0a0360-c04e-11f0-99db-b857bb70ff9f
This distribution has been tested as part of the CPAN Testers
project, supporting the Perl programming language. See
http://wiki.cpantesters.org/ for more information or email
questions to cpan-testers-discuss@perl.org
--
Dear Jens Rehsack,
This is a computer-generated report for Sys-Filesystem-1.408
on perl 5.43.5, created by CPAN-Reporter-1.2020.
Thank you for uploading your work to CPAN. Congratulations!
All tests were successful.
Sections of this report:
* Tester comments
* Program output
* Prerequisites
* Environment and other context
------------------------------
TESTER COMMENTS
------------------------------
Additional comments from tester:
this report is from an automated smoke testing program
and was not reviewed by a human for accuracy
------------------------------
PROGRAM OUTPUT
------------------------------
Output from '/usr/bin/make test':
PERL_DL_NONLAZY=1 "/export/home/cpan/bin/perl/bin/perl5.43.5" "-MExtUtils::Command::MM" "-MTest::Harness" "-e" "undef *Test::Harness::Switches; test_harness(0, 'blib/lib', 'blib/arch')" t/*.t xt/*.t
# Testing Sys::Filesystem 1.408, Perl 5.043005 (/export/home/cpan/bin/perl/bin/perl5.43.5) on solaris-2.11
t/01_load.t ...... ok
# filesystem - mounted - special - device - options - format - volume - label - type
# - - 0 - 1 - /dev/zvol/dsk/rpool/swap - - - swap - 1 - 1 - swap
# / - 1 - 0 - rpool/ROOT/omnios-r151052ai - dev=42d0002 - zfs - 1 - 1 - zfs
# /dev - 1 - 1 - /dev - dev=8980000 - dev - 1 - 1 - dev
# /dev/fd - 1 - 1 - fd - rw,dev=8c80001 - fd - 1 - 1 - fd
# /devices - 1 - 1 - /devices - dev=8940000 - devfs - 1 - 1 - devfs
# /etc/dfs/sharetab - 1 - 0 - sharefs - dev=8bc0001 - sharefs - 1 - 1 - sharefs
# /etc/mnttab - 1 - 1 - mnttab - dev=8ac0001 - mntfs - 1 - 1 - mntfs
# /etc/svc/volatile - 1 - 1 - swap - xattr,dev=8b00001 - tmpfs - 1 - 1 - tmpfs
# /export - 1 - 0 - rpool/export - rw,devices,setuid,nonbmand,exec,xattr,atime,dev=42d0003 - zfs - 1 - 1 - zfs
# /export/home - 1 - 0 - rpool/export/home - rw,devices,setuid,nonbmand,exec,xattr,atime,dev=42d0005 - zfs - 1 - 1 - zfs
# /lib/libc.so.1 - 1 - 1 - /usr/lib/libc/libc_hwcap1.so.1 - dev=42d0002 - lofs - 1 - 1 - lofs
# /net - 1 - 1 - -hosts - nosuid,indirect,ignore,nobrowse,dev=8d00001 - autofs - 1 - 1 - autofs
# /proc - 1 - 1 - proc - dev=8a00000 - proc - 1 - 1 - proc
# /rpool - 1 - 0 - rpool - rw,devices,setuid,nonbmand,exec,xattr,atime,dev=42d0004 - zfs - 1 - 1 - zfs
# /system/boot - 1 - 0 - bootfs - dev=8b80001 - bootfs - 1 - 1 - bootfs
# /system/contract - 1 - 1 - ctfs - dev=8a80001 - ctfs - 1 - 1 - ctfs
# /system/object - 1 - 1 - objfs - dev=8b40001 - objfs - 1 - 1 - objfs
# /tmp - 1 - 1 - swap - xattr,dev=8b00002 - tmpfs - 1 - 1 - tmpfs
# /var/run - 1 - 1 - swap - xattr,dev=8b00003 - tmpfs - 1 - 1 - tmpfs
t/02_basic.t ..... ok
t/03_whereami.t .. ok
t/04_special.t ... ok
t/05_error.t ..... ok
t/06_settings.t .. ok
All tests successful.
Test Summary Report
-------------------
t/03_whereami.t (Wstat: 0 Tests: 3 Failed: 0)
TODO passed: 2-3
Files=6, Tests=245, 1 wallclock secs ( 0.04 usr 0.02 sys + 0.38 cusr 0.10 csys = 0.54 CPU)
Result: PASS
------------------------------
PREREQUISITES
------------------------------
Prerequisite modules loaded:
requires:
Module Need Have
------------------- -------- --------
Carp 0 1.54
Cwd 0 3.94
File::Spec 0 3.94
FindBin 0 1.54
IO 0 1.55
IPC::Cmd 0.80 1.04
Module::Pluggable 4.8 6.3
Params::Util 1.00 1.102
perl 5.008001 5.043005
build_requires:
Module Need Have
------------------- -------- --------
Test::More 0.9 1.302214
configure_requires:
Module Need Have
------------------- -------- --------
Carp 0 1.54
Cwd 0 3.94
ExtUtils::MakeMaker 0 7.76
File::Spec 0 3.94
FindBin 0 1.54
IO 0 1.55
IPC::Cmd 0.80 1.04
Module::Pluggable 4.8 6.3
Params::Util 1.00 1.102
opt_requires:
Module Need Have
------------------- -------- --------
perl 5.018001 5.043005
------------------------------
ENVIRONMENT AND OTHER CONTEXT
------------------------------
Environment variables:
AUTOMATED_TESTING = 1
CJG_PERL_COMMIT = f15164301b
DATE_MANIP_TEST_DM5 = 1
LANG = en_US.UTF-8
LC_ALL = C
NONINTERACTIVE_TESTING = 1
NO_NETWORK_TESTING = 1
PATH = /export/home/cpan/bin/perl/bin:/usr/bin:/usr/sbin:/sbin:/opt/ooce/bin:/usr/gnu/bin
PERL5LIB =
PERL5OPT =
PERL5_CPANPLUS_IS_RUNNING = 11326
PERL5_CPAN_IS_RUNNING = 11326
PERL_MM_USE_DEFAULT = 1
PERL_PERTURB_KEYS = 0
PERL_USE_UNSAFE_INC = 1
SHELL = /usr/bin/bash
TERM = screen
Perl special variables (and OS-specific diagnostics, for MSWin32):
$^X = /export/home/cpan/bin/perl/bin/perl5.43.5
$UID/$EUID = 101 / 101
$GID = 1 1
$EGID = 1 1
Perl module toolchain versions installed:
Module Have
------------------- --------
CPAN 2.38
CPAN::Meta 2.150010
Cwd 3.94
ExtUtils::CBuilder 0.280242
ExtUtils::Command 7.76
ExtUtils::Install 2.22
ExtUtils::MakeMaker 7.76
ExtUtils::Manifest 1.75
ExtUtils::ParseXS 3.60
File::Spec 3.94
JSON 4.10
JSON::PP 4.16
Module::Build 0.4234
Module::Signature n/a
Parse::CPAN::Meta 2.150010
Test2 1.302214
Test::Harness 3.52
Test::More 1.302214
YAML 1.31
YAML::Syck 1.36
version 0.9933
--
Summary of my perl5 (revision 5 version 43 subversion 5) configuration:
Commit id: f15164301bd63ef5fc84028b88e061d0cab9073c
Platform:
osname=solaris
osvers=2.11
archname=i86pc-solaris-thread-multi-64
uname='sunos cjg-omniosce 5.11 omnios-r151052-92934720d80 i86pc i386 i86pc '
config_args='-des -Dprefix=/export/home/cpan/bin/perl -Dscriptdir=/export/home/cpan/bin/perl/bin -Dusedevel -Duse64bitall -Dcc=gcc -Duseithreads'
hint=recommended
useposix=true
d_sigaction=define
useithreads=define
usemultiplicity=define
use64bitint=define
use64bitall=define
uselongdouble=undef
usemymalloc=n
default_inc_excludes_dot=define
Compiler:
cc='gcc'
ccflags ='-D_REENTRANT -m64 -fwrapv -fno-strict-aliasing -pipe -fstack-protector-strong -D_LARGEFILE_SOURCE -D_FILE_OFFSET_BITS=64 -D_FORTIFY_SOURCE=2'
optimize='-O'
cppflags='-D_REENTRANT -m64 -fwrapv -fno-strict-aliasing -pipe -fstack-protector-strong'
ccversion=''
gccversion='14.2.0'
gccosandvers=''
intsize=4
longsize=8
ptrsize=8
doublesize=8
byteorder=12345678
doublekind=3
d_longlong=define
longlongsize=8
d_longdbl=define
longdblsize=16
longdblkind=3
ivtype='long'
ivsize=8
nvtype='double'
nvsize=8
Off_t='off_t'
lseeksize=8
alignbytes=8
prototype=define
Linker and Libraries:
ld='gcc'
ldflags =' -m64 -fstack-protector-strong -L/usr/gnu/lib '
libpth=/opt/gcc-14/lib /usr/lib /usr/gnu/lib /usr/ccs/lib
libs=-lpthread -lsocket -lnsl -ldl -lm -lc
perllibs=-lpthread -lsocket -lnsl -ldl -lm -lc
libc=/lib/libc.so
so=so
useshrplib=true
libperl=libperl.so
gnulibc_version=''
Dynamic Linking:
dlsrc=dl_dlopen.xs
dlext=so
d_dlsymun=undef
ccdlflags=' -R /export/home/cpan/bin/perl/lib/5.43.5/i86pc-solaris-thread-multi-64/CORE'
cccdlflags='-fPIC'
lddlflags=' -shared -m64 -L/usr/gnu/lib -fstack-protector-strong'
Characteristics of this binary (from libperl):
Compile-time options:
HAS_LONG_DOUBLE
HAS_STRTOLD
HAS_TIMES
MULTIPLICITY
PERLIO_LAYERS
PERL_COPY_ON_WRITE
PERL_DONT_CREATE_GVSV
PERL_HASH_FUNC_SIPHASH13
PERL_HASH_USE_SBOX32
PERL_MALLOC_WRAP
PERL_OP_PARENT
PERL_PRESERVE_IVUV
PERL_USE_DEVEL
PERL_USE_SAFE_PUTENV
USE_64_BIT_ALL
USE_64_BIT_INT
USE_ITHREADS
USE_LARGE_FILES
USE_LOCALE
USE_LOCALE_COLLATE
USE_LOCALE_CTYPE
USE_LOCALE_NUMERIC
USE_LOCALE_TIME
USE_PERLIO
USE_PERL_ATOF
USE_REENTRANT_API
USE_THREAD_SAFE_LOCALE
Built under solaris
Compiled at Nov 12 2025 14:24:34
%ENV:
PERL5LIB=""
PERL5OPT=""
PERL5_CPANPLUS_IS_RUNNING="11326"
PERL5_CPAN_IS_RUNNING="11326"
PERL_MM_USE_DEFAULT="1"
PERL_PERTURB_KEYS="0"
PERL_USE_UNSAFE_INC="1"
@INC:
/export/home/cpan/bin/perl/lib/site_perl/5.43.5/i86pc-solaris-thread-multi-64
/export/home/cpan/bin/perl/lib/site_perl/5.43.5
/export/home/cpan/bin/perl/lib/5.43.5/i86pc-solaris-thread-multi-64
/export/home/cpan/bin/perl/lib/5.43.5
.