Back
From: metabase:user:bf998058-baeb-11e4-99c3-b01b75490a75
Subject: PASS Dist-Zilla-Plugin-CopyFilesFromBuild-0.170880 v5.22.4 Mac OS X
Date: 2017-08-04T19:21:54Z
This distribution has been tested as part of the CPAN Testers
project, supporting the Perl programming language. See
http://wiki.cpantesters.org/ for more information or email
questions to cpan-testers-discuss@perl.org
--
Dear RTHOMPSON,
This is a computer-generated report for Dist-Zilla-Plugin-CopyFilesFromBuild-0.170880
on perl 5.22.4, created by App::cpanminus::reporter 0.17 (1.7043).
Thank you for uploading your work to CPAN. Congratulations!
All tests were successful.
Sections of this report:
* Tester comments
* Program output
* Prerequisites
* Environment and other context
------------------------------
TESTER COMMENTS
------------------------------
Additional comments from tester:
none provided
------------------------------
PROGRAM OUTPUT
------------------------------
Output from '':
Building and testing Dist-Zilla-Plugin-CopyFilesFromBuild-0.170880
Manifying 1 pod document
PERL_DL_NONLAZY=1 "/Volumes/amaretto/Users/ether/perl5/perlbrew/perls/22.4/bin/perl" "-MExtUtils::Command::MM" "-MTest::Harness" "-e" "undef *Test::Harness::Switches; test_harness(0, 'blib/lib', 'blib/arch')" t/*.t
t/author-critic.t ........ skipped: these tests are for testing by the author
t/author-pod-coverage.t .. skipped: these tests are for testing by the author
t/author-pod-syntax.t .... skipped: these tests are for testing by the author
t/release-has-version.t .. skipped: these tests are for release candidate testing
t/release-kwalitee.t ..... skipped: these tests are for release candidate testing
t/release-portability.t .. skipped: these tests are for release candidate testing
t/release-unused-vars.t .. skipped: these tests are for release candidate testing
# Testing with Perl 5.022004, /Volumes/amaretto/Users/ether/perl5/perlbrew/perls/22.4/bin/perl
# Carp version is 1.36
# Dist::Zilla::Plugin::ReadmeAnyFromPod version is 0.163250
# Dist::Zilla::Role::AfterBuild version is 6.010
t/00-compile.t ........... ok
# ExtUtils::MakeMaker version is 7.3103
# File::Copy version is 2.30
# File::Spec version is 3.56_02
# IO::File version is 1.16
# IO::Handle version is 1.35
# IPC::Open3 version is 1.18
# List::Util version is 1.48
# Moose version is 2.2006
# MooseX::Has::Sugar version is 1.000006
# Path::Tiny version is 0.104
# Scalar::Util version is 1.48
# Set::Scalar version is 1.29
# Test::DZil version is 6.010
# Test::Exception version is 0.43
# Test::More version is 1.302086
# Test::Most version is 0.35
# autodie version is 2.26
# blib version is 1.06
# strict version is 1.09
# utf8 version is 1.17
# warnings version is 1.34
t/000-report-versions.t .. ok
t/basic.t ................ ok
All tests successful.
Files=10, Tests=34, 1 wallclock secs ( 0.04 usr 0.02 sys + 1.66 cusr 0.14 csys = 1.86 CPU)
Result: PASS
------------------------------
PREREQUISITES
------------------------------
Prerequisite modules loaded:
No requirements found
------------------------------
ENVIRONMENT AND OTHER CONTEXT
------------------------------
Environment variables:
HARNESS_OPTIONS = j5:c
LANG = en_CA.UTF-8
NO_NETWORK_TESTING = 1
PATH = /Volumes/amaretto/Users/ether/.perlbrew/libs/22.4@std/bin:/Volumes/amaretto/Users/ether/perl5/perlbrew/bin:/Volumes/amaretto/Users/ether/perl5/perlbrew/perls/22.4/bin:/Volumes/amaretto/Users/ether/bin:/Volumes/amaretto/Users/ether/git/misc/install/jaeger/bin:/Volumes/amaretto/Users/ether/git/misc/install/generic/bin:/opt/local/bin:/opt/local/sbin:/Volumes/amaretto/Users/ether/git/git-hub/lib:/usr/local/bin:/usr/bin:/bin:/usr/sbin:/sbin:/opt/local/share/git-core/contrib/workdir
PERL5LIB = /Volumes/amaretto/Users/ether/.perlbrew/libs/22.4@std/lib/perl5
PERLBREW_BASHRC_VERSION = 0.78
PERLBREW_HOME = /Volumes/amaretto/Users/ether/.perlbrew
PERLBREW_LIB = std
PERLBREW_MANPATH = /Volumes/amaretto/Users/ether/.perlbrew/libs/22.4@std/man:/Volumes/amaretto/Users/ether/perl5/perlbrew/perls/22.4/man
PERLBREW_PATH = /Volumes/amaretto/Users/ether/.perlbrew/libs/22.4@std/bin:/Volumes/amaretto/Users/ether/perl5/perlbrew/bin:/Volumes/amaretto/Users/ether/perl5/perlbrew/perls/22.4/bin
PERLBREW_PERL = 22.4
PERLBREW_ROOT = /Volumes/amaretto/Users/ether/perl5/perlbrew
PERLBREW_VERSION = 0.80
PERLDOC_PAGER = less -sicMr
PERL_AUTOINSTALL_PREFER_CPAN = 1
PERL_INSTALL_QUIET = 1
PERL_LOCAL_LIB_ROOT = /Volumes/amaretto/Users/ether/.perlbrew/libs/22.4@std
PERL_MB_OPT = --install_base /Volumes/amaretto/Users/ether/.perlbrew/libs/22.4@std
PERL_MM_OPT = INSTALL_BASE=/Volumes/amaretto/Users/ether/.perlbrew/libs/22.4@std
PERL_USE_UNSAFE_INC = 1
SHELL = /bin/bash
TERM = xterm-color
Perl special variables (and OS-specific diagnostics, for MSWin32):
EGID = 20 20 12 61 79 80 81 98 701 33 100 204 395 398 399
EUID = 502
EXECUTABLE_NAME = /Volumes/amaretto/Users/ether/perl5/perlbrew/perls/22.4/bin/perl
GID = 20 20 12 61 79 80 81 98 701 33 100 204 395 398 399
UID = 502
Perl module toolchain versions installed:
Module Have
------------------- --------
CPAN 2.11_01
CPAN::Meta 2.150010
Cwd 3.56_02
ExtUtils::CBuilder 0.280226
ExtUtils::Command 7.31_03
ExtUtils::Install 2.06
ExtUtils::MakeMaker 7.31_03
ExtUtils::Manifest 1.70
ExtUtils::ParseXS 3.28
File::Spec 3.56_02
JSON 2.94
JSON::PP 2.94
Module::Build 0.4224
Module::Signature n/a
Parse::CPAN::Meta 2.150010
Test::Harness 3.35_01
Test::More 1.302086
YAML 1.23
YAML::Syck 1.30
version 0.9909
--
Summary of my perl5 (revision 5 version 22 subversion 4) configuration:
Platform:
osname=darwin, osvers=16.5.0, archname=darwin-2level
uname='darwin jaeger 16.5.0 darwin kernel version 16.5.0: fri mar 3 16:52:33 pst 2017; root:xnu-3789.51.2~3release_x86_64 x86_64 '
config_args='-de -Dprefix=/Volumes/amaretto/Users/ether/perl5/perlbrew/perls/22.4 -Dman1dir=none -Dman3dir=none -Aeval:scriptdir=/Volumes/amaretto/Users/ether/perl5/perlbrew/perls/22.4/bin'
hint=recommended, useposix=true, d_sigaction=define
useithreads=undef, usemultiplicity=undef
use64bitint=define, use64bitall=define, uselongdouble=undef
usemymalloc=n, bincompat5005=undef
Compiler:
cc='cc', ccflags ='-fno-common -DPERL_DARWIN -mmacosx-version-min=10.12 -fno-strict-aliasing -pipe -fstack-protector-strong -I/opt/local/include -DPERL_USE_SAFE_PUTENV',
optimize='-O3',
cppflags='-fno-common -DPERL_DARWIN -mmacosx-version-min=10.12 -fno-strict-aliasing -pipe -fstack-protector-strong -I/opt/local/include'
ccversion='', gccversion='4.2.1 Compatible Apple LLVM 8.1.0 (clang-802.0.42)', gccosandvers=''
intsize=4, longsize=8, ptrsize=8, doublesize=8, byteorder=12345678, doublekind=3
d_longlong=define, longlongsize=8, d_longdbl=define, longdblsize=16, longdblkind=3
ivtype='long', ivsize=8, nvtype='double', nvsize=8, Off_t='off_t', lseeksize=8
alignbytes=8, prototype=define
Linker and Libraries:
ld='cc', ldflags =' -mmacosx-version-min=10.12 -fstack-protector-strong -L/opt/local/lib'
libpth=/Applications/Xcode.app/Contents/Developer/Toolchains/XcodeDefault.xctoolchain/usr/bin/../lib/clang/8.1.0/lib /Applications/Xcode.app/Contents/Developer/Toolchains/XcodeDefault.xctoolchain/usr/lib /usr/lib /opt/local/lib
libs=-lpthread -lgdbm -ldbm -ldl -lm -lutil -lc
perllibs=-lpthread -ldl -lm -lutil -lc
libc=, so=dylib, useshrplib=false, libperl=libperl.a
gnulibc_version=''
Dynamic Linking:
dlsrc=dl_dlopen.xs, dlext=bundle, d_dlsymun=undef, ccdlflags=' '
cccdlflags=' ', lddlflags=' -mmacosx-version-min=10.12 -bundle -undefined dynamic_lookup -L/opt/local/lib -fstack-protector-strong'
Characteristics of this binary (from libperl):
Compile-time options: HAS_TIMES PERLIO_LAYERS PERL_DONT_CREATE_GVSV
PERL_HASH_FUNC_ONE_AT_A_TIME_HARD PERL_MALLOC_WRAP
PERL_NEW_COPY_ON_WRITE PERL_PRESERVE_IVUV
PERL_USE_SAFE_PUTENV USE_64_BIT_ALL USE_64_BIT_INT
USE_LARGE_FILES USE_LOCALE USE_LOCALE_COLLATE
USE_LOCALE_CTYPE USE_LOCALE_NUMERIC USE_LOCALE_TIME
USE_PERLIO USE_PERL_ATOF
Locally applied patches:
Devel::PatchPerl 1.48
Built under darwin
Compiled at Aug 4 2017 10:20:13
%ENV:
PERL5LIB="/Volumes/amaretto/Users/ether/.perlbrew/libs/22.4@std/lib/perl5"
PERLBREW_BASHRC_VERSION="0.78"
PERLBREW_HOME="/Volumes/amaretto/Users/ether/.perlbrew"
PERLBREW_LIB="std"
PERLBREW_MANPATH="/Volumes/amaretto/Users/ether/.perlbrew/libs/22.4@std/man:/Volumes/amaretto/Users/ether/perl5/perlbrew/perls/22.4/man"
PERLBREW_PATH="/Volumes/amaretto/Users/ether/.perlbrew/libs/22.4@std/bin:/Volumes/amaretto/Users/ether/perl5/perlbrew/bin:/Volumes/amaretto/Users/ether/perl5/perlbrew/perls/22.4/bin"
PERLBREW_PERL="22.4"
PERLBREW_ROOT="/Volumes/amaretto/Users/ether/perl5/perlbrew"
PERLBREW_VERSION="0.80"
PERLDOC_PAGER="less -sicMr"
PERL_AUTOINSTALL_PREFER_CPAN="1"
PERL_INSTALL_QUIET="1"
PERL_LOCAL_LIB_ROOT="/Volumes/amaretto/Users/ether/.perlbrew/libs/22.4@std"
PERL_MB_OPT="--install_base /Volumes/amaretto/Users/ether/.perlbrew/libs/22.4@std"
PERL_MM_OPT="INSTALL_BASE=/Volumes/amaretto/Users/ether/.perlbrew/libs/22.4@std"
PERL_USE_UNSAFE_INC="1"
@INC:
/Volumes/amaretto/Users/ether/.perlbrew/libs/22.4@std/lib/perl5/darwin-2level
/Volumes/amaretto/Users/ether/.perlbrew/libs/22.4@std/lib/perl5
/Volumes/amaretto/Users/ether/perl5/perlbrew/perls/22.4/lib/site_perl/5.22.4/darwin-2level
/Volumes/amaretto/Users/ether/perl5/perlbrew/perls/22.4/lib/site_perl/5.22.4
/Volumes/amaretto/Users/ether/perl5/perlbrew/perls/22.4/lib/5.22.4/darwin-2level
/Volumes/amaretto/Users/ether/perl5/perlbrew/perls/22.4/lib/5.22.4
.