Git-Wrapper-Plus v0.004011 Perl 5 v5.16.3 x86_64-linux

Status
Pass
From
Andreas J. König (ANDK)
Dist
Git-Wrapper-Plus v0.004011
Platform
Perl 5 v5.16.3 x86_64-linux
Date
2019-01-10 09:07:37
ID
2cea9f06-14b7-11e9-bc29-bde53cc44732
This distribution has been tested as part of the CPAN Testers
project, supporting the Perl programming language.  See
http://wiki.cpantesters.org/ for more information or email
questions to cpan-testers-discuss@perl.org


--
Dear Kent Fredric,

This is a computer-generated report for Git-Wrapper-Plus-0.004011
on perl 5.16.3, created by CPAN-Reporter-1.2018.

Thank you for uploading your work to CPAN.  Congratulations!
All tests were successful.

Sections of this report:

    * Tester comments
    * Program output
    * Prerequisites
    * Environment and other context

------------------------------
TESTER COMMENTS
------------------------------

Additional comments from tester:

this report is from an automated smoke testing program
and was not reviewed by a human for accuracy

------------------------------
PROGRAM OUTPUT
------------------------------

Output from '/usr/bin/make test':

PERL_DL_NONLAZY=1 "/home/sand/src/perl/repoperls/installed-perls/host/k93msid/v5.16.3/da1c/bin/perl" "-MExtUtils::Command::MM" "-MTest::Harness" "-e" "undef *Test::Harness::Switches; test_harness(0, 'blib/lib', 'blib/arch')" t/*.t t/00-compile/*.t t/branches/*.t t/plus/*.t t/refs/*.t t/tags/*.t
t/00-compile/lib_Git_Wrapper_Plus_Branches_pm.t ................. ok
t/00-compile/lib_Git_Wrapper_Plus_pm.t .......................... ok
t/00-compile/lib_Git_Wrapper_Plus_Ref_Branch_pm.t ............... ok
t/00-compile/lib_Git_Wrapper_Plus_Ref_pm.t ...................... ok
t/00-compile/lib_Git_Wrapper_Plus_Ref_Tag_pm.t .................. ok
t/00-compile/lib_Git_Wrapper_Plus_Refs_pm.t ..................... ok
t/00-compile/lib_Git_Wrapper_Plus_Support_Arguments_pm.t ........ ok
t/00-compile/lib_Git_Wrapper_Plus_Support_Behaviors_pm.t ........ ok
t/00-compile/lib_Git_Wrapper_Plus_Support_Commands_pm.t ......... ok
t/00-compile/lib_Git_Wrapper_Plus_Support_pm.t .................. ok
t/00-compile/lib_Git_Wrapper_Plus_Support_Range_pm.t ............ ok
t/00-compile/lib_Git_Wrapper_Plus_Support_RangeDictionary_pm.t .. ok
t/00-compile/lib_Git_Wrapper_Plus_Support_RangeSet_pm.t ......... ok
t/00-compile/lib_Git_Wrapper_Plus_Tags_pm.t ..................... ok
t/00-compile/lib_Git_Wrapper_Plus_Tester_pm.t ................... ok
t/00-compile/lib_Git_Wrapper_Plus_Util_pm.t ..................... ok
t/00-compile/lib_Git_Wrapper_Plus_Versions_pm.t ................. ok
# 
#      arguments supported   | cat-file -e
#      behaviors supported   | 2-arg-cat-file, add-updates-index, can-checkout-detached
#       commands supported   | cat-file, commit-tree, for-each-ref, init, init-db, ls-remote, peek-remote, read-tree
#                            | show-diff, update-index, write-tree
#       commands unsupported | update-cache
t/00-report-git-support.t ....................................... ok
# Git Version: 2.19.1
# Git is >= 2.0
t/00-report-git-version.t ....................................... ok
# 
# Versions for all modules listed in MYMETA.json (including optional ones):
# 
# === Configure Requires ===
# 
#     Module              Want    Have
#     ------------------- ---- -------
#     ExtUtils::MakeMaker  any 7.35_07
# 
# === Configure Recommends ===
# 
#     Module              Want    Have
#     ------------------- ---- -------
#     ExtUtils::MakeMaker 7.00 7.35_07
# 
# === Build Requires ===
# 
#     Module              Want    Have
#     ------------------- ---- -------
#     ExtUtils::MakeMaker  any 7.35_07
# 
# === Test Requires ===
# 
#     Module              Want     Have
#     ------------------- ---- --------
#     ExtUtils::MakeMaker  any  7.35_07
#     File::Spec           any     3.75
#     Test::Fatal          any    0.014
#     Test::More           any 1.302157
#     Test::Requires       any     0.10
# 
# === Test Recommends ===
# 
#     Module                  Want     Have
#     ------------------- -------- --------
#     CPAN::Meta          2.120900 2.150010
#     ExtUtils::MakeMaker     7.00  7.35_07
#     Test::More              0.99 1.302157
# 
# === Runtime Requires ===
# 
#     Module                     Want     Have
#     -------------------------- ---- --------
#     Carp                        any     1.50
#     Git::Wrapper                any    0.048
#     Moo                         any 2.003004
#     Path::Tiny                  any    0.108
#     Scalar::Util                any     1.50
#     Sort::Versions              any     1.62
#     Sub::Exporter::Progressive  any 0.001013
#     Try::Tiny                   any     0.30
#     strict                      any     1.07
#     warnings                    any     1.13
# 
# === Runtime Recommends ===
# 
#     Module         Want     Have
#     ---------- -------- --------
#     Moo        1.000008 2.003004
#     Path::Tiny    0.058    0.108
# 
t/00-report-prereqs.t ........................................... ok
t/branches/basic.t .............................................. ok
t/plus/basic.t .................................................. ok
t/plus/path-class-constructor.t ................................. ok
t/plus/path-tiny-constructor.t .................................. ok
t/refs/basic_branches.t ......................................... ok
t/refs/basic_tags.t ............................................. ok
t/tags/basic.t .................................................. ok
All tests successful.
Files=27, Tests=63, 11 wallclock secs ( 0.07 usr  0.10 sys +  1.75 cusr  1.47 csys =  3.39 CPU)
Result: PASS

------------------------------
PREREQUISITES
------------------------------

Prerequisite modules loaded:

requires:

    Module                     Need     Have    
    -------------------------- -------- --------
    Carp                       0        1.50    
    Git::Wrapper               0        0.048   
    Moo                        0        2.003004
    Path::Tiny                 0        0.108   
    perl                       5.006    5.016003
    Scalar::Util               0        1.50    
    Sort::Versions             0        1.62    
    strict                     0        1.07    
    Sub::Exporter::Progressive 0        0.001013
    Try::Tiny                  0        0.30    
    warnings                   0        1.13    

build_requires:

    Module                     Need     Have    
    -------------------------- -------- --------
    ExtUtils::MakeMaker        0        7.35_07 
    File::Spec                 0        3.75    
    Test::Fatal                0        0.014   
    Test::More                 0        1.302157
    Test::Requires             0        0.10    

configure_requires:

    Module                     Need     Have    
    -------------------------- -------- --------
    ExtUtils::MakeMaker        0        7.35_07 
    perl                       5.006    5.016003

opt_requires:

    Module                     Need     Have    
    -------------------------- -------- --------
    Moo                        1.000008 2.003004
    Path::Tiny                 0.058    0.108   


------------------------------
ENVIRONMENT AND OTHER CONTEXT
------------------------------

Environment variables:

    AUTOMATED_TESTING = 1
    LANG = en_US.UTF-8
    PATH = /home/sand/bin:/usr/local/bin:/usr/bin:/bin:/usr/games:/usr/local/perl/bin:/usr/X11/bin:/sbin:/usr/sbin
    PERL5LIB = /tmp/loop_over_bdir-25396-2XcEuo/recommended-0.003-0/blib/arch:/tmp/loop_over_bdir-25396-2XcEuo/recommended-0.003-0/blib/lib:/tmp/loop_over_bdir-25396-2XcEuo/Data-DPath-0.57-0/blib/arch:/tmp/loop_over_bdir-25396-2XcEuo/Data-DPath-0.57-0/blib/lib:/tmp/loop_over_bdir-25396-2XcEuo/Iterator-Util-0.02-0/blib/arch:/tmp/loop_over_bdir-25396-2XcEuo/Iterator-Util-0.02-0/blib/lib:/tmp/loop_over_bdir-25396-2XcEuo/Iterator-0.03-0/blib/arch:/tmp/loop_over_bdir-25396-2XcEuo/Iterator-0.03-0/blib/lib:/tmp/loop_over_bdir-25396-2XcEuo/Archive-Tar-Wrapper-0.33-0/blib/arch:/tmp/loop_over_bdir-25396-2XcEuo/Archive-Tar-Wrapper-0.33-0/blib/lib
    PERL5OPT = 
    PERL5_CPANPLUS_IS_RUNNING = 25398
    PERL5_CPAN_IS_RUNNING = 25398
    PERL5_CPAN_IS_RUNNING_IN_RECURSION = 3943,25398
    PERL_CANARY_STABILITY_NOPROMPT = 1
    PERL_MM_USE_DEFAULT = 1
    PERL_USE_UNSAFE_INC = 1
    SHELL = /usr/bin/zsh
    TERM = screen

Perl special variables (and OS-specific diagnostics, for MSWin32):

    $^X = /home/sand/src/perl/repoperls/installed-perls/host/k93msid/v5.16.3/da1c/bin/perl
    $UID/$EUID = 1005 / 1005
    $GID = 1005 1005
    $EGID = 1005 1005

Perl module toolchain versions installed:

    Module              Have    
    ------------------- --------
    CPAN                2.22    
    CPAN::Meta          2.150010
    Cwd                 3.75    
    ExtUtils::CBuilder  0.280230
    ExtUtils::Command   7.35_07 
    ExtUtils::Install   2.06    
    ExtUtils::MakeMaker 7.35_07 
    ExtUtils::Manifest  1.70    
    ExtUtils::ParseXS   3.35    
    File::Spec          3.75    
    JSON                4.00    
    JSON::PP            3.99_01 
    Module::Build       0.4224  
    Module::Signature   0.83    
    Parse::CPAN::Meta   2.150010
    Test::Harness       3.42    
    Test::More          1.302157
    YAML                1.26    
    YAML::Syck          1.31    
    version             0.9924  


--

Summary of my perl5 (revision 5 version 16 subversion 3) configuration:
  Derived from: fd04d42d38f4751b981eb6e9213ee1ab8ef11ea6
  Platform:
    osname=linux, osvers=4.18.0-2-amd64, archname=x86_64-linux
    uname='linux k93msid 4.18.0-2-amd64 #1 smp debian 4.18.10-2 (2018-10-07) x86_64 gnulinux '
    config_args='-Dprefix=/home/sand/src/perl/repoperls/installed-perls/host/k93msid/v5.16.3/da1c -Dmyhostname=k93msid -Dinstallusrbinperl=n -Uversiononly -Dusedevel -des -Ui_db -Dlibswanted=cl pthread socket inet nsl gdbm dbm malloc dl ld sun m crypt sec util c cposix posix ucb BSD gdbm_compat -Uuseithreads -Uuselongdouble -DEBUGGING=-g'
    hint=recommended, useposix=true, d_sigaction=define
    useithreads=undef, usemultiplicity=undef
    useperlio=define, d_sfio=undef, uselargefiles=define, usesocks=undef
    use64bitint=define, use64bitall=define, uselongdouble=undef
    usemymalloc=n, bincompat5005=undef
  Compiler:
    cc='cc', ccflags ='-fno-strict-aliasing -pipe -fstack-protector -I/usr/local/include -D_LARGEFILE_SOURCE -D_FILE_OFFSET_BITS=64',
    optimize='-O2 -g',
    cppflags='-fno-strict-aliasing -pipe -fstack-protector -I/usr/local/include'
    ccversion='', gccversion='8.2.0', gccosandvers=''
    intsize=4, longsize=8, ptrsize=8, doublesize=8, byteorder=12345678
    d_longlong=define, longlongsize=8, d_longdbl=define, longdblsize=16
    ivtype='long', ivsize=8, nvtype='double', nvsize=8, Off_t='off_t', lseeksize=8
    alignbytes=8, prototype=define
  Linker and Libraries:
    ld='cc', ldflags =' -fstack-protector -L/usr/local/lib'
    libpth=/usr/local/lib /lib/x86_64-linux-gnu /lib/../lib /usr/lib/x86_64-linux-gnu /usr/lib/../lib /lib /usr/lib
    libs=-lpthread -lnsl -ldl -lm -lcrypt -lutil -lc
    perllibs=-lpthread -lnsl -ldl -lm -lcrypt -lutil -lc
    libc=libc-2.27.so, so=so, useshrplib=false, libperl=libperl.a
    gnulibc_version='2.27'
  Dynamic Linking:
    dlsrc=dl_dlopen.xs, dlext=so, d_dlsymun=undef, ccdlflags='-Wl,-E'
    cccdlflags='-fPIC', lddlflags='-shared -O2 -g -L/usr/local/lib -fstack-protector'


Characteristics of this binary (from libperl): 
  Compile-time options: HAS_TIMES PERLIO_LAYERS PERL_DONT_CREATE_GVSV
                        PERL_MALLOC_WRAP PERL_PRESERVE_IVUV PERL_USE_DEVEL
                        USE_64_BIT_ALL USE_64_BIT_INT USE_LARGE_FILES
                        USE_LOCALE USE_LOCALE_COLLATE USE_LOCALE_CTYPE
                        USE_LOCALE_NUMERIC USE_PERLIO USE_PERL_ATOF
  Locally applied patches:
	uncommitted-changes
  Built under linux
  Compiled at Oct 29 2018 00:31:44
  %ENV:
    PERL5LIB="/tmp/loop_over_bdir-25396-2XcEuo/recommended-0.003-0/blib/arch:/tmp/loop_over_bdir-25396-2XcEuo/recommended-0.003-0/blib/lib:/tmp/loop_over_bdir-25396-2XcEuo/Data-DPath-0.57-0/blib/arch:/tmp/loop_over_bdir-25396-2XcEuo/Data-DPath-0.57-0/blib/lib:/tmp/loop_over_bdir-25396-2XcEuo/Iterator-Util-0.02-0/blib/arch:/tmp/loop_over_bdir-25396-2XcEuo/Iterator-Util-0.02-0/blib/lib:/tmp/loop_over_bdir-25396-2XcEuo/Iterator-0.03-0/blib/arch:/tmp/loop_over_bdir-25396-2XcEuo/Iterator-0.03-0/blib/lib:/tmp/loop_over_bdir-25396-2XcEuo/Archive-Tar-Wrapper-0.33-0/blib/arch:/tmp/loop_over_bdir-25396-2XcEuo/Archive-Tar-Wrapper-0.33-0/blib/lib"
    PERL5OPT=""
    PERL5_CPANPLUS_IS_RUNNING="25398"
    PERL5_CPAN_IS_RUNNING="25398"
    PERL5_CPAN_IS_RUNNING_IN_RECURSION="3943,25398"
    PERL_CANARY_STABILITY_NOPROMPT="1"
    PERL_MM_USE_DEFAULT="1"
    PERL_USE_UNSAFE_INC="1"
  @INC:
    /tmp/loop_over_bdir-25396-2XcEuo/recommended-0.003-0/blib/arch
    /tmp/loop_over_bdir-25396-2XcEuo/recommended-0.003-0/blib/lib
    /tmp/loop_over_bdir-25396-2XcEuo/Data-DPath-0.57-0/blib/arch
    /tmp/loop_over_bdir-25396-2XcEuo/Data-DPath-0.57-0/blib/lib
    /tmp/loop_over_bdir-25396-2XcEuo/Iterator-Util-0.02-0/blib/arch
    /tmp/loop_over_bdir-25396-2XcEuo/Iterator-Util-0.02-0/blib/lib
    /tmp/loop_over_bdir-25396-2XcEuo/Iterator-0.03-0/blib/arch
    /tmp/loop_over_bdir-25396-2XcEuo/Iterator-0.03-0/blib/lib
    /tmp/loop_over_bdir-25396-2XcEuo/Archive-Tar-Wrapper-0.33-0/blib/arch
    /tmp/loop_over_bdir-25396-2XcEuo/Archive-Tar-Wrapper-0.33-0/blib/lib
    /home/sand/src/perl/repoperls/installed-perls/host/k93msid/v5.16.3/da1c/lib/site_perl/5.16.3/x86_64-linux
    /home/sand/src/perl/repoperls/installed-perls/host/k93msid/v5.16.3/da1c/lib/site_perl/5.16.3
    /home/sand/src/perl/repoperls/installed-perls/host/k93msid/v5.16.3/da1c/lib/5.16.3/x86_64-linux
    /home/sand/src/perl/repoperls/installed-perls/host/k93msid/v5.16.3/da1c/lib/5.16.3
    .