Stancer v1.0.3 Perl 5 v5.34.3 x86_64-linux
- Status
- Pass
- From
- Slaven Rezić
- Dist
-
Stancer v1.0.3
- Platform
- Perl 5 v5.34.3 x86_64-linux
- Date
- 2024-04-01 19:36:45
- ID
- 2ccd37de-f05f-11ee-a5d2-2a2e6e8775ea
This distribution has been tested as part of the CPAN Testers
project, supporting the Perl programming language. See
http://wiki.cpantesters.org/ for more information or email
questions to cpan-testers-discuss@perl.org
--
Dear Joel Da Silva,
This is a computer-generated report for Stancer-1.0.3
on perl 5.34.3, created by CPAN-Reporter-1.2019.
Thank you for uploading your work to CPAN. Congratulations!
All tests were successful.
Sections of this report:
* Tester comments
* Program output
* Prerequisites
* Environment and other context
------------------------------
TESTER COMMENTS
------------------------------
Additional comments from tester:
none provided
------------------------------
PROGRAM OUTPUT
------------------------------
Output from '/usr/bin/make test':
PERL_DL_NONLAZY=1 "/opt/perl-5.34.3/bin/perl" "-MExtUtils::Command::MM" "-MTest::Harness" "-e" "undef *Test::Harness::Switches; test_harness(0, 'blib/lib', 'blib/arch')" t/*.t
t/00-compile.t .................. ok
#
# Versions for all modules listed in MYMETA.json (including optional ones):
#
# === Configure Requires ===
#
# Module Want Have
# ------------------- -------- --------
# ExtUtils::MakeMaker any 7.70
# perl 5.033006 5.034003
#
# === Build Requires ===
#
# Module Want Have
# ------------------- ---- ----
# ExtUtils::MakeMaker any 7.70
#
# === Test Requires ===
#
# Module Want Have
# ------------------------- -------- ----------
# Cwd any 3.80
# DateTime::Span any undef
# ExtUtils::MakeMaker any 7.70
# File::Spec any 3.80
# IO::Handle any 1.55
# IPC::Open3 any 1.21
# Test::Class 0.50 0.52
# Test::MockObject any 1.20200122
# Test::MockObject::Extends any 1.20200122
# Test::More any 1.302198
# Test::Most 0.35 0.38
# perl 5.033006 5.034003
#
# === Test Recommends ===
#
# Module Want Have
# ---------- -------- --------
# CPAN::Meta 2.120900 2.150010
#
# === Runtime Requires ===
#
# Module Want Have
# ---------------------------- -------- --------
# Carp any 1.52
# DateTime 1.57 1.65
# JSON 4.00 4.10
# LWP::Protocol::https 6.04 6.14
# LWP::UserAgent 6.05 6.72
# List::MoreUtils 0.418 0.430
# Log::Any 1.704 1.717
# Moo 2.005005 2.005005
# MooX::Types::MooseLike::Base 0.26 0.29
# Scalar::Util any 1.63
# Storable any 3.25
# Throwable 0.200012 1.001
# Try::Tiny 0.22 0.31
# namespace::clean 0.25 0.27
# perl 5.033006 5.034003
#
# === Runtime Suggests ===
#
# Module Want Have
# -------------- ---- -----
# DateTime::Span any undef
#
t/00-report-prereqs.t ........... ok
t/01-load.t ..................... ok
t/02-exceptions.t ............... ok
t/03-role-amount-read.t ......... ok
t/03-role-amount-write.t ........ ok
t/04-role-country.t ............. ok
t/05-role-name.t ................ ok
t/06-role-payment-auth.t ........ ok
t/21-core-object.t .............. ok
t/22-core-request.t ............. ok
t/23-core-iterator.t ............ ok
t/24-core-iterator-payment.t .... ok
t/25-core-iterator-dispute.t .... ok
t/26-core-types-helper.t ........ ok
t/27-core-types-apikeys.t ....... ok
t/28-core-types-bank.t .......... ok
t/29-core-types-string.t ........ ok
t/30-core-types-dates.t ......... ok
t/31-core-types-network.t ....... ok
t/32-core-types-object.t ........ ok
t/33-core-types-bases.t ......... ok
t/34-core-request-call.t ........ ok
t/40-config.t ................... ok
t/41-payment.t .................. ok
t/42-payment-status.t ........... ok
t/43-card.t ..................... ok
t/44-sepa.t ..................... ok
t/45-dispute.t .................. ok
t/46-refund.t ................... ok
t/47-refund-status.t ............ ok
t/48-device.t ................... ok
t/49-auth.t ..................... ok
t/50-auth-status.t .............. ok
t/51-customer.t ................. ok
t/52-sepa-check.t ............... ok
t/53-sepa-check-status.t ........ ok
t/author-clean-namespaces.t ..... skipped: these tests are for testing by the author
t/author-distmeta.t ............. skipped: these tests are for testing by the author
t/author-functional-card.t ...... skipped: these tests are for testing by the author
t/author-functional-customer.t .. skipped: these tests are for testing by the author
t/author-functional-dispute.t ... skipped: these tests are for testing by the author
t/author-functional-payment.t ... skipped: these tests are for testing by the author
t/author-functional-refund.t .... skipped: these tests are for testing by the author
t/author-functional-sepa.t ...... skipped: these tests are for testing by the author
t/author-minimum-version.t ...... skipped: these tests are for testing by the author
t/author-pod-coverage.t ......... skipped: these tests are for testing by the author
t/author-pod-syntax.t ........... skipped: these tests are for testing by the author
t/release-kwalitee.t ............ skipped: these tests are for release candidate testing
All tests successful.
Files=49, Tests=3132, 20 wallclock secs ( 0.30 usr 0.10 sys + 17.04 cusr 3.01 csys = 20.45 CPU)
Result: PASS
------------------------------
PREREQUISITES
------------------------------
Prerequisite modules loaded:
requires:
Module Need Have
---------------------------- -------- ----------
Carp 0 1.52
DateTime 1.57 1.65
JSON 4.00 4.10
List::MoreUtils 0.418 0.430
Log::Any 1.704 1.717
LWP::Protocol::https 6.04 6.14
LWP::UserAgent 6.05 6.72
Moo 2.005005 2.005005
MooX::Types::MooseLike::Base 0.26 0.29
namespace::clean 0.25 0.27
perl 5.033006 5.034003
Scalar::Util 0 1.63
Storable 0 3.25
Throwable 0.200012 1.001
Try::Tiny 0.22 0.31
build_requires:
Module Need Have
---------------------------- -------- ----------
Cwd 0 3.80
DateTime::Span 0 0.3900
ExtUtils::MakeMaker 0 7.70
File::Spec 0 3.80
IO::Handle 0 1.55
IPC::Open3 0 1.21
Test::Class 0.50 0.52
Test::MockObject 0 1.20200122
Test::MockObject::Extends 0 1.20200122
Test::More 0 1.302198
Test::Most 0.35 0.38
configure_requires:
Module Need Have
---------------------------- -------- ----------
ExtUtils::MakeMaker 0 7.70
perl 5.033006 5.034003
------------------------------
ENVIRONMENT AND OTHER CONTEXT
------------------------------
Environment variables:
LANG = en_US.UTF-8
PATH = /usr/local/bin:/usr/bin:/bin:/usr/local/sbin:/usr/sbin:/sbin:/home/cpansand/bin/linux-gnu:/home/cpansand/bin/sh:/home/cpansand/bin:/usr/games:/home/cpansand/devel:/home/eserte/src/srezic-misc/scripts
PERL5LIB =
PERL5OPT =
PERL5_CPANPLUS_IS_RUNNING = 621480
PERL5_CPAN_IS_RUNNING = 621480
PERL5_CPAN_IS_RUNNING_IN_RECURSION = 621006,621480
PERLDOC = -MPod::Perldoc::ToTextOverstrike
PERL_BATCH = yes
PERL_CANARY_STABILITY_NOPROMPT = 1
PERL_CPAN_REPORTER_CONFIG = /var/tmp/cpansmoker-1023/2024040119/cpanreporter_000_config.ini
PERL_EXTUTILS_AUTOINSTALL = --defaultdeps
PERL_USE_UNSAFE_INC = 1
SHELL = /usr/bin/zsh
TERM = screen
TMPDIR = /var/tmp/cpansmoker-1023/2024040119
Perl special variables (and OS-specific diagnostics, for MSWin32):
$^X = /opt/perl-5.34.3/bin/perl
$UID/$EUID = 1023 / 1023
$GID = 1023 1023
$EGID = 1023 1023
Perl module toolchain versions installed:
Module Have
------------------- --------
CPAN 2.28
CPAN::Meta 2.150010
Cwd 3.80
ExtUtils::CBuilder 0.280236
ExtUtils::Command 7.70
ExtUtils::Install 2.20
ExtUtils::MakeMaker 7.70
ExtUtils::Manifest 1.73
ExtUtils::ParseXS 3.43
File::Spec 3.80
JSON 4.10
JSON::PP 4.16
Module::Build 0.4234
Module::Signature 0.88
Parse::CPAN::Meta 2.150010
Test2 1.302198
Test::Harness 3.43
Test::More 1.302198
YAML 1.31
YAML::Syck 1.34
version 0.9930
--
Summary of my perl5 (revision 5 version 34 subversion 3) configuration:
Platform:
osname=linux
osvers=6.6.8-100.fc38.x86_64
archname=x86_64-linux
uname='linux fedora39-2gb-hil 6.6.8-100.fc38.x86_64 #1 smp preempt_dynamic thu dec 21 04:01:45 utc 2023 x86_64 gnulinux '
config_args='-ds -e -Dprefix=/opt/perl-5.34.3 -Dcf_email=srezic@cpan.org'
hint=recommended
useposix=true
d_sigaction=define
useithreads=undef
usemultiplicity=undef
use64bitint=define
use64bitall=define
uselongdouble=undef
usemymalloc=n
default_inc_excludes_dot=define
Compiler:
cc='cc'
ccflags ='-fwrapv -fno-strict-aliasing -pipe -fstack-protector-strong -I/usr/local/include -D_LARGEFILE_SOURCE -D_FILE_OFFSET_BITS=64 -D_FORTIFY_SOURCE=2'
optimize='-O2'
cppflags='-fwrapv -fno-strict-aliasing -pipe -fstack-protector-strong -I/usr/local/include'
ccversion=''
gccversion='13.2.1 20231205 (Red Hat 13.2.1-6)'
gccosandvers=''
intsize=4
longsize=8
ptrsize=8
doublesize=8
byteorder=12345678
doublekind=3
d_longlong=define
longlongsize=8
d_longdbl=define
longdblsize=16
longdblkind=3
ivtype='long'
ivsize=8
nvtype='double'
nvsize=8
Off_t='off_t'
lseeksize=8
alignbytes=8
prototype=define
Linker and Libraries:
ld='cc'
ldflags =' -fstack-protector-strong -L/usr/local/lib'
libpth=/usr/local/lib /usr/lib /usr/lib64 /usr/local/lib64
libs=-lpthread -ldb -ldl -lm -lcrypt -lutil -lc
perllibs=-lpthread -ldl -lm -lcrypt -lutil -lc
libc=/lib/../lib64/libc.so.6
so=so
useshrplib=false
libperl=libperl.a
gnulibc_version='2.38'
Dynamic Linking:
dlsrc=dl_dlopen.xs
dlext=so
d_dlsymun=undef
ccdlflags='-Wl,-E'
cccdlflags='-fPIC'
lddlflags='-shared -O2 -L/usr/local/lib -fstack-protector-strong'
Characteristics of this binary (from libperl):
Compile-time options:
HAS_TIMES
PERLIO_LAYERS
PERL_COPY_ON_WRITE
PERL_DONT_CREATE_GVSV
PERL_MALLOC_WRAP
PERL_OP_PARENT
PERL_PRESERVE_IVUV
USE_64_BIT_ALL
USE_64_BIT_INT
USE_LARGE_FILES
USE_LOCALE
USE_LOCALE_COLLATE
USE_LOCALE_CTYPE
USE_LOCALE_NUMERIC
USE_LOCALE_TIME
USE_PERLIO
USE_PERL_ATOF
Built under linux
Compiled at Dec 26 2023 16:13:28
%ENV:
PERL5LIB=""
PERL5OPT=""
PERL5_CPANPLUS_IS_RUNNING="621480"
PERL5_CPAN_IS_RUNNING="621480"
PERL5_CPAN_IS_RUNNING_IN_RECURSION="621006,621480"
PERLDOC="-MPod::Perldoc::ToTextOverstrike"
PERL_BATCH="yes"
PERL_CANARY_STABILITY_NOPROMPT="1"
PERL_CPAN_REPORTER_CONFIG="/var/tmp/cpansmoker-1023/2024040119/cpanreporter_000_config.ini"
PERL_EXTUTILS_AUTOINSTALL="--defaultdeps"
PERL_USE_UNSAFE_INC="1"
@INC:
/opt/perl-5.34.3/lib/site_perl/5.34.3/x86_64-linux
/opt/perl-5.34.3/lib/site_perl/5.34.3
/opt/perl-5.34.3/lib/5.34.3/x86_64-linux
/opt/perl-5.34.3/lib/5.34.3
.