Back
From: metabase:user:30f4dfbe-2aae-11df-837a-5e0a49663a4f
Subject: PASS YAML-Syck-1.29 v5.18.4 NetBSD
Date: 2015-03-01T18:02:50Z
This distribution has been tested as part of the CPAN Testers
project, supporting the Perl programming language. See
http://wiki.cpantesters.org/ for more information or email
questions to cpan-testers-discuss@perl.org
--
Dear Todd Rinaldo,
This is a computer-generated report for YAML-Syck-1.29
on perl 5.18.4, created by CPAN-Reporter-1.2011.
Thank you for uploading your work to CPAN. Congratulations!
All tests were successful.
Sections of this report:
* Tester comments
* Program output
* Prerequisites
* Environment and other context
------------------------------
TESTER COMMENTS
------------------------------
Additional comments from tester:
none provided
------------------------------
PROGRAM OUTPUT
------------------------------
Output from '/usr/bin/make test':
Running Mkbootstrap for YAML::Syck ()
chmod 644 "Syck.bs"
PERL_DL_NONLAZY=1 "/home/njh/perl5/perlbrew/perls/perl-5.18.4/bin/perl5.18.4" "-MExtUtils::Command::MM" "-MTest::Harness" "-e" "undef *Test::Harness::Switches; test_harness(0, 'inc', 'blib/lib', 'blib/arch')" t/*.t t/*/*.t
t/1-basic.t ................... ok
t/11-loadfile.t ............... ok
t/12-dumpfile.t ............... ok
t/3-objects.t ................. ok
t/2-scalars.t ................. ok
t/4-perl_tag_scheme.t ......... ok
t/bug/rt-49404-double_free.t .. ok
t/bug/doesnt-stringify.t ...... ok
t/bug/rt-54167.t .............. ok
t/json-circular-ref.t ......... ok
t/json-crlf.t ................. ok
t/json-basic.t ................ ok
t/json-dumpinto.t ............. ok
t/json-empty.t ................ ok
t/json-indent.t ............... ok
t/json-minus.t ................ ok
t/json-loadfile.t ............. ok
t/json-newline.t .............. ok
t/json-null.t ................. ok
t/json-numbers.t .............. ok
t/json-refs.t ................. ok
t/json-singlequote.t .......... ok
t/load-blessed.t .............. ok
t/leak.t ...................... ok
t/meta.t ...................... ok
t/yaml-alias.t ................ ok
t/yaml-dumpinto.t ............. ok
t/yaml-blessed-ref.t .......... ok
t/yaml-implicit-warnings.t .... ok
t/yaml-tie.t .................. ok
t/yaml-str-colon-first.t ...... ok
t/yaml-utf.t .................. ok
All tests successful.
Test Summary Report
-------------------
t/json-basic.t (Wstat: 0 Tests: 104 Failed: 0)
TODO passed: 81-82, 85-86, 93-94, 97-98
Files=32, Tests=628, 2 wallclock secs ( 0.30 usr 0.04 sys + 2.07 cusr 0.40 csys = 2.81 CPU)
Result: PASS
------------------------------
PREREQUISITES
------------------------------
Prerequisite modules loaded:
requires:
Module Need Have
------------------- ----- --------
perl 5.006 5.018004
build_requires:
Module Need Have
------------------- ----- --------
ExtUtils::MakeMaker 6.59 7.02
configure_requires:
Module Need Have
------------------- ----- --------
ExtUtils::MakeMaker 6.59 7.02
------------------------------
ENVIRONMENT AND OTHER CONTEXT
------------------------------
Environment variables:
HARNESS_OPTIONS = c:j2
LD_LIBRARY_PATH = :/usr/local/lib:/usr/lib/qt-3.3/lib:/usr/X11R6/lib
PATH = /home/njh/perl5/perlbrew/bin:/home/njh/perl5/perlbrew/perls/perl-5.18.4/bin:/home/njh/bin:/bin:/sbin:/usr/pkg/bin:/usr/bin:/usr/sbin:/usr/X11R6/bin:/usr/pkg/sbin:/usr/games:/usr/local/bin:/usr/local/sbin:/home/njh/linux/bin:/usr/pkg/lib/perl5/site_perl/bin
PERL5LIB =
PERL5OPT =
PERL5_CPANPLUS_IS_RUNNING = 15787
PERL5_CPAN_IS_RUNNING = 15787
PERLBREW_BASHRC_VERSION = 0.64
PERLBREW_HOME = /home/njh/.perlbrew
PERLBREW_MANPATH = /home/njh/perl5/perlbrew/perls/perl-5.18.4/man
PERLBREW_PATH = /home/njh/perl5/perlbrew/bin:/home/njh/perl5/perlbrew/perls/perl-5.18.4/bin
PERLBREW_PERL = perl-5.18.4
PERLBREW_ROOT = /home/njh/perl5/perlbrew
PERLBREW_VERSION = 0.64
SHELL = /usr/pkg/bin/bash
TERM = wsvt25
TMPDIR = /tmp
Perl special variables (and OS-specific diagnostics, for MSWin32):
$^X = /home/njh/perl5/perlbrew/perls/perl-5.18.4/bin/perl5.18.4
$UID/$EUID = 500 / 500
$GID = 100 100 0
$EGID = 100 100 0
Perl module toolchain versions installed:
Module Have
------------------- --------
CPAN 2.05
CPAN::Meta 2.120921
Cwd 3.47
ExtUtils::CBuilder 0.280210
ExtUtils::Command 1.17
ExtUtils::Install 1.59
ExtUtils::MakeMaker 7.02
ExtUtils::Manifest 1.65
ExtUtils::ParseXS 3.18
File::Spec 3.47
JSON n/a
JSON::PP 2.27203
Module::Build 0.4003
Module::Signature n/a
Parse::CPAN::Meta 1.4405
Test::Harness 3.26
Test::More 1.001009
YAML 1.13
YAML::Syck 1.27
version 0.9902
--
Summary of my perl5 (revision 5 version 18 subversion 4) configuration:
Platform:
osname=netbsd, osvers=6.1.5, archname=i386-netbsd-thread-multi
uname='netbsd philips.bandsman.co.uk 6.1.5 netbsd 6.1.5 (generic) i386 '
config_args='-de -Dprefix=/home/njh/perl5/perlbrew/perls/perl-5.18.4 -Duseithreads -Dusemultiplicity -Dusedevel -Accflags=-O2 -W -Wformat=2 -Wswitch -Wshadow -Wwrite-strings -Wuninitialized -Wall -pipe -mtune=pentium-m -march=pentium-m -fomit-frame-pointer -msse3 -msse2 -msse -mmmx -mfpmath=sse -pedantic -D_FORTIFY_SOURCE=2 -Wpointer-arith -Wstrict-prototypes -fstack-protector -Wstack-protector -Wextra -Wbad-function-cast -Wcast-align -Wcast-qual -Wdisabled-optimization -Wendif-labels -Wfloat-equal -Wformat-nonliteral -Winline -Wmissing-declarations -Wmissing-prototypes -Wnested-externs -Wpointer-arith -Wundef -I/usr/pkg/include -Wformat-security -ftree-vectorize -ftree-vectorizer-verbose=1 -Aeval:scriptdir=/home/njh/perl5/perlbrew/perls/perl-5.18.4/bin'
hint=recommended, useposix=true, d_sigaction=define
useithreads=define, usemultiplicity=define
useperlio=define, d_sfio=undef, uselargefiles=define, usesocks=undef
use64bitint=undef, use64bitall=undef, uselongdouble=undef
usemymalloc=n, bincompat5005=undef
Compiler:
cc='cc', ccflags ='-O2 -W -Wformat=2 -Wswitch -Wshadow -Wwrite-strings -Wuninitialized -Wall -pipe -mtune=pentium-m -march=pentium-m -fomit-frame-pointer -msse3 -msse2 -msse -mmmx -mfpmath=sse -pedantic -D_FORTIFY_SOURCE=2 -Wpointer-arith -Wstrict-prototypes -fstack-protector -Wstack-protector -Wextra -Wbad-function-cast -Wcast-align -Wcast-qual -Wdisabled-optimization -Wendif-labels -Wfloat-equal -Wformat-nonliteral -Winline -Wmissing-declarations -Wmissing-prototypes -Wnested-externs -Wpointer-arith -Wundef -I/usr/pkg/include -Wformat-security -ftree-vectorize -ftree-vectorizer-verbose=1 -fno-strict-aliasing -I/usr/pkg/include -I/usr/local/include',
optimize='-O',
cppflags='-O2 -W -Wformat=2 -Wswitch -Wshadow -Wwrite-strings -Wuninitialized -Wall -pipe -mtune=pentium-m -march=pentium-m -fomit-frame-pointer -msse3 -msse2 -msse -mmmx -mfpmath=sse -pedantic -D_FORTIFY_SOURCE=2 -Wpointer-arith -Wstrict-prototypes -fstack-protector -Wstack-protector -Wextra -Wbad-function-cast -Wcast-align -Wcast-qual -Wdisabled-optimization -Wendif-labels -Wfloat-equal -Wformat-nonliteral -Winline -Wmissing-declarations -Wmissing-prototypes -Wnested-externs -Wpointer-arith -Wundef -I/usr/pkg/include -Wformat-security -ftree-vectorize -ftree-vectorizer-verbose=1 -fno-strict-aliasing -I/usr/pkg/include -I/usr/local/include'
ccversion='', gccversion='4.5.3', gccosandvers=''
intsize=4, longsize=4, ptrsize=4, doublesize=8, byteorder=1234
d_longlong=define, longlongsize=8, d_longdbl=define, longdblsize=12
ivtype='long', ivsize=4, nvtype='double', nvsize=8, Off_t='off_t', lseeksize=8
alignbytes=4, prototype=define
Linker and Libraries:
ld='cc', ldflags =' -Wl,-rpath,/usr/pkg/lib -Wl,-rpath,/usr/local/lib -fstack-protector -L/usr/pkg/lib -L/usr/local/lib'
libpth=/usr/pkg/lib /usr/local/lib /lib /usr/lib
libs=-lgdbm -lm -lcrypt -lutil -lc -lposix -lpthread
perllibs=-lm -lcrypt -lutil -lc -lposix -lpthread
libc=/lib/libc.so, so=so, useshrplib=false, libperl=libperl.a
gnulibc_version=''
Dynamic Linking:
dlsrc=dl_dlopen.xs, dlext=so, d_dlsymun=undef, ccdlflags='-Wl,-E '
cccdlflags='-DPIC -fPIC ', lddlflags='--whole-archive -shared -L/usr/pkg/lib -L/usr/local/lib -fstack-protector'
Characteristics of this binary (from libperl):
Compile-time options: HAS_TIMES MULTIPLICITY PERLIO_LAYERS
PERL_DONT_CREATE_GVSV
PERL_HASH_FUNC_ONE_AT_A_TIME_HARD
PERL_IMPLICIT_CONTEXT PERL_MALLOC_WRAP
PERL_PRESERVE_IVUV PERL_SAWAMPERSAND PERL_USE_DEVEL
USE_ITHREADS USE_LARGE_FILES USE_LOCALE
USE_LOCALE_COLLATE USE_LOCALE_CTYPE
USE_LOCALE_NUMERIC USE_PERLIO USE_PERL_ATOF
USE_REENTRANT_API
Built under netbsd
Compiled at Nov 15 2014 11:25:58
%ENV:
PERL5LIB=""
PERL5OPT=""
PERL5_CPANPLUS_IS_RUNNING="15787"
PERL5_CPAN_IS_RUNNING="15787"
PERLBREW_BASHRC_VERSION="0.64"
PERLBREW_HOME="/home/njh/.perlbrew"
PERLBREW_MANPATH="/home/njh/perl5/perlbrew/perls/perl-5.18.4/man"
PERLBREW_PATH="/home/njh/perl5/perlbrew/bin:/home/njh/perl5/perlbrew/perls/perl-5.18.4/bin"
PERLBREW_PERL="perl-5.18.4"
PERLBREW_ROOT="/home/njh/perl5/perlbrew"
PERLBREW_VERSION="0.64"
@INC:
/home/njh/perl5/perlbrew/perls/perl-5.18.4/lib/site_perl/5.18.4/i386-netbsd-thread-multi
/home/njh/perl5/perlbrew/perls/perl-5.18.4/lib/site_perl/5.18.4
/home/njh/perl5/perlbrew/perls/perl-5.18.4/lib/5.18.4/i386-netbsd-thread-multi
/home/njh/perl5/perlbrew/perls/perl-5.18.4/lib/5.18.4
.