Report for TaskForest-1.37

Back
From: metabase:user:c3c0e594-9be7-11e0-ab6b-65b017dc0771
Subject: PASS TaskForest-1.37 v5.12.4 Mac OS X
Date: 2011-07-03T00:48:31Z

This distribution has been tested as part of the CPAN Testers
project, supporting the Perl programming language.  See
http://wiki.cpantesters.org/ for more information or email
questions to cpan-testers-discuss@perl.org


--
Dear Aijaz Ansari,

This is a computer-generated report for TaskForest-1.37
on perl 5.12.4, created by CPAN-Reporter-1.1902.

Thank you for uploading your work to CPAN.  Congratulations!
All tests were successful.

Sections of this report:

    * Tester comments
    * Program output
    * Prerequisites
    * Environment and other context

------------------------------
TESTER COMMENTS
------------------------------

Additional comments from tester:

this report is from an automated smoke testing program
and was not reviewed by a human for accuracy

------------------------------
PROGRAM OUTPUT
------------------------------

Output from '/usr/bin/make test':

PERL_DL_NONLAZY=1 /Users/fh/perl5/perlbrew/perls/perl-5.12.4/bin/perl "-MExtUtils::Command::MM" "-e" "test_harness(0, 'blib/lib', 'blib/arch')" t/*.t
t/000_Bailout.t ........................ ok
t/001_DateTime.t ....................... ok
t/002_TimeDependency.t ................. ok
t/003_Options.t ........................ ok
t/004_LogDir.t ......................... ok
t/005_Job.t ............................ ok

Ignore this line: Hello, world!

Back to stderr - Ignore this line
Ignore this line: This is the first line
Ignore this line: This is the second line
t/0065_StringHandle.t .................. ok
t/006_Family.t ......................... ok
t/007_TaskForest.t ..................... ok
t/008_Repeat.t ......................... ok
t/009_Display.t ........................ ok
t/010_LongRunningJobs.t ................ ok
t/011_NotEnoughTime.t .................. ok
t/012_Collapse.t ....................... ok
t/013_Rerun.t .......................... ok
t/014_Mark.t ........................... ok
Odd number of elements in hash assignment at /Users/fh/.cpan/build/TaskForest-1.37-Przg2l/blib/lib/TaskForest/Family.pm line 1188.
Use of uninitialized value in list assignment at /Users/fh/.cpan/build/TaskForest-1.37-Przg2l/blib/lib/TaskForest/Family.pm line 1188.
t/015_Syntax.t ......................... ok
t/016_Cascade.t ........................ ok
t/017_IgnoreRegex.t .................... ok
# 
# **********************************************************************
# 
# No web server was found at port 1111.  Skipping the rest of
# these tests.  If you want, you can start the web server and
# rerun 'make test'.
# 
# To start the web server enter:
# 
# perl -T -I lib ./blib/script/taskforestd --config_file=./taskforestd.test.cfg
# 
# For more help, see http://www.taskforest.com
# 
# **********************************************************************
# 
t/018TaskForestDaemon.t ................ ok
t/019_FamilyRemoval.t .................. ok
t/020_Run_With_Log.t ................... ok
t/021_Release.t ........................ ok
t/022_Debug.t .......................... ok
t/023_Tokens.t ......................... ok
t/024_Midnight.t ....................... ok
t/025_Midnight_Ready.t ................. ok
t/026_Tomorrows_Logs.t ................. ok
t/027_MultiTokens.t .................... ok
t/028_TokenDemo.t ...................... ok
t/029_FindDaysOfWeek.t ................. ok
t/030_Calendar.t ....................... ok
t/031_Calendar_Simple.t ................ ok
t/032_Calendar_Weekdays.t .............. ok
t/033_DST.t ............................ ok
t/034_External.t ....................... ok
t/035_ExternalSameName.t ............... ok
t/036_ExternalMultiple.t ............... ok
t/037_ExternalDeep.t ................... ok
t/038_ExternalTokens.t ................. ok
t/039_ExternalFirstLineOnly.t .......... ok
t/040_ExternalFirstLineOnly2.t ......... ok
t/041_ExternalSecondSection.t .......... ok
t/042_ExternalMultipleSections.t ....... ok
t/043_ExternalSecondSectionParallel.t .. ok
t/044_Hold.t ........................... ok
Cannot release hold on job SMALL_CASCADE::J7 since it is not in the 'Hold' state - it's in the Waiting state.
 at t/045_ReleaseHold.t line 75
t/045_ReleaseHold.t .................... ok
t/046_Retry.t .......................... ok
t/047_Fail.t ........................... ok
t/048_FailRetry.t ...................... ok
All tests successful.
Files=50, Tests=11080, 197 wallclock secs ( 1.73 usr  0.31 sys + 40.20 cusr  1.91 csys = 44.15 CPU)
Result: PASS

------------------------------
PREREQUISITES
------------------------------

Prerequisite modules loaded:

requires:

    Module          Need  Have
    --------------- ----- ----
    Config::General 2.38  2.50
    DateTime        0     0.70
    HTTP::Daemon    5.818 6.00
    HTTP::Request   5.818 6.00
    HTTP::Response  5.82  6.01
    HTTP::Status    5.817 6.00
    Log::Log4perl   1.16  1.33
    Net::SMTP       2.31  2.31
    Test::Simple    0.44  0.98


------------------------------
ENVIRONMENT AND OTHER CONTEXT
------------------------------

Environment variables:

    AUTOMATED_TESTING = 1
    LANG = de_AT.UTF-8
    PATH = /Users/fh/perl5/perlbrew/bin:/Users/fh/perl5/perlbrew/perls/current/bin:/opt/local/bin:/opt/local/sbin:/usr/bin:/bin:/usr/sbin:/sbin:/usr/local/bin:/usr/X11/bin
    PATH_WITHOUT_PERLBREW = /opt/local/bin:/opt/local/sbin:/usr/bin:/bin:/usr/sbin:/sbin:/usr/local/bin:/usr/X11/bin
    PERL5LIB = 
    PERL5OPT = 
    PERL5_CPANPLUS_IS_RUNNING = 60699
    PERL5_CPAN_IS_RUNNING = 60699
    PERL5_CPAN_IS_RUNNING_IN_RECURSION = 11305,60699
    PERLBREW_PATH = /Users/fh/perl5/perlbrew/bin:/Users/fh/perl5/perlbrew/perls/current/bin
    PERLBREW_PERL = perl-5.12.4
    PERLBREW_ROOT = /Users/fh/perl5/perlbrew
    PERLBREW_VERSION = 0.19
    PERL_CR_SMOKER_CURRENT = TaskForest-1.37
    PERL_EXTUTILS_AUTOINSTALL = --defaultdeps
    PERL_MM_USE_DEFAULT = 1
    SHELL = /bin/bash
    TERM = screen.linux
    TMPDIR = /var/folders/zk/zkvqmgtoEAWHIV1swpIMnk+++TI/-Tmp-/

Perl special variables (and OS-specific diagnostics, for MSWin32):

    $^X = /Users/fh/perl5/perlbrew/perls/perl-5.12.4/bin/perl
    $UID/$EUID = 501 / 501
    $GID = 20 20 402 204 100 98 81 80 79 61 12 401
    $EGID = 20 20 402 204 100 98 81 80 79 61 12 401

Perl module toolchain versions installed:

    Module              Have  
    ------------------- ------
    CPAN                1.9600
    Cwd                 3.33  
    ExtUtils::CBuilder  0.27  
    ExtUtils::Command   1.16  
    ExtUtils::Install   1.55  
    ExtUtils::MakeMaker 6.56  
    ExtUtils::Manifest  1.57  
    ExtUtils::ParseXS   2.21  
    File::Spec          3.33  
    Module::Build       0.3603
    Module::Signature   n/a   
    Test::Harness       3.17  
    Test::More          0.98  
    YAML                0.73  
    YAML::Syck          1.17  
    version             0.82  


--

Summary of my perl5 (revision 5 version 12 subversion 4) configuration:
   
  Platform:
    osname=darwin, osvers=10.7.0, archname=darwin-2level
    uname='darwin lerchenferse.local 10.7.0 darwin kernel version 10.7.0: sat jan 29 15:17:16 pst 2011; root:xnu-1504.9.37~1release_i386 i386 '
    config_args='-de -Dprefix=/Users/fh/perl5/perlbrew/perls/perl-5.12.4'
    hint=recommended, useposix=true, d_sigaction=define
    useithreads=undef, usemultiplicity=undef
    useperlio=define, d_sfio=undef, uselargefiles=define, usesocks=undef
    use64bitint=define, use64bitall=define, uselongdouble=undef
    usemymalloc=n, bincompat5005=undef
  Compiler:
    cc='cc', ccflags ='-fno-common -DPERL_DARWIN -no-cpp-precomp -fno-strict-aliasing -pipe -fstack-protector -I/opt/local/include',
    optimize='-O3',
    cppflags='-no-cpp-precomp -fno-common -DPERL_DARWIN -no-cpp-precomp -fno-strict-aliasing -pipe -fstack-protector -I/opt/local/include'
    ccversion='', gccversion='4.2.1 (Based on Apple Inc. build 5658) (LLVM build 2335.9)', gccosandvers=''
    intsize=4, longsize=8, ptrsize=8, doublesize=8, byteorder=12345678
    d_longlong=define, longlongsize=8, d_longdbl=define, longdblsize=16
    ivtype='long', ivsize=8, nvtype='double', nvsize=8, Off_t='off_t', lseeksize=8
    alignbytes=8, prototype=define
  Linker and Libraries:
    ld='env MACOSX_DEPLOYMENT_TARGET=10.3 cc', ldflags =' -fstack-protector -L/opt/local/lib'
    libpth=/opt/local/lib /usr/lib
    libs=-lgdbm -ldbm -ldl -lm -lutil -lc
    perllibs=-ldl -lm -lutil -lc
    libc=/usr/lib/libc.dylib, so=dylib, useshrplib=false, libperl=libperl.a
    gnulibc_version=''
  Dynamic Linking:
    dlsrc=dl_dlopen.xs, dlext=bundle, d_dlsymun=undef, ccdlflags=' '
    cccdlflags=' ', lddlflags=' -bundle -undefined dynamic_lookup -L/opt/local/lib -fstack-protector'


Characteristics of this binary (from libperl): 
  Compile-time options: PERL_DONT_CREATE_GVSV PERL_MALLOC_WRAP USE_64_BIT_ALL
                        USE_64_BIT_INT USE_LARGE_FILES USE_PERLIO
                        USE_PERL_ATOF
  Built under darwin
  Compiled at Jun 20 2011 14:51:14
  %ENV:
    PERL5LIB=""
    PERL5OPT=""
    PERL5_CPANPLUS_IS_RUNNING="60699"
    PERL5_CPAN_IS_RUNNING="60699"
    PERL5_CPAN_IS_RUNNING_IN_RECURSION="11305,60699"
    PERLBREW_PATH="/Users/fh/perl5/perlbrew/bin:/Users/fh/perl5/perlbrew/perls/current/bin"
    PERLBREW_PERL="perl-5.12.4"
    PERLBREW_ROOT="/Users/fh/perl5/perlbrew"
    PERLBREW_VERSION="0.19"
    PERL_CR_SMOKER_CURRENT="TaskForest-1.37"
    PERL_EXTUTILS_AUTOINSTALL="--defaultdeps"
    PERL_MM_USE_DEFAULT="1"
  @INC:
    /Users/fh/perl5/perlbrew/perls/perl-5.12.4/lib/site_perl/5.12.4/darwin-2level
    /Users/fh/perl5/perlbrew/perls/perl-5.12.4/lib/site_perl/5.12.4
    /Users/fh/perl5/perlbrew/perls/perl-5.12.4/lib/5.12.4/darwin-2level
    /Users/fh/perl5/perlbrew/perls/perl-5.12.4/lib/5.12.4
    .