Database-Async v0.019 Perl 5 v5.39.10 x86_64-linux

Status
Pass
From
Andreas J. König (ANDK)
Dist
Database-Async v0.019
Platform
Perl 5 v5.39.10 x86_64-linux
Date
2024-05-06 02:13:05
ID
2ca8e848-0b4e-11ef-9ec6-c462d828ee0c
This distribution has been tested as part of the CPAN Testers
project, supporting the Perl programming language.  See
http://wiki.cpantesters.org/ for more information or email
questions to cpan-testers-discuss@perl.org


--
Dear Tom Molesworth,

This is a computer-generated report for Database-Async-0.019
on perl 5.39.10, created by CPAN-Reporter-1.2019.

Thank you for uploading your work to CPAN.  Congratulations!
All tests were successful.

Sections of this report:

    * Tester comments
    * Program output
    * Prerequisites
    * Environment and other context

------------------------------
TESTER COMMENTS
------------------------------

Additional comments from tester:

this report is from an automated smoke testing program
and was not reviewed by a human for accuracy

------------------------------
PROGRAM OUTPUT
------------------------------

Output from '/usr/bin/make test':

PERL_DL_NONLAZY=1 "/tmp/basesmoker-reloperl-wJoB/bin/perl" "-MExtUtils::Command::MM" "-MTest::Harness" "-e" "undef *Test::Harness::Switches; test_harness(0, 'blib/lib', 'blib/arch')" t/*.t
t/00-check-deps.t ...... ok
t/00-compile.t ......... ok
# 
# Versions for all modules listed in MYMETA.json (including optional ones):
# 
# === Configure Requires ===
# 
#     Module              Want Have
#     ------------------- ---- ----
#     ExtUtils::MakeMaker  any 7.70
# 
# === Build Requires ===
# 
#     Module              Want Have
#     ------------------- ---- ----
#     ExtUtils::MakeMaker  any 7.70
# 
# === Test Requires ===
# 
#     Module               Want     Have
#     ------------------- ----- --------
#     ExtUtils::MakeMaker   any     7.70
#     File::Spec            any     3.90
#     IO::Handle            any     1.55
#     IPC::Open3            any     1.22
#     Test::CheckDeps     0.010    0.010
#     Test::Fatal         0.010    0.017
#     Test::More           0.98 1.302199
#     Test::Refcount       0.07     0.10
# 
# === Test Recommends ===
# 
#     Module         Want     Have
#     ---------- -------- --------
#     CPAN::Meta 2.120900 2.150010
# 
# === Runtime Requires ===
# 
#     Module                    Want     Have
#     ------------------------ ----- --------
#     Class::Method::Modifiers   any     2.15
#     Future                    0.40     0.50
#     Future::AsyncAwait        0.33     0.66
#     IO::Async                 0.68    0.803
#     IO::Async::Notifier       0.68    0.803
#     JSON::MaybeUTF8            any    2.000
#     List::Util                1.50     1.63
#     List::UtilsBy              any     0.12
#     Log::Any                 1.050    1.717
#     Module::Load               any     0.36
#     Path::Tiny               0.108    0.144
#     Ryu                      3.002    3.005
#     Ryu::Async               0.016    0.020
#     Scalar::Util              1.50     1.63
#     Syntax::Keyword::Try      0.11     0.29
#     Template                 3.000    3.101
#     URI                        any     5.28
#     URI::db                   0.19     0.22
#     YAML::XS                   any     0.89
#     curry                      any 2.000001
#     indirect                   any     0.39
#     mro                        any     1.29
#     parent                     any    0.241
#     perl                     5.024 5.039010
# 
t/00-report-prereqs.t .. ok
t/loop_removal.t ....... ok
t/new.t ................ ok
t/pool.t ............... ok
All tests successful.
Files=6, Tests=73,  2 wallclock secs ( 0.04 usr  0.01 sys +  1.62 cusr  0.28 csys =  1.95 CPU)
Result: PASS

------------------------------
PREREQUISITES
------------------------------

Prerequisite modules loaded:

requires:

    Module                   Need  Have    
    ------------------------ ----- --------
    Class::Method::Modifiers 0     2.15    
    curry                    0     2.000001
    Future                   0.40  0.50    
    Future::AsyncAwait       0.33  0.66    
    indirect                 0     0.39    
    IO::Async                0.68  0.803   
    IO::Async::Notifier      0.68  0.803   
    JSON::MaybeUTF8          0     2.000   
    List::Util               1.50  1.63    
    List::UtilsBy            0     0.12    
    Log::Any                 1.050 1.717   
    Module::Load             0     0.36    
    mro                      0     1.29    
    parent                   0     0.241   
    Path::Tiny               0.108 0.144   
    perl                     5.024 5.039010
    Ryu                      3.002 3.005   
    Ryu::Async               0.016 0.020   
    Scalar::Util             1.50  1.63    
    Syntax::Keyword::Try     0.11  0.29    
    Template                 3.000 3.101   
    URI                      0     5.28    
    URI::db                  0.19  0.22    
    YAML::XS                 0     0.89    

build_requires:

    Module                   Need  Have    
    ------------------------ ----- --------
    ExtUtils::MakeMaker      0     7.70    
    File::Spec               0     3.90    
    IO::Handle               0     1.55    
    IPC::Open3               0     1.22    
    Test::CheckDeps          0.010 0.010   
    Test::Fatal              0.010 0.017   
    Test::More               0.98  1.302199
    Test::Refcount           0.07  0.10    

configure_requires:

    Module                   Need  Have    
    ------------------------ ----- --------
    ExtUtils::MakeMaker      0     7.70    


------------------------------
ENVIRONMENT AND OTHER CONTEXT
------------------------------

Environment variables:

    AUTOMATED_TESTING = 1
    LANG = en_US.UTF-8
    PATH = /home/sand/bin:/usr/local/bin:/usr/local/sbin:/usr/sbin:/usr/bin:/sbin:/bin:/usr/games:/usr/local/games:/snap/bin:/usr/local/perl/bin:/usr/X11/bin
    PERL = /tmp/basesmoker-reloperl-wJoB/bin/perl
    PERL5LIB = /tmp/loop_over_bdir-2084-yMTbXb/dta-tokwrap-0.98-0/blib/arch:/tmp/loop_over_bdir-2084-yMTbXb/dta-tokwrap-0.98-0/blib/lib:/tmp/loop_over_bdir-2084-yMTbXb/downsexta-0/blib/arch:/tmp/loop_over_bdir-2084-yMTbXb/downsexta-0/blib/lib:/tmp/loop_over_bdir-2084-yMTbXb/CGI-Application-NetNewsIface-0.0204-0/blib/arch:/tmp/loop_over_bdir-2084-yMTbXb/CGI-Application-NetNewsIface-0.0204-0/blib/lib:/tmp/loop_over_bdir-2084-yMTbXb/EJBCA-CrlPublish-0.60-0/blib/arch:/tmp/loop_over_bdir-2084-yMTbXb/EJBCA-CrlPublish-0.60-0/blib/lib:/tmp/loop_over_bdir-2084-yMTbXb/Dpkg-1.22.6-0/blib/arch:/tmp/loop_over_bdir-2084-yMTbXb/Dpkg-1.22.6-0/blib/lib:/tmp/loop_over_bdir-2084-yMTbXb/MP3-PodcastFetch-1.05-0/blib/arch:/tmp/loop_over_bdir-2084-yMTbXb/MP3-PodcastFetch-1.05-0/blib/lib
    PERL5OPT = 
    PERL5_CPANPLUS_IS_RUNNING = 2092
    PERL5_CPAN_IS_RUNNING = 2092
    PERL_CANARY_STABILITY_NOPROMPT = 1
    PERL_MM_USE_DEFAULT = 1
    PERL_USE_UNSAFE_INC = 1
    SHELL = /usr/bin/zsh
    TERM = screen

Perl special variables (and OS-specific diagnostics, for MSWin32):

    $^X = /tmp/basesmoker-reloperl-wJoB/bin/perl
    $UID/$EUID = 1005 / 1005
    $GID = 1005 1005
    $EGID = 1005 1005

Perl module toolchain versions installed:

    Module              Have    
    ------------------- --------
    CPAN                2.36    
    CPAN::Meta          2.150010
    Cwd                 3.90    
    ExtUtils::CBuilder  0.280240
    ExtUtils::Command   7.70    
    ExtUtils::Install   2.22    
    ExtUtils::MakeMaker 7.70    
    ExtUtils::Manifest  1.75    
    ExtUtils::ParseXS   3.51    
    File::Spec          3.90    
    JSON                4.10    
    JSON::PP            4.16    
    Module::Build       0.4234  
    Module::Signature   0.88    
    Parse::CPAN::Meta   2.150010
    Test2               1.302199
    Test::Harness       3.48    
    Test::More          1.302199
    YAML                1.31    
    YAML::Syck          1.34    
    version             0.9932  


--

Summary of my perl5 (revision 5 version 39 subversion 10) configuration:
  Commit id: c46c2bea6f111c45982b89c7e57b56125ff2e10c
  Platform:
    osname=linux
    osvers=5.4.0-176-generic
    archname=x86_64-linux
    uname='linux k93focal 5.4.0-176-generic #196-ubuntu smp fri mar 22 16:46:39 utc 2024 x86_64 x86_64 x86_64 gnulinux '
    config_args='-Dprefix=/home/sand/src/perl/repoperls/installed-perls/host/k93focal/v5.39.10/b254 -Dmyhostname=k93focal -Dinstallusrbinperl=n -Uversiononly -Dusedevel -des -Ui_db -Dlibswanted=cl pthread socket inet nsl gdbm dbm malloc dl ld sun m crypt sec util c cposix posix ucb BSD gdbm_compat -Uuseithreads -Uuselongdouble -DEBUGGING=both'
    hint=recommended
    useposix=true
    d_sigaction=define
    useithreads=undef
    usemultiplicity=undef
    use64bitint=define
    use64bitall=define
    uselongdouble=undef
    usemymalloc=n
    default_inc_excludes_dot=define
  Compiler:
    cc='cc'
    ccflags ='-fwrapv -DDEBUGGING -fno-strict-aliasing -pipe -fstack-protector-strong -I/usr/local/include -D_LARGEFILE_SOURCE -D_FILE_OFFSET_BITS=64'
    optimize='-O2 -g'
    cppflags='-fwrapv -DDEBUGGING -fno-strict-aliasing -pipe -fstack-protector-strong -I/usr/local/include'
    ccversion=''
    gccversion='9.4.0'
    gccosandvers=''
    intsize=4
    longsize=8
    ptrsize=8
    doublesize=8
    byteorder=12345678
    doublekind=3
    d_longlong=define
    longlongsize=8
    d_longdbl=define
    longdblsize=16
    longdblkind=3
    ivtype='long'
    ivsize=8
    nvtype='double'
    nvsize=8
    Off_t='off_t'
    lseeksize=8
    alignbytes=8
    prototype=define
  Linker and Libraries:
    ld='cc'
    ldflags =' -fstack-protector-strong -L/usr/local/lib'
    libpth=/usr/local/lib /usr/lib/x86_64-linux-gnu /usr/lib /usr/lib64
    libs=-lpthread -lnsl -ldl -lm -lcrypt -lutil -lc
    perllibs=-lpthread -lnsl -ldl -lm -lcrypt -lutil -lc
    libc=libc-2.31.so
    so=so
    useshrplib=false
    libperl=libperl.a
    gnulibc_version='2.31'
  Dynamic Linking:
    dlsrc=dl_dlopen.xs
    dlext=so
    d_dlsymun=undef
    ccdlflags='-Wl,-E'
    cccdlflags='-fPIC'
    lddlflags='-shared -O2 -g -L/usr/local/lib -fstack-protector-strong'


Characteristics of this binary (from libperl): 
  Compile-time options:
    DEBUGGING
    HAS_LONG_DOUBLE
    HAS_STRTOLD
    HAS_TIMES
    PERLIO_LAYERS
    PERL_COPY_ON_WRITE
    PERL_DONT_CREATE_GVSV
    PERL_HASH_FUNC_SIPHASH13
    PERL_HASH_USE_SBOX32
    PERL_MALLOC_WRAP
    PERL_OP_PARENT
    PERL_PRESERVE_IVUV
    PERL_USE_DEVEL
    PERL_USE_SAFE_PUTENV
    USE_64_BIT_ALL
    USE_64_BIT_INT
    USE_LARGE_FILES
    USE_LOCALE
    USE_LOCALE_COLLATE
    USE_LOCALE_CTYPE
    USE_LOCALE_NUMERIC
    USE_LOCALE_TIME
    USE_PERLIO
    USE_PERL_ATOF
  Built under linux
  Compiled at May  3 2024 17:15:00
  %ENV:
    PERL="/tmp/basesmoker-reloperl-wJoB/bin/perl"
    PERL5LIB="/tmp/loop_over_bdir-2084-yMTbXb/dta-tokwrap-0.98-0/blib/arch:/tmp/loop_over_bdir-2084-yMTbXb/dta-tokwrap-0.98-0/blib/lib:/tmp/loop_over_bdir-2084-yMTbXb/downsexta-0/blib/arch:/tmp/loop_over_bdir-2084-yMTbXb/downsexta-0/blib/lib:/tmp/loop_over_bdir-2084-yMTbXb/CGI-Application-NetNewsIface-0.0204-0/blib/arch:/tmp/loop_over_bdir-2084-yMTbXb/CGI-Application-NetNewsIface-0.0204-0/blib/lib:/tmp/loop_over_bdir-2084-yMTbXb/EJBCA-CrlPublish-0.60-0/blib/arch:/tmp/loop_over_bdir-2084-yMTbXb/EJBCA-CrlPublish-0.60-0/blib/lib:/tmp/loop_over_bdir-2084-yMTbXb/Dpkg-1.22.6-0/blib/arch:/tmp/loop_over_bdir-2084-yMTbXb/Dpkg-1.22.6-0/blib/lib:/tmp/loop_over_bdir-2084-yMTbXb/MP3-PodcastFetch-1.05-0/blib/arch:/tmp/loop_over_bdir-2084-yMTbXb/MP3-PodcastFetch-1.05-0/blib/lib"
    PERL5OPT=""
    PERL5_CPANPLUS_IS_RUNNING="2092"
    PERL5_CPAN_IS_RUNNING="2092"
    PERL_CANARY_STABILITY_NOPROMPT="1"
    PERL_MM_USE_DEFAULT="1"
    PERL_USE_UNSAFE_INC="1"
  @INC:
    /tmp/loop_over_bdir-2084-yMTbXb/dta-tokwrap-0.98-0/blib/arch
    /tmp/loop_over_bdir-2084-yMTbXb/dta-tokwrap-0.98-0/blib/lib
    /tmp/loop_over_bdir-2084-yMTbXb/downsexta-0/blib/arch
    /tmp/loop_over_bdir-2084-yMTbXb/downsexta-0/blib/lib
    /tmp/loop_over_bdir-2084-yMTbXb/CGI-Application-NetNewsIface-0.0204-0/blib/arch
    /tmp/loop_over_bdir-2084-yMTbXb/CGI-Application-NetNewsIface-0.0204-0/blib/lib
    /tmp/loop_over_bdir-2084-yMTbXb/EJBCA-CrlPublish-0.60-0/blib/arch
    /tmp/loop_over_bdir-2084-yMTbXb/EJBCA-CrlPublish-0.60-0/blib/lib
    /tmp/loop_over_bdir-2084-yMTbXb/Dpkg-1.22.6-0/blib/arch
    /tmp/loop_over_bdir-2084-yMTbXb/Dpkg-1.22.6-0/blib/lib
    /tmp/loop_over_bdir-2084-yMTbXb/MP3-PodcastFetch-1.05-0/blib/arch
    /tmp/loop_over_bdir-2084-yMTbXb/MP3-PodcastFetch-1.05-0/blib/lib
    /home/sand/src/perl/repoperls/installed-perls/host/k93focal/v5.39.10/b254/lib/site_perl/5.39.10/x86_64-linux
    /home/sand/src/perl/repoperls/installed-perls/host/k93focal/v5.39.10/b254/lib/site_perl/5.39.10
    /home/sand/src/perl/repoperls/installed-perls/host/k93focal/v5.39.10/b254/lib/5.39.10/x86_64-linux
    /home/sand/src/perl/repoperls/installed-perls/host/k93focal/v5.39.10/b254/lib/5.39.10
    .