Report for Strehler-1.6.8

Back
From: metabase:user:9820532a-708b-1014-9a05-b18a96298da1
Subject: PASS Strehler-1.6.8 v5.20.1 GNU/Linux
Date: 2016-03-01T20:21:26Z

This distribution has been tested as part of the CPAN Testers
project, supporting the Perl programming language.  See
http://wiki.cpantesters.org/ for more information or email
questions to cpan-testers-discuss@perl.org


--
Dear CYMON,

This is a computer-generated report for Strehler-1.6.8
on perl 5.20.1, created by App::cpanminus::reporter 0.13 (1.7040).

Thank you for uploading your work to CPAN.  Congratulations!
All tests were successful.

Sections of this report:

    * Tester comments
    * Program output
    * Prerequisites
    * Environment and other context

------------------------------
TESTER COMMENTS
------------------------------

Additional comments from tester:

none provided

------------------------------
PROGRAM OUTPUT
------------------------------

Output from '':

Building and testing Strehler-1.6.8
cp lib/Strehler/Forms.pm blib/lib/Strehler/Forms.pm
cp lib/Strehler/Manual/Dashboard.pod blib/lib/Strehler/Manual/Dashboard.pod
cp lib/Strehler/Dancer2/Plugin/EX.pm blib/lib/Strehler/Dancer2/Plugin/EX.pm
cp lib/Strehler/FormFu/Element/EntitySelect.pm blib/lib/Strehler/FormFu/Element/EntitySelect.pm
cp lib/Strehler/Helpers.pm blib/lib/Strehler/Helpers.pm
cp lib/Strehler/Element/Role/Configured.pm blib/lib/Strehler/Element/Role/Configured.pm
cp lib/Strehler/FormFu/Element/DisplayOrder.pm blib/lib/Strehler/FormFu/Element/DisplayOrder.pm
cp lib/Strehler/Element.pm blib/lib/Strehler/Element.pm
cp lib/Strehler/Manual/ExtraEntityConfiguration.pod blib/lib/Strehler/Manual/ExtraEntityConfiguration.pod
cp lib/Strehler/Element/Role/Slugged.pm blib/lib/Strehler/Element/Role/Slugged.pm
cp lib/Strehler/Element.pod blib/lib/Strehler/Element.pod
cp lib/Strehler/FormFu/Element/EntityTypeSelect.pm blib/lib/Strehler/FormFu/Element/EntityTypeSelect.pm
cp lib/Strehler/Admin.pm blib/lib/Strehler/Admin.pm
cp lib/Strehler/FormFu/Element/SubmitBlockMulti.pm blib/lib/Strehler/FormFu/Element/SubmitBlockMulti.pm
cp lib/Strehler/Manual/Installation.pod blib/lib/Strehler/Manual/Installation.pod
cp lib/Strehler/FormFu/Element/Tags.pm blib/lib/Strehler/FormFu/Element/Tags.pm
cp lib/Strehler/Manual/Configuration.pod blib/lib/Strehler/Manual/Configuration.pod
cp lib/Strehler/FormFu/Element/SubmitBlock.pm blib/lib/Strehler/FormFu/Element/SubmitBlock.pm
cp lib/Strehler/FormFu/Element/PublishDate.pm blib/lib/Strehler/FormFu/Element/PublishDate.pm
cp lib/Strehler/FormFu/Element/Slug.pm blib/lib/Strehler/FormFu/Element/Slug.pm
cp lib/Strehler/API.pm blib/lib/Strehler/API.pm
cp lib/Strehler/FormFu/Validator/FilenameTooLong.pm blib/lib/Strehler/FormFu/Validator/FilenameTooLong.pm
cp lib/Strehler/Element/Image.pm blib/lib/Strehler/Element/Image.pm
cp lib/Strehler/FormFu/Element/Category.pm blib/lib/Strehler/FormFu/Element/Category.pm
cp lib/Strehler/FormFu/Validator/UserUnique.pm blib/lib/Strehler/FormFu/Validator/UserUnique.pm
cp lib/Strehler/Manual/ExtraEntityTutorial.pod blib/lib/Strehler/Manual/ExtraEntityTutorial.pod
cp lib/Strehler/FormFu/Validator/CategoryUnique.pm blib/lib/Strehler/FormFu/Validator/CategoryUnique.pm
cp lib/Strehler/Element/Log.pm blib/lib/Strehler/Element/Log.pm
cp lib/Strehler/Element/User.pm blib/lib/Strehler/Element/User.pm
cp lib/Strehler/Element/Role/Maintainer.pm blib/lib/Strehler/Element/Role/Maintainer.pm
cp lib/Strehler/Element/Article.pm blib/lib/Strehler/Element/Article.pm
cp lib/Strehler/Dancer2/Plugin/Admin.pm blib/lib/Strehler/Dancer2/Plugin/Admin.pm
cp lib/Strehler.pm blib/lib/Strehler.pm
cp lib/Strehler/demo/dummy_list.tt blib/lib/Strehler/demo/dummy_list.tt
cp lib/Strehler/forms/admin/category.yml blib/lib/Strehler/forms/admin/category.yml
cp lib/Strehler/demo/app.pl blib/lib/Strehler/demo/app.pl
cp lib/Strehler/demo/Demo.pm.ex blib/lib/Strehler/demo/Demo.pm.ex
cp lib/Strehler/forms/admin/elements/category.yml blib/lib/Strehler/forms/admin/elements/category.yml
cp lib/Strehler/forms/admin/category_fast.yml blib/lib/Strehler/forms/admin/category_fast.yml
cp lib/Strehler/demo/element.tt blib/lib/Strehler/demo/element.tt
cp lib/Strehler/demo/Site.pm.ex blib/lib/Strehler/demo/Site.pm.ex
cp lib/Strehler/Schema/Result/Content.pm blib/lib/Strehler/Schema/Result/Content.pm
cp lib/Strehler/Meta/Category.pm blib/lib/Strehler/Meta/Category.pm
cp lib/Strehler/demo/config.yml blib/lib/Strehler/demo/config.yml
cp lib/Strehler/Meta/Category.pod blib/lib/Strehler/Meta/Category.pod
cp lib/Strehler/demo/strehler-home.tt blib/lib/Strehler/demo/strehler-home.tt
cp lib/Strehler/forms/admin/elements/category_multi.yml blib/lib/Strehler/forms/admin/elements/category_multi.yml
cp lib/Strehler/demo/article.tt blib/lib/Strehler/demo/article.tt
cp lib/Strehler/Schema/Result/Category.pm blib/lib/Strehler/Schema/Result/Category.pm
cp lib/Strehler/forms/admin/article_multilang.yml blib/lib/Strehler/forms/admin/article_multilang.yml
cp lib/Strehler/demo/app.psgi blib/lib/Strehler/demo/app.psgi
cp lib/Strehler/demo/mypage.tt blib/lib/Strehler/demo/mypage.tt
cp lib/Strehler/forms/admin/category_filter.yml blib/lib/Strehler/forms/admin/category_filter.yml
cp lib/Strehler/Schema/Result/ActivityLog.pm blib/lib/Strehler/Schema/Result/ActivityLog.pm
cp lib/Strehler/demo/main.tt blib/lib/Strehler/demo/main.tt
cp lib/Strehler/demo/home.tt blib/lib/Strehler/demo/home.tt
cp lib/Strehler/Schema/Result/User.pm blib/lib/Strehler/Schema/Result/User.pm
cp lib/Strehler/Manual/MarkdownArticleTutorial.pod blib/lib/Strehler/Manual/MarkdownArticleTutorial.pod
cp lib/Strehler/Schema/Result/Article.pm blib/lib/Strehler/Schema/Result/Article.pm
cp lib/Strehler/forms/admin/article.yml blib/lib/Strehler/forms/admin/article.yml
cp lib/Strehler/Schema/Result/ConfiguredTag.pm blib/lib/Strehler/Schema/Result/ConfiguredTag.pm
cp lib/Strehler/Schema/Result/Tag.pm blib/lib/Strehler/Schema/Result/Tag.pm
cp lib/Strehler/Schema/Result/Image.pm blib/lib/Strehler/Schema/Result/Image.pm
cp lib/Strehler/Meta/Tag.pm blib/lib/Strehler/Meta/Tag.pm
cp lib/Strehler/forms/admin/category_dynamic.yml blib/lib/Strehler/forms/admin/category_dynamic.yml
cp lib/Strehler/Schema/Result/Description.pm blib/lib/Strehler/Schema/Result/Description.pm
cp lib/Strehler/Schema.pm blib/lib/Strehler/Schema.pm
cp lib/Strehler/public/strehler/bootstrap/img/glyphicons-halflings-white.png blib/lib/Strehler/public/strehler/bootstrap/img/glyphicons-halflings-white.png
cp lib/Strehler/forms/admin/image_multilang.yml blib/lib/Strehler/forms/admin/image_multilang.yml
cp lib/Strehler/public/strehler/VERSION blib/lib/Strehler/public/strehler/VERSION
cp lib/Strehler/public/strehler/bootstrap/img/glyphicons-halflings.png blib/lib/Strehler/public/strehler/bootstrap/img/glyphicons-halflings.png
cp lib/Strehler/public/strehler/bootstrap/datepicker/datepicker.css blib/lib/Strehler/public/strehler/bootstrap/datepicker/datepicker.css
cp lib/Strehler/forms/admin/elements/submit_block.yml blib/lib/Strehler/forms/admin/elements/submit_block.yml
cp lib/Strehler/public/strehler/bootstrap/css/bootstrap-responsive.css blib/lib/Strehler/public/strehler/bootstrap/css/bootstrap-responsive.css
cp lib/Strehler/public/strehler/images/ajax-loader.gif blib/lib/Strehler/public/strehler/images/ajax-loader.gif
cp lib/Strehler/public/strehler/bootstrap/js/bootstrap.min.js blib/lib/Strehler/public/strehler/bootstrap/js/bootstrap.min.js
cp lib/Strehler/public/strehler/bootstrap/css/bootstrap-responsive.min.css blib/lib/Strehler/public/strehler/bootstrap/css/bootstrap-responsive.min.css
cp lib/Strehler/public/strehler/bootstrap/css/bootstrap.css blib/lib/Strehler/public/strehler/bootstrap/css/bootstrap.css
cp lib/Strehler/public/strehler/images/no-image.png blib/lib/Strehler/public/strehler/images/no-image.png
cp lib/Strehler/forms/admin/image.yml blib/lib/Strehler/forms/admin/image.yml
cp lib/Strehler/forms/admin/login.yml blib/lib/Strehler/forms/admin/login.yml
cp lib/Strehler/forms/admin/user.yml blib/lib/Strehler/forms/admin/user.yml
cp lib/Strehler/public/strehler/css/admin.css blib/lib/Strehler/public/strehler/css/admin.css
cp lib/Strehler/public/strehler/bootstrap/css/bootstrap.min.css blib/lib/Strehler/public/strehler/bootstrap/css/bootstrap.min.css
cp lib/Strehler/forms/admin/elements/display_order.yml blib/lib/Strehler/forms/admin/elements/display_order.yml
cp lib/Strehler/public/strehler/bootstrap/datepicker/css/datepicker.css blib/lib/Strehler/public/strehler/bootstrap/datepicker/css/datepicker.css
cp lib/Strehler/public/strehler/bootstrap/datepicker/less/datepicker.less blib/lib/Strehler/public/strehler/bootstrap/datepicker/less/datepicker.less
cp lib/Strehler/public/strehler/bootstrap/js/bootstrap.js blib/lib/Strehler/public/strehler/bootstrap/js/bootstrap.js
cp lib/Strehler/public/strehler/bootstrap/datepicker/js/bootstrap-datepicker.js blib/lib/Strehler/public/strehler/bootstrap/datepicker/js/bootstrap-datepicker.js
cp lib/Strehler/views/admin/dashboard.tt blib/lib/Strehler/views/admin/dashboard.tt
cp lib/Strehler/views/admin/message.tt blib/lib/Strehler/views/admin/message.tt
cp lib/Strehler/public/strehler/js/jquery-ui-1.10.3.custom.min.js blib/lib/Strehler/public/strehler/js/jquery-ui-1.10.3.custom.min.js
cp lib/Strehler/views/admin/no_category.tt blib/lib/Strehler/views/admin/no_category.tt
cp lib/Strehler/views/admin/generic_add.tt blib/lib/Strehler/views/admin/generic_add.tt
cp lib/Strehler/views/admin/delete.tt blib/lib/Strehler/views/admin/delete.tt
cp lib/Strehler/views/admin/delete-category.tt blib/lib/Strehler/views/admin/delete-category.tt
cp lib/Strehler/views/admin/entities/log_list_block.tt blib/lib/Strehler/views/admin/entities/log_list_block.tt
cp lib/Strehler/views/admin/blocks/add_blocks.tt blib/lib/Strehler/views/admin/blocks/add_blocks.tt
cp lib/Strehler/public/strehler/js/jquery.js blib/lib/Strehler/public/strehler/js/jquery.js
cp lib/Strehler/public/strehler/js/article.js blib/lib/Strehler/public/strehler/js/article.js
cp lib/Strehler/views/admin/index.tt blib/lib/Strehler/views/admin/index.tt
cp lib/Strehler/views/admin/custom_list.tt blib/lib/Strehler/views/admin/custom_list.tt
cp lib/Strehler/views/admin/image.tt blib/lib/Strehler/views/admin/image.tt
cp lib/Strehler/views/admin/generic_list.tt blib/lib/Strehler/views/admin/generic_list.tt
cp lib/Strehler/views/admin/article.tt blib/lib/Strehler/views/admin/article.tt
cp lib/Strehler/views/admin/configured_tags.tt blib/lib/Strehler/views/admin/configured_tags.tt
cp lib/Strehler/views/admin/image_list.tt blib/lib/Strehler/views/admin/image_list.tt
cp lib/Strehler/views/admin/category_list.tt blib/lib/Strehler/views/admin/category_list.tt
cp lib/Strehler/views/admin/blocks/list_blocks.tt blib/lib/Strehler/views/admin/blocks/list_blocks.tt
cp lib/Strehler/views/admin/login.tt blib/lib/Strehler/views/admin/login.tt
cp lib/Strehler/views/admin/blocks/dashboard_blocks.tt blib/lib/Strehler/views/admin/blocks/dashboard_blocks.tt
cp lib/Strehler/views/admin/category.tt blib/lib/Strehler/views/admin/category.tt
cp lib/Strehler/views/admin/log_list.tt blib/lib/Strehler/views/admin/log_list.tt
cp lib/Strehler/views/admin/category_select.tt blib/lib/Strehler/views/admin/category_select.tt
cp lib/Strehler/views/admin/entities/image_list_block.tt blib/lib/Strehler/views/admin/entities/image_list_block.tt
cp lib/Strehler/public/strehler/js/strehler.js blib/lib/Strehler/public/strehler/js/strehler.js
cp lib/Strehler/views/admin/open_tags.tt blib/lib/Strehler/views/admin/open_tags.tt
cp lib/Strehler/views/admin/blocks/js_blocks.tt blib/lib/Strehler/views/admin/blocks/js_blocks.tt
cp lib/Strehler/views/admin/warnings.tt blib/lib/Strehler/views/admin/warnings.tt
cp lib/Strehler/views/layouts/admin.tt blib/lib/Strehler/views/layouts/admin.tt
cp lib/Strehler/views/admin/user.tt blib/lib/Strehler/views/admin/user.tt
cp lib/Strehler/views/api/reference.tt blib/lib/Strehler/views/api/reference.tt
cp lib/Strehler/views/layouts/light-admin.tt blib/lib/Strehler/views/layouts/light-admin.tt
cp script/strehler blib/script/strehler
"/opt/perlbrew/perls/perl-5.20.1/bin/perl" -MExtUtils::MY -e 'MY->fixin(shift)' -- blib/script/strehler
Manifying 28 pod documents
Manifying 17 pod documents
PERL_DL_NONLAZY=1 "/opt/perlbrew/perls/perl-5.20.1/bin/perl" "-MExtUtils::Command::MM" "-MTest::Harness" "-e" "undef *Test::Harness::Switches; test_harness(0, 'blib/lib', 'blib/arch')" t/*.t
t/001_login.t ........ ok
t/002_permissions.t .. ok
t/004_categories.t ... ok
t/005_articles.t ..... ok
t/006_frontend.t ..... ok
t/007_images.t ....... ok
t/008_tags.t ......... ok
t/009_extra.t ........ ok
t/010_api.t .......... ok
t/011_ex.t ........... ok
t/012_users.t ........ ok
t/013_dashboard.t .... ok
t/author-critic.t .... skipped: these tests are for testing by the author
All tests successful.
Files=13, Tests=140, 27 wallclock secs ( 0.05 usr  0.02 sys + 22.54 cusr  1.24 csys = 23.85 CPU)
Result: PASS

------------------------------
PREREQUISITES
------------------------------

Prerequisite modules loaded:

    No requirements found

------------------------------
ENVIRONMENT AND OTHER CONTEXT
------------------------------

Environment variables:

    LANG = en_GB.UTF-8
    LANGUAGE = en_GB:en
    PATH = ~/bin:/opt/perlbrew/bin:/opt/perlbrew/perls/perl-5.20.1/bin:/usr/local/sbin:/usr/local/bin:/usr/sbin:/usr/bin:/sbin:/bin:/usr/games:/usr/local/games:/home/perlbrew/.rvm/bin
    PERLBREW_BASHRC_VERSION = 0.74
    PERLBREW_HOME = /home/perlbrew/.perlbrew
    PERLBREW_MANPATH = /opt/perlbrew/perls/perl-5.20.1/man
    PERLBREW_PATH = /opt/perlbrew/bin:/opt/perlbrew/perls/perl-5.20.1/bin
    PERLBREW_PERL = perl-5.20.1
    PERLBREW_ROOT = /opt/perlbrew
    PERLBREW_VERSION = 0.74
    PERL_CPANM_OPT = --mirror http://cpan.cpantesters.org
    SHELL = /bin/bash
    TERM = xterm

Perl special variables (and OS-specific diagnostics, for MSWin32):

    EGID = 1001 27 1001
    EUID = 1001
    EXECUTABLE_NAME = /opt/perlbrew/perls/perl-5.20.1/bin/perl
    GID = 1001 27 1001
    UID = 1001

Perl module toolchain versions installed:

    Module              Have    
    ------------------- --------
    CPAN                2.10    
    CPAN::Meta          2.150005
    Cwd                 3.48    
    ExtUtils::CBuilder  0.280224
    ExtUtils::Command   7.10    
    ExtUtils::Install   2.04    
    ExtUtils::MakeMaker 7.10    
    ExtUtils::Manifest  1.70    
    ExtUtils::ParseXS   3.30    
    File::Spec          3.48    
    JSON                2.90    
    JSON::PP            2.27300 
    Module::Build       0.4216  
    Module::Signature   n/a     
    Parse::CPAN::Meta   1.4417  
    Test::Harness       3.36    
    Test::More          1.001014
    YAML                1.15    
    YAML::Syck          1.29    
    version             0.9914  


--

Summary of my perl5 (revision 5 version 20 subversion 1) configuration:
   
  Platform:
    osname=linux, osvers=3.13.0-35-generic, archname=x86_64-linux
    uname='linux ubuntu 3.13.0-35-generic #62-ubuntu smp fri aug 15 01:58:42 utc 2014 x86_64 x86_64 x86_64 gnulinux '
    config_args='-de -Dprefix=/opt/perlbrew/perls/perl-5.20.1 -Aeval:scriptdir=/opt/perlbrew/perls/perl-5.20.1/bin'
    hint=recommended, useposix=true, d_sigaction=define
    useithreads=undef, usemultiplicity=undef
    use64bitint=define, use64bitall=define, uselongdouble=undef
    usemymalloc=n, bincompat5005=undef
  Compiler:
    cc='cc', ccflags ='-fwrapv -fno-strict-aliasing -pipe -fstack-protector -I/usr/local/include -D_LARGEFILE_SOURCE -D_FILE_OFFSET_BITS=64',
    optimize='-O2',
    cppflags='-fwrapv -fno-strict-aliasing -pipe -fstack-protector -I/usr/local/include'
    ccversion='', gccversion='4.8.2', gccosandvers=''
    intsize=4, longsize=8, ptrsize=8, doublesize=8, byteorder=12345678
    d_longlong=define, longlongsize=8, d_longdbl=define, longdblsize=16
    ivtype='long', ivsize=8, nvtype='double', nvsize=8, Off_t='off_t', lseeksize=8
    alignbytes=8, prototype=define
  Linker and Libraries:
    ld='cc', ldflags =' -fstack-protector -L/usr/local/lib'
    libpth=/usr/local/lib /usr/lib/gcc/x86_64-linux-gnu/4.8/include-fixed /usr/include/x86_64-linux-gnu /usr/lib /lib/x86_64-linux-gnu /lib/../lib /usr/lib/x86_64-linux-gnu /usr/lib/../lib /lib
    libs=-lnsl -lgdbm -ldl -lm -lcrypt -lutil -lc -lgdbm_compat
    perllibs=-lnsl -ldl -lm -lcrypt -lutil -lc
    libc=, so=so, useshrplib=false, libperl=libperl.a
    gnulibc_version='2.19'
  Dynamic Linking:
    dlsrc=dl_dlopen.xs, dlext=so, d_dlsymun=undef, ccdlflags='-Wl,-E'
    cccdlflags='-fPIC', lddlflags='-shared -O2 -L/usr/local/lib -fstack-protector'


Characteristics of this binary (from libperl): 
  Compile-time options: HAS_TIMES PERLIO_LAYERS PERL_DONT_CREATE_GVSV
                        PERL_HASH_FUNC_ONE_AT_A_TIME_HARD PERL_MALLOC_WRAP
                        PERL_NEW_COPY_ON_WRITE PERL_PRESERVE_IVUV
                        USE_64_BIT_ALL USE_64_BIT_INT USE_LARGE_FILES
                        USE_LOCALE USE_LOCALE_COLLATE USE_LOCALE_CTYPE
                        USE_LOCALE_NUMERIC USE_PERLIO USE_PERL_ATOF
  Built under linux
  Compiled at Sep 14 2014 17:04:07
  %ENV:
    PERLBREW_BASHRC_VERSION="0.74"
    PERLBREW_HOME="/home/perlbrew/.perlbrew"
    PERLBREW_MANPATH="/opt/perlbrew/perls/perl-5.20.1/man"
    PERLBREW_PATH="/opt/perlbrew/bin:/opt/perlbrew/perls/perl-5.20.1/bin"
    PERLBREW_PERL="perl-5.20.1"
    PERLBREW_ROOT="/opt/perlbrew"
    PERLBREW_VERSION="0.74"
    PERL_CPANM_OPT="--mirror http://cpan.cpantesters.org"
  @INC:
    /opt/perlbrew/perls/perl-5.20.1/lib/site_perl/5.20.1/x86_64-linux
    /opt/perlbrew/perls/perl-5.20.1/lib/site_perl/5.20.1
    /opt/perlbrew/perls/perl-5.20.1/lib/5.20.1/x86_64-linux
    /opt/perlbrew/perls/perl-5.20.1/lib/5.20.1
    .