Module-Install-AutoLicense v0.10 Perl 5 v5.37.10 x86_64-linux-ld

Status
Pass
From
Andreas J. König (ANDK)
Dist
Module-Install-AutoLicense v0.10
Platform
Perl 5 v5.37.10 x86_64-linux-ld
Date
2023-03-25 12:54:26
ID
2c7b6978-cb0c-11ed-820c-27c0ee7f54a7
This distribution has been tested as part of the CPAN Testers
project, supporting the Perl programming language.  See
http://wiki.cpantesters.org/ for more information or email
questions to cpan-testers-discuss@perl.org


--
Dear Chris Williams,

This is a computer-generated report for Module-Install-AutoLicense-0.10
on perl 5.37.10, created by CPAN-Reporter-1.2018.

Thank you for uploading your work to CPAN.  Congratulations!
All tests were successful.

Sections of this report:

    * Tester comments
    * Program output
    * Prerequisites
    * Environment and other context

------------------------------
TESTER COMMENTS
------------------------------

Additional comments from tester:

this report is from an automated smoke testing program
and was not reviewed by a human for accuracy

------------------------------
PROGRAM OUTPUT
------------------------------

Output from '/usr/bin/make test':

PERL_DL_NONLAZY=1 "/tmp/basesmoker-reloperl-niLM/bin/perl" "-MExtUtils::Command::MM" "-MTest::Harness" "-e" "undef *Test::Harness::Switches; test_harness(0, 'inc', 'blib/lib', 'blib/arch')" t/*.t
# Testing Module::Install::AutoLicense 0.10, Perl 5.037010, /tmp/basesmoker-reloperl-niLM/bin/perl
t/00_compile.t ....... ok
# include /tmp/loop_over_bdir-1601045-niXMfj/Module-Install-AutoLicense-0.10-0/dist/xVHGOrQd1L/inc/Module/Install.pm
# include inc/Module/Install/Metadata.pm
# include inc/Module/Install/Base.pm
# include inc/Module/Install/AutoLicense.pm
# include inc/Module/Install/Makefile.pm
# include inc/Module/Install/WriteAll.pm
# include inc/Module/Install/Win32.pm
# include inc/Module/Install/Can.pm
# include inc/Module/Install/Fetch.pm
# Generating a Unix-style Makefile
# Writing Makefile for Foo::Bar
# Writing MYMETA.yml and MYMETA.json
# Writing META.yml
# make[1]: Entering directory '/tmp/loop_over_bdir-1601045-niXMfj/Module-Install-AutoLicense-0.10-0/dist/xVHGOrQd1L'
# rm -f \
#   Bar.bso Bar.def \
#   Bar.exp Bar.x \
#    blib/arch/auto/Foo/Bar/extralibs.all \
#   blib/arch/auto/Foo/Bar/extralibs.ld Makefile.aperl \
#   *.a *.o \
#   *perl.core MYMETA.json \
#   MYMETA.yml blibdirs.ts \
#   core core.*perl.*.? \
#   core.[0-9] core.[0-9][0-9] \
#   core.[0-9][0-9][0-9] core.[0-9][0-9][0-9][0-9] \
#   core.[0-9][0-9][0-9][0-9][0-9] libBar.def \
#   mon.out perl \
#   perl perl.exe \
#   perlmain.c pm_to_blib \
#   pm_to_blib.ts so_locations \
#   tmon.out 
# rm -rf \
#   blib 
# mv Makefile Makefile.old > /dev/null 2>&1
# rm -f \
#   Makefile Makefile.old 
# rm -rf \
#   Foo-Bar-0.01 MYMETA.yml 
# rm -f Foo-Bar-0.01.tar.gz
# rm -f MANIFEST.bak _build
# "/tmp/basesmoker-reloperl-niLM/bin/perl" "-Iinc" "-Ilib" "-MModule::Install::Admin" -e "remove_meta()"
# rm -rf inc
# "/tmp/basesmoker-reloperl-niLM/bin/perl" "-Iinc" "-MExtUtils::Manifest=fullcheck" -e fullcheck
# Problem opening MANIFEST: No such file or directory at /home/sand/src/perl/repoperls/installed-perls/host/k93jammy/v5.37.10/5674/lib/5.37.10/ExtUtils/Manifest.pm line 349.
# Problem opening MANIFEST: No such file or directory at /home/sand/src/perl/repoperls/installed-perls/host/k93jammy/v5.37.10/5674/lib/5.37.10/ExtUtils/Manifest.pm line 349.
# Not in MANIFEST: LICENSE
# Not in MANIFEST: Makefile.PL
# rm -f LICENSE
# make[1]: Leaving directory '/tmp/loop_over_bdir-1601045-niXMfj/Module-Install-AutoLicense-0.10-0/dist/xVHGOrQd1L'
t/01_dist.t .......... ok
# include /tmp/loop_over_bdir-1601045-niXMfj/Module-Install-AutoLicense-0.10-0/dist/pEajBXYAvZ/inc/Module/Install.pm
# include inc/Module/Install/Metadata.pm
# include inc/Module/Install/Base.pm
# include inc/Module/Install/AutoLicense.pm
# include inc/Module/Install/Makefile.pm
# include inc/Module/Install/WriteAll.pm
# include inc/Module/Install/Win32.pm
# include inc/Module/Install/Can.pm
# include inc/Module/Install/Fetch.pm
# Generating a Unix-style Makefile
# Writing Makefile for Foo::Bar
# Writing MYMETA.yml and MYMETA.json
# Writing META.yml
# make[1]: Entering directory '/tmp/loop_over_bdir-1601045-niXMfj/Module-Install-AutoLicense-0.10-0/dist/pEajBXYAvZ'
# "/tmp/basesmoker-reloperl-niLM/bin/perl" "-Iinc" "-MExtUtils::Manifest=mkmanifest" -e mkmanifest
# Added to MANIFEST: inc/Module/Install.pm
# Added to MANIFEST: inc/Module/Install/AutoLicense.pm
# Added to MANIFEST: inc/Module/Install/Base.pm
# Added to MANIFEST: inc/Module/Install/Can.pm
# Added to MANIFEST: inc/Module/Install/Fetch.pm
# Added to MANIFEST: inc/Module/Install/Makefile.pm
# Added to MANIFEST: inc/Module/Install/Metadata.pm
# Added to MANIFEST: inc/Module/Install/Win32.pm
# Added to MANIFEST: inc/Module/Install/WriteAll.pm
# Added to MANIFEST: LICENSE
# Added to MANIFEST: Makefile.PL
# Added to MANIFEST: MANIFEST
# Added to MANIFEST: META.yml
# make[1]: Leaving directory '/tmp/loop_over_bdir-1601045-niXMfj/Module-Install-AutoLicense-0.10-0/dist/pEajBXYAvZ'
# make[1]: Entering directory '/tmp/loop_over_bdir-1601045-niXMfj/Module-Install-AutoLicense-0.10-0/dist/pEajBXYAvZ'
# rm -rf Foo-Bar-0.01
# "/tmp/basesmoker-reloperl-niLM/bin/perl" "-Iinc" "-MExtUtils::Manifest=manicopy,maniread" \
# 	-e "manicopy(maniread(),'Foo-Bar-0.01', 'best');"
# mkdir Foo-Bar-0.01
# mkdir Foo-Bar-0.01/inc
# mkdir Foo-Bar-0.01/inc/Module
# mkdir Foo-Bar-0.01/inc/Module/Install
# make[1]: Leaving directory '/tmp/loop_over_bdir-1601045-niXMfj/Module-Install-AutoLicense-0.10-0/dist/pEajBXYAvZ'
# Checking if your kit is complete...
# Looks good
# Generating a Unix-style Makefile
# Writing Makefile for Foo::Bar
# Writing MYMETA.yml and MYMETA.json
# make[1]: Entering directory '/tmp/loop_over_bdir-1601045-niXMfj/Module-Install-AutoLicense-0.10-0/dist/pEajBXYAvZ/Foo-Bar-0.01'
# rm -f \
#   Bar.bso Bar.def \
#   Bar.exp Bar.x \
#    blib/arch/auto/Foo/Bar/extralibs.all \
#   blib/arch/auto/Foo/Bar/extralibs.ld Makefile.aperl \
#   *.a *.o \
#   *perl.core MYMETA.json \
#   MYMETA.yml blibdirs.ts \
#   core core.*perl.*.? \
#   core.[0-9] core.[0-9][0-9] \
#   core.[0-9][0-9][0-9] core.[0-9][0-9][0-9][0-9] \
#   core.[0-9][0-9][0-9][0-9][0-9] libBar.def \
#   mon.out perl \
#   perl perl.exe \
#   perlmain.c pm_to_blib \
#   pm_to_blib.ts so_locations \
#   tmon.out 
# rm -rf \
#   blib 
# mv Makefile Makefile.old > /dev/null 2>&1
# rm -f \
#   Makefile Makefile.old 
# rm -rf \
#   Foo-Bar-0.01 MYMETA.yml 
# "/tmp/basesmoker-reloperl-niLM/bin/perl" "-Iinc" "-MExtUtils::Manifest=fullcheck" -e fullcheck
# make[1]: Leaving directory '/tmp/loop_over_bdir-1601045-niXMfj/Module-Install-AutoLicense-0.10-0/dist/pEajBXYAvZ/Foo-Bar-0.01'
cannot remove path when cwd is /tmp/loop_over_bdir-1601045-niXMfj/Module-Install-AutoLicense-0.10-0/dist/pEajBXYAvZ/Foo-Bar-0.01 for /tmp/loop_over_bdir-1601045-niXMfj/Module-Install-AutoLicense-0.10-0/dist/pEajBXYAvZ:  at /home/sand/src/perl/repoperls/installed-perls/host/k93jammy/v5.37.10/5674/lib/5.37.10/File/Temp.pm line 921.
t/02_distdir.t ....... ok
# include /tmp/loop_over_bdir-1601045-niXMfj/Module-Install-AutoLicense-0.10-0/dist/QQvd704MV8/inc/Module/Install.pm
# include inc/Module/Install/Metadata.pm
# include inc/Module/Install/Base.pm
# include inc/Module/Install/AutoLicense.pm
# include inc/Module/Install/Makefile.pm
# include inc/Module/Install/WriteAll.pm
# include inc/Module/Install/Win32.pm
# include inc/Module/Install/Can.pm
# include inc/Module/Install/Fetch.pm
# Generating a Unix-style Makefile
# Writing Makefile for Foo::Bar
# Writing MYMETA.yml and MYMETA.json
# Writing META.yml
# make[1]: Entering directory '/tmp/loop_over_bdir-1601045-niXMfj/Module-Install-AutoLicense-0.10-0/dist/QQvd704MV8'
# rm -f \
#   Bar.bso Bar.def \
#   Bar.exp Bar.x \
#    blib/arch/auto/Foo/Bar/extralibs.all \
#   blib/arch/auto/Foo/Bar/extralibs.ld Makefile.aperl \
#   *.a *.o \
#   *perl.core MYMETA.json \
#   MYMETA.yml blibdirs.ts \
#   core core.*perl.*.? \
#   core.[0-9] core.[0-9][0-9] \
#   core.[0-9][0-9][0-9] core.[0-9][0-9][0-9][0-9] \
#   core.[0-9][0-9][0-9][0-9][0-9] libBar.def \
#   mon.out perl \
#   perl perl.exe \
#   perlmain.c pm_to_blib \
#   pm_to_blib.ts so_locations \
#   tmon.out 
# rm -rf \
#   blib 
# mv Makefile Makefile.old > /dev/null 2>&1
# rm -f \
#   Makefile Makefile.old 
# rm -rf \
#   Foo-Bar-0.01 MYMETA.yml 
# rm -f Foo-Bar-0.01.tar.gz
# rm -f MANIFEST.bak _build
# "/tmp/basesmoker-reloperl-niLM/bin/perl" "-Iinc" "-Ilib" "-MModule::Install::Admin" -e "remove_meta()"
# rm -rf inc
# "/tmp/basesmoker-reloperl-niLM/bin/perl" "-Iinc" "-MExtUtils::Manifest=fullcheck" -e fullcheck
# Problem opening MANIFEST: No such file or directory at /home/sand/src/perl/repoperls/installed-perls/host/k93jammy/v5.37.10/5674/lib/5.37.10/ExtUtils/Manifest.pm line 349.
# Problem opening MANIFEST: No such file or directory at /home/sand/src/perl/repoperls/installed-perls/host/k93jammy/v5.37.10/5674/lib/5.37.10/ExtUtils/Manifest.pm line 349.
# Not in MANIFEST: LICENSE
# Not in MANIFEST: Makefile.PL
# rm -f LICENSE
# make[1]: Leaving directory '/tmp/loop_over_bdir-1601045-niXMfj/Module-Install-AutoLicense-0.10-0/dist/QQvd704MV8'
t/03_authors.t ....... ok
t/99_pod.t ........... ok
t/99_pod_coverage.t .. ok
All tests successful.
Files=6, Tests=17, 21 wallclock secs ( 0.04 usr  0.07 sys +  2.09 cusr  2.58 csys =  4.78 CPU)
Result: PASS

------------------------------
PREREQUISITES
------------------------------

Prerequisite modules loaded:

requires:

    Module              Need  Have    
    ------------------- ----- --------
    Module::Install     0.85  1.19    
    perl                5.006 5.037010
    Software::License   0.01  0.104002

build_requires:

    Module              Need  Have    
    ------------------- ----- --------
    Capture::Tiny       0.05  0.48    
    ExtUtils::MakeMaker 6.59  7.68    
    File::Temp          0     0.2311  
    Test::More          0.47  1.302194

configure_requires:

    Module              Need  Have    
    ------------------- ----- --------
    ExtUtils::MakeMaker 6.59  7.68    


------------------------------
ENVIRONMENT AND OTHER CONTEXT
------------------------------

Environment variables:

    AUTOMATED_TESTING = 1
    LANG = en_US.UTF-8
    LC_ADDRESS = de_DE.UTF-8
    LC_IDENTIFICATION = de_DE.UTF-8
    LC_MEASUREMENT = de_DE.UTF-8
    LC_MONETARY = de_DE.UTF-8
    LC_NAME = de_DE.UTF-8
    LC_NUMERIC = de_DE.UTF-8
    LC_PAPER = de_DE.UTF-8
    LC_TELEPHONE = de_DE.UTF-8
    LC_TIME = de_DE.UTF-8
    PATH = /home/sand/bin:/usr/local/bin:/usr/local/sbin:/usr/sbin:/usr/bin:/sbin:/bin:/usr/games:/usr/local/games:/snap/bin:/usr/local/perl/bin:/usr/X11/bin
    PERL = /tmp/basesmoker-reloperl-niLM/bin/perl
    PERL5LIB = /tmp/loop_over_bdir-1601045-niXMfj/Devel-Required-0.16-0/blib/arch:/tmp/loop_over_bdir-1601045-niXMfj/Devel-Required-0.16-0/blib/lib:/tmp/loop_over_bdir-1601045-niXMfj/Lingua-BioYaTeA-0.11-0/blib/arch:/tmp/loop_over_bdir-1601045-niXMfj/Lingua-BioYaTeA-0.11-0/blib/lib:/tmp/loop_over_bdir-1601045-niXMfj/Lingua-YaTeA-0.626-0/blib/arch:/tmp/loop_over_bdir-1601045-niXMfj/Lingua-YaTeA-0.626-0/blib/lib:/tmp/loop_over_bdir-1601045-niXMfj/Dpkg-1.21.19-0/blib/arch:/tmp/loop_over_bdir-1601045-niXMfj/Dpkg-1.21.19-0/blib/lib:/tmp/loop_over_bdir-1601045-niXMfj/App-oo_modulino_zsh_completion_helper-0.04-0/blib/arch:/tmp/loop_over_bdir-1601045-niXMfj/App-oo_modulino_zsh_completion_helper-0.04-0/blib/lib:/tmp/loop_over_bdir-1601045-niXMfj/ProjectBuilder-0.14.1-0/blib/arch:/tmp/loop_over_bdir-1601045-niXMfj/ProjectBuilder-0.14.1-0/blib/lib:/tmp/loop_over_bdir-1601045-niXMfj/Lemonldap-NG-Cli-0.2-0/blib/arch:/tmp/loop_over_bdir-1601045-niXMfj/Lemonldap-NG-Cli-0.2-0/blib/lib
    PERL5OPT = 
    PERL5_CPANPLUS_IS_RUNNING = 1601116
    PERL5_CPAN_IS_RUNNING = 1601116
    PERL_CANARY_STABILITY_NOPROMPT = 1
    PERL_MM_USE_DEFAULT = 1
    PERL_USE_UNSAFE_INC = 1
    SHELL = /usr/bin/zsh
    TERM = screen

Perl special variables (and OS-specific diagnostics, for MSWin32):

    $^X = /tmp/basesmoker-reloperl-niLM/bin/perl
    $UID/$EUID = 1005 / 1005
    $GID = 1005 1005
    $EGID = 1005 1005

Perl module toolchain versions installed:

    Module              Have    
    ------------------- --------
    CPAN                2.34    
    CPAN::Meta          2.150010
    Cwd                 3.89    
    ExtUtils::CBuilder  0.280238
    ExtUtils::Command   7.68    
    ExtUtils::Install   2.22    
    ExtUtils::MakeMaker 7.68    
    ExtUtils::Manifest  1.73    
    ExtUtils::ParseXS   3.49    
    File::Spec          3.88    
    JSON                4.10    
    JSON::PP            4.16    
    Module::Build       0.4232  
    Module::Signature   0.88    
    Parse::CPAN::Meta   2.150010
    Test::Harness       3.44    
    Test::More          1.302194
    YAML                1.30    
    YAML::Syck          1.34    
    version             0.9929  


--

Summary of my perl5 (revision 5 version 37 subversion 10) configuration:
  Commit id: d62f5d9eddd273f5a82c0dbad932a8f4d18f9488
  Platform:
    osname=linux
    osvers=5.19.0-35-generic
    archname=x86_64-linux-ld
    uname='linux k93jammy 5.19.0-35-generic #36~22.04.1-ubuntu smp preempt_dynamic fri feb 17 15:17:25 utc 2 x86_64 x86_64 x86_64 gnulinux '
    config_args='-Dprefix=/home/sand/src/perl/repoperls/installed-perls/host/k93jammy/v5.37.10/5674 -Dmyhostname=k93jammy -Dinstallusrbinperl=n -Uversiononly -Dusedevel -des -Ui_db -Dlibswanted=cl pthread socket inet nsl gdbm dbm malloc dl ld sun m crypt sec util c cposix posix ucb BSD gdbm_compat -Uuseithreads -Duselongdouble -DEBUGGING=-g'
    hint=recommended
    useposix=true
    d_sigaction=define
    useithreads=undef
    usemultiplicity=undef
    use64bitint=define
    use64bitall=define
    uselongdouble=define
    usemymalloc=n
    default_inc_excludes_dot=define
  Compiler:
    cc='cc'
    ccflags ='-fwrapv -fno-strict-aliasing -pipe -fstack-protector-strong -I/usr/local/include -D_LARGEFILE_SOURCE -D_FILE_OFFSET_BITS=64'
    optimize='-O2 -g'
    cppflags='-fwrapv -fno-strict-aliasing -pipe -fstack-protector-strong -I/usr/local/include'
    ccversion=''
    gccversion='11.3.0'
    gccosandvers=''
    intsize=4
    longsize=8
    ptrsize=8
    doublesize=8
    byteorder=12345678
    doublekind=3
    d_longlong=define
    longlongsize=8
    d_longdbl=define
    longdblsize=16
    longdblkind=3
    ivtype='long'
    ivsize=8
    nvtype='long double'
    nvsize=16
    Off_t='off_t'
    lseeksize=8
    alignbytes=16
    prototype=define
  Linker and Libraries:
    ld='cc'
    ldflags =' -fstack-protector-strong -L/usr/local/lib'
    libpth=/usr/local/lib /usr/lib/x86_64-linux-gnu /usr/lib /usr/lib64
    libs=-lpthread -lnsl -ldl -lm -lcrypt -lutil -lc
    perllibs=-lpthread -lnsl -ldl -lm -lcrypt -lutil -lc
    libc=/lib/x86_64-linux-gnu/libc.so.6
    so=so
    useshrplib=false
    libperl=libperl.a
    gnulibc_version='2.35'
  Dynamic Linking:
    dlsrc=dl_dlopen.xs
    dlext=so
    d_dlsymun=undef
    ccdlflags='-Wl,-E'
    cccdlflags='-fPIC'
    lddlflags='-shared -O2 -g -L/usr/local/lib -fstack-protector-strong'


Characteristics of this binary (from libperl): 
  Compile-time options:
    HAS_TIMES
    PERLIO_LAYERS
    PERL_COPY_ON_WRITE
    PERL_DONT_CREATE_GVSV
    PERL_HASH_FUNC_SIPHASH13
    PERL_HASH_USE_SBOX32
    PERL_MALLOC_WRAP
    PERL_OP_PARENT
    PERL_PRESERVE_IVUV
    PERL_USE_DEVEL
    PERL_USE_SAFE_PUTENV
    USE_64_BIT_ALL
    USE_64_BIT_INT
    USE_LARGE_FILES
    USE_LOCALE
    USE_LOCALE_COLLATE
    USE_LOCALE_CTYPE
    USE_LOCALE_NUMERIC
    USE_LOCALE_TIME
    USE_LONG_DOUBLE
    USE_PERLIO
    USE_PERL_ATOF
  Built under linux
  Compiled at Mar 21 2023 11:44:29
  %ENV:
    PERL="/tmp/basesmoker-reloperl-niLM/bin/perl"
    PERL5LIB="/tmp/loop_over_bdir-1601045-niXMfj/Devel-Required-0.16-0/blib/arch:/tmp/loop_over_bdir-1601045-niXMfj/Devel-Required-0.16-0/blib/lib:/tmp/loop_over_bdir-1601045-niXMfj/Lingua-BioYaTeA-0.11-0/blib/arch:/tmp/loop_over_bdir-1601045-niXMfj/Lingua-BioYaTeA-0.11-0/blib/lib:/tmp/loop_over_bdir-1601045-niXMfj/Lingua-YaTeA-0.626-0/blib/arch:/tmp/loop_over_bdir-1601045-niXMfj/Lingua-YaTeA-0.626-0/blib/lib:/tmp/loop_over_bdir-1601045-niXMfj/Dpkg-1.21.19-0/blib/arch:/tmp/loop_over_bdir-1601045-niXMfj/Dpkg-1.21.19-0/blib/lib:/tmp/loop_over_bdir-1601045-niXMfj/App-oo_modulino_zsh_completion_helper-0.04-0/blib/arch:/tmp/loop_over_bdir-1601045-niXMfj/App-oo_modulino_zsh_completion_helper-0.04-0/blib/lib:/tmp/loop_over_bdir-1601045-niXMfj/ProjectBuilder-0.14.1-0/blib/arch:/tmp/loop_over_bdir-1601045-niXMfj/ProjectBuilder-0.14.1-0/blib/lib:/tmp/loop_over_bdir-1601045-niXMfj/Lemonldap-NG-Cli-0.2-0/blib/arch:/tmp/loop_over_bdir-1601045-niXMfj/Lemonldap-NG-Cli-0.2-0/blib/lib"
    PERL5OPT=""
    PERL5_CPANPLUS_IS_RUNNING="1601116"
    PERL5_CPAN_IS_RUNNING="1601116"
    PERL_CANARY_STABILITY_NOPROMPT="1"
    PERL_MM_USE_DEFAULT="1"
    PERL_USE_UNSAFE_INC="1"
  @INC:
    /tmp/loop_over_bdir-1601045-niXMfj/Devel-Required-0.16-0/blib/arch
    /tmp/loop_over_bdir-1601045-niXMfj/Devel-Required-0.16-0/blib/lib
    /tmp/loop_over_bdir-1601045-niXMfj/Lingua-BioYaTeA-0.11-0/blib/arch
    /tmp/loop_over_bdir-1601045-niXMfj/Lingua-BioYaTeA-0.11-0/blib/lib
    /tmp/loop_over_bdir-1601045-niXMfj/Lingua-YaTeA-0.626-0/blib/arch
    /tmp/loop_over_bdir-1601045-niXMfj/Lingua-YaTeA-0.626-0/blib/lib
    /tmp/loop_over_bdir-1601045-niXMfj/Dpkg-1.21.19-0/blib/arch
    /tmp/loop_over_bdir-1601045-niXMfj/Dpkg-1.21.19-0/blib/lib
    /tmp/loop_over_bdir-1601045-niXMfj/App-oo_modulino_zsh_completion_helper-0.04-0/blib/arch
    /tmp/loop_over_bdir-1601045-niXMfj/App-oo_modulino_zsh_completion_helper-0.04-0/blib/lib
    /tmp/loop_over_bdir-1601045-niXMfj/ProjectBuilder-0.14.1-0/blib/arch
    /tmp/loop_over_bdir-1601045-niXMfj/ProjectBuilder-0.14.1-0/blib/lib
    /tmp/loop_over_bdir-1601045-niXMfj/Lemonldap-NG-Cli-0.2-0/blib/arch
    /tmp/loop_over_bdir-1601045-niXMfj/Lemonldap-NG-Cli-0.2-0/blib/lib
    /home/sand/src/perl/repoperls/installed-perls/host/k93jammy/v5.37.10/5674/lib/site_perl/5.37.10/x86_64-linux-ld
    /home/sand/src/perl/repoperls/installed-perls/host/k93jammy/v5.37.10/5674/lib/site_perl/5.37.10
    /home/sand/src/perl/repoperls/installed-perls/host/k93jammy/v5.37.10/5674/lib/5.37.10/x86_64-linux-ld
    /home/sand/src/perl/repoperls/installed-perls/host/k93jammy/v5.37.10/5674/lib/5.37.10
    .