Dist-Zilla-Plugin-ModuleBuildTiny-Fallback v0.027 Perl 5 v5.32.1 MSWin32-x86-multi-thread-64int

Status
Pass
From
gregor herrmann
Dist
Dist-Zilla-Plugin-ModuleBuildTiny-Fallback v0.027
Platform
Perl 5 v5.32.1 MSWin32-x86-multi-thread-64int
Date
2022-05-03 15:53:57
ID
2c7152c6-6c03-1014-bc6b-432a0b0d682c
This distribution has been tested as part of the CPAN Testers
project, supporting the Perl programming language.  See
http://wiki.cpantesters.org/ for more information or email
questions to cpan-testers-discuss@perl.org


--
Dear Karen Etheridge,

This is a computer-generated report for Dist-Zilla-Plugin-ModuleBuildTiny-Fallback-0.027
on perl 5.32.1, created by CPAN-Reporter-1.2018.

Thank you for uploading your work to CPAN.  Congratulations!
All tests were successful.

Sections of this report:

    * Tester comments
    * Program output
    * Prerequisites
    * Environment and other context

------------------------------
TESTER COMMENTS
------------------------------

Additional comments from tester:

this report is from an automated smoke testing program
and was not reviewed by a human for accuracy

------------------------------
PROGRAM OUTPUT
------------------------------

Output from 'C:\Strawberry\perl\bin\perl.exe ./Build test':

# 
# Versions for all modules listed in MYMETA.json (including optional ones):
# 
# === Configure Requires ===
# 
#     Module               Want  Have
#     ------------------- ----- -----
#     ExtUtils::MakeMaker   any  7.64
#     Module::Build::Tiny 0.034 0.039
# 
# === Test Requires ===
# 
#     Module                         Want     Have
#     ----------------------------- ----- --------
#     Dist::Zilla::Role::FileMunger   any    6.024
#     File::Spec                      any     3.78
#     File::pushd                     any    1.016
#     Module::Metadata                any 1.000037
#     Path::Tiny                    0.062    0.122
#     Test::DZil                      any    6.024
#     Test::Deep                      any    1.130
#     Test::Fatal                     any    0.016
#     Test::More                     0.96 1.302190
#     Test::Needs                     any 0.002006
#     Test::Warnings                  any    0.031
#     if                              any   0.0608
# 
# === Test Recommends ===
# 
#     Module         Want     Have
#     ---------- -------- --------
#     CPAN::Meta 2.120900 2.150010
# 
# === Runtime Requires ===
# 
#     Module                                Want     Have
#     ------------------------------------ ----- --------
#     Dist::Zilla::Plugin::ModuleBuild       any    6.024
#     Dist::Zilla::Plugin::ModuleBuildTiny   any    0.015
#     Dist::Zilla::Role::AfterBuild          any    6.024
#     Dist::Zilla::Role::BeforeBuild         any    6.024
#     Dist::Zilla::Role::BuildPL             any    6.024
#     Dist::Zilla::Role::FileGatherer        any    6.024
#     Dist::Zilla::Role::PrereqSource        any    6.024
#     List::Util                            1.33     1.62
#     Moose                                  any   2.2201
#     Moose::Util                            any   2.2201
#     Path::Tiny                           0.062    0.122
#     Scalar::Util                           any     1.62
#     Types::Standard                        any 1.012004
#     namespace::autoclean                   any     0.29
#     strict                                 any     1.11
#     warnings                               any     1.47
# 
# === Other Modules ===
# 
#     Module                           Have
#     ----------------------------- -------
#     Data::Dumper                    2.183
#     Dist::Zilla::Plugin::CheckBin missing
#     Encode                           3.17
#     File::Temp                     0.2311
#     JSON::PP                         4.08
#     Log::Dispatch                    2.70
#     Module::Build                  0.4231
#     Module::Build::Tiny             0.039
#     Module::Runtime                 0.016
#     Pod::Coverage                    0.23
#     Sub::Name                        0.26
#     YAML                             1.30
#     autodie                          2.34
# 
t/00-report-prereqs.t ...... ok
t/01-basic.t ............... ok
t/02-two-plugins.t ......... ok
t/03-arguments.t ........... ok
t/04-additional-content.t .. skipped: Need Dist::Zilla::Plugin::CheckBin 0.004
t/05-preamble.t ............ ok
t/06-prereq-failures.t ..... ok
t/07-sharedir.t ............ ok
Warning: Mason did not compile at C:/Strawberry/perl/vendor/lib/Dist/CheckConflicts.pm line 184.
# Conflicts detected for Module::Runtime:
#   Mason is version unknown, but must be greater than version 2.18
Warning: Mason did not compile at C:/Strawberry/perl/vendor/lib/Dist/CheckConflicts.pm line 184.
# Conflicts detected for Moose:
#   Mason is version unknown, but must be greater than version 2.18
t/zzz-check-breaks.t ....... ok
All tests successful.
Files=9, Tests=41, 84 wallclock secs ( 0.16 usr +  0.00 sys =  0.16 CPU)
Result: PASS

------------------------------
PREREQUISITES
------------------------------

Prerequisite modules loaded:

requires:

    Module                               Need  Have    
    ------------------------------------ ----- --------
    Dist::Zilla::Plugin::ModuleBuild     0     6.024   
    Dist::Zilla::Plugin::ModuleBuildTiny 0     0.015   
    Dist::Zilla::Role::AfterBuild        0     6.024   
    Dist::Zilla::Role::BeforeBuild       0     6.024   
    Dist::Zilla::Role::BuildPL           0     6.024   
    Dist::Zilla::Role::FileGatherer      0     6.024   
    Dist::Zilla::Role::PrereqSource      0     6.024   
    List::Util                           1.33  1.62    
    Moose                                0     2.2201  
    Moose::Util                          0     2.2201  
    namespace::autoclean                 0     0.29    
    Path::Tiny                           0.062 0.122   
    perl                                 5.006 5.032001
    Scalar::Util                         0     1.62    
    strict                               0     1.11    
    Types::Standard                      0     1.012004
    warnings                             0     1.47    

build_requires:

    Module                               Need  Have    
    ------------------------------------ ----- --------
    Dist::Zilla::Role::FileMunger        0     6.024   
    File::pushd                          0     1.016   
    File::Spec                           0     3.78    
    if                                   0     0.0608  
    Module::Metadata                     0     1.000037
    Path::Tiny                           0.062 0.122   
    perl                                 5.006 5.032001
    Test::Deep                           0     1.130   
    Test::DZil                           0     6.024   
    Test::Fatal                          0     0.016   
    Test::More                           0.96  1.302190
    Test::Needs                          0     0.002006
    Test::Warnings                       0     0.031   

configure_requires:

    Module                               Need  Have    
    ------------------------------------ ----- --------
    ExtUtils::MakeMaker                  0     7.64    
    Module::Build::Tiny                  0.034 0.039   
    perl                                 5.006 5.032001


------------------------------
ENVIRONMENT AND OTHER CONTEXT
------------------------------

Environment variables:

    AUTOMATED_TESTING = 1
    COMSPEC = C:\WINDOWS.0\system32\cmd.exe
    NONINTERACTIVE_TESTING = 1
    NUMBER_OF_PROCESSORS = 1
    PATH = C:\WINDOWS.0\system32;C:\strawberry\c\bin;C:\strawberry\perl\site\bin;C:\strawberry\perl\bin
    PERL5LIB = 
    PERL5OPT = 
    PERL5_CPANPLUS_IS_RUNNING = 4032
    PERL5_CPAN_IS_RUNNING = 4032
    PERL5_CPAN_IS_RUNNING_IN_RECURSION = 2792,4032
    PERL_CR_SMOKER_CURRENT = Dist-Zilla-Plugin-ModuleBuildTiny-Fallback-0.027
    PERL_EXTUTILS_AUTOINSTALL = --defaultdeps
    PERL_MM_USE_DEFAULT = 1
    PERL_USE_UNSAFE_INC = 1
    PROCESSOR_IDENTIFIER = x86 Family 6 Model 14 Stepping 8, GenuineIntel
    TEMP = C:\DOKUME~1\smoker\LOKALE~1\Temp
    TERM = dumb

Perl special variables (and OS-specific diagnostics, for MSWin32):

    $^X = C:\Strawberry\perl\bin\perl.exe
    $UID/$EUID = 0 / 0
    $GID = 0
    $EGID = 0
    Win32::GetOSName = WinXP/.Net
    Win32::GetOSVersion = Service Pack 3, 5, 1, 2600, 2, 3, 0, 256, 1
    Win32::FsType = NTFS
    Win32::IsAdminUser = 1

Perl module toolchain versions installed:

    Module              Have    
    ------------------- --------
    CPAN                2.34    
    CPAN::Meta          2.150010
    Cwd                 3.78    
    ExtUtils::CBuilder  0.280235
    ExtUtils::Command   7.64    
    ExtUtils::Install   2.20    
    ExtUtils::MakeMaker 7.64    
    ExtUtils::Manifest  1.73    
    ExtUtils::ParseXS   3.44    
    File::Spec          3.78    
    JSON                4.05    
    JSON::PP            4.08    
    Module::Build       0.4231  
    Module::Signature   0.88    
    Parse::CPAN::Meta   2.150010
    Test::Harness       3.44    
    Test::More          1.302190
    YAML                1.30    
    YAML::Syck          1.34    
    version             0.9928  


--

Summary of my perl5 (revision 5 version 32 subversion 1) configuration:
   
  Platform:
    osname=MSWin32
    osvers=10.0.19042.746
    archname=MSWin32-x86-multi-thread-64int
    uname='Win32 strawberry-perl 5.32.1.1 #1 Sun Jan 24 12:17:47 2021 i386'
    config_args='undef'
    hint=recommended
    useposix=true
    d_sigaction=undef
    useithreads=define
    usemultiplicity=define
    use64bitint=define
    use64bitall=undef
    uselongdouble=undef
    usemymalloc=n
    default_inc_excludes_dot=define
    bincompat5005=undef
  Compiler:
    cc='gcc'
    ccflags =' -DWIN32 -D__USE_MINGW_ANSI_STDIO -DPERL_TEXTMODE_SCRIPTS -DPERL_IMPLICIT_CONTEXT -DPERL_IMPLICIT_SYS -DUSE_PERLIO -fwrapv -fno-strict-aliasing -mms-bitfields'
    optimize='-s -O2'
    cppflags='-DWIN32'
    ccversion=''
    gccversion='8.3.0'
    gccosandvers=''
    intsize=4
    longsize=4
    ptrsize=4
    doublesize=8
    byteorder=12345678
    doublekind=3
    d_longlong=define
    longlongsize=8
    d_longdbl=define
    longdblsize=12
    longdblkind=3
    ivtype='long long'
    ivsize=8
    nvtype='double'
    nvsize=8
    Off_t='long long'
    lseeksize=8
    alignbytes=8
    prototype=define
  Linker and Libraries:
    ld='g++'
    ldflags ='-s -L"C:\STRAWB~1\perl\lib\CORE" -L"C:\STRAWB~1\c\lib"'
    libpth=C:\STRAWB~1\c\lib C:\STRAWB~1\c\i686-w64-mingw32\lib C:\STRAWB~1\c\lib\gcc\i686-w64-mingw32\8.3.0
    libs= -lmoldname -lkernel32 -luser32 -lgdi32 -lwinspool -lcomdlg32 -ladvapi32 -lshell32 -lole32 -loleaut32 -lnetapi32 -luuid -lws2_32 -lmpr -lwinmm -lversion -lodbc32 -lodbccp32 -lcomctl32
    perllibs= -lmoldname -lkernel32 -luser32 -lgdi32 -lwinspool -lcomdlg32 -ladvapi32 -lshell32 -lole32 -loleaut32 -lnetapi32 -luuid -lws2_32 -lmpr -lwinmm -lversion -lodbc32 -lodbccp32 -lcomctl32
    libc=
    so=dll
    useshrplib=true
    libperl=libperl532.a
    gnulibc_version=''
  Dynamic Linking:
    dlsrc=dl_win32.xs
    dlext=xs.dll
    d_dlsymun=undef
    ccdlflags=' '
    cccdlflags=' '
    lddlflags='-mdll -s -L"C:\STRAWB~1\perl\lib\CORE" -L"C:\STRAWB~1\c\lib"'


Characteristics of this binary (from libperl): 
  Compile-time options:
    HAS_TIMES
    HAVE_INTERP_INTERN
    MULTIPLICITY
    PERLIO_LAYERS
    PERL_COPY_ON_WRITE
    PERL_DONT_CREATE_GVSV
    PERL_IMPLICIT_CONTEXT
    PERL_IMPLICIT_SYS
    PERL_MALLOC_WRAP
    PERL_OP_PARENT
    PERL_PRESERVE_IVUV
    USE_64_BIT_INT
    USE_ITHREADS
    USE_LARGE_FILES
    USE_LOCALE
    USE_LOCALE_COLLATE
    USE_LOCALE_CTYPE
    USE_LOCALE_NUMERIC
    USE_LOCALE_TIME
    USE_PERLIO
    USE_PERL_ATOF
  Built under MSWin32
  Compiled at Jan 24 2021 12:22:49
  %ENV:
    PERL5_CPANPLUS_IS_RUNNING="4032"
    PERL5_CPAN_IS_RUNNING="4032"
    PERL5_CPAN_IS_RUNNING_IN_RECURSION="2792,4032"
    PERL_CR_SMOKER_CURRENT="Dist-Zilla-Plugin-ModuleBuildTiny-Fallback-0.027"
    PERL_EXTUTILS_AUTOINSTALL="--defaultdeps"
    PERL_MM_USE_DEFAULT="1"
    PERL_USE_UNSAFE_INC="1"
  @INC:
    C:/Strawberry/perl/site/lib/MSWin32-x86-multi-thread-64int
    C:/Strawberry/perl/site/lib
    C:/Strawberry/perl/vendor/lib
    C:/Strawberry/perl/lib
    .