Back
From: metabase:user:9820532a-708b-1014-9a05-b18a96298da1
Subject: PASS DBIx-Skinny-0.0742 v5.8.9 GNU/Linux
Date: 2011-10-09T06:16:06Z
This distribution has been tested as part of the CPAN Testers
project, supporting the Perl programming language. See
http://wiki.cpantesters.org/ for more information or email
questions to cpan-testers-discuss@perl.org
--
Dear Atsushi Kobayashi,
This is a computer-generated report for DBIx-Skinny-0.0742
on perl 5.8.9, created by CPAN-Reporter-1.2002.
Thank you for uploading your work to CPAN. Congratulations!
All tests were successful.
Sections of this report:
* Tester comments
* Program output
* Prerequisites
* Environment and other context
------------------------------
TESTER COMMENTS
------------------------------
Additional comments from tester:
this report is from an automated smoke testing program
and was not reviewed by a human for accuracy
------------------------------
PROGRAM OUTPUT
------------------------------
Output from '/usr/bin/make test':
PERL_DL_NONLAZY=1 /home/test/perl5/perlbrew/perls/perl-5.8.9/bin/perl "-MExtUtils::Command::MM" "-e" "test_harness(0, 'inc', 'blib/lib', 'blib/arch')" t/*.t t/*/*.t t/*/*/*.t
# DBD::SQLite versin is 1.34_01
t/001_basic/001_compile.t ............................................... ok
t/001_basic/002_schema_info.t ........................................... ok
t/001_basic/003_explicit_schema.t ....................................... ok
t/001_basic/004_sql.t ................................................... ok
t/001_basic/005_set_columns.t ........................................... ok
t/001_basic/006_all_in_one_file.t ....................................... ok
t/001_basic/007_connect_info.t .......................................... ok
t/001_basic/008_mixin.t ................................................. ok
t/001_basic/009_no_check_schema.t ....................................... ok
t/001_basic/010_dbh.t ................................................... ok
t/001_basic/011_inflate.t ............................................... ok
t/001_basic/012_trigger.t ............................................... ok
t/001_basic/013_common_trigger.t ........................................ ok
t/001_basic/014_utf8.t .................................................. ok
t/001_basic/015_row_class.t ............................................. ok
t/001_basic/016_row_exception.t ......................................... ok
t/001_basic/017_profile.t ............................................... ok
t/001_basic/018_custom_profiler.t ....................................... ok
t/001_basic/019_profiler_trace.t ........................................ ok
t/001_basic/020_on_connect_do.t ......................................... ok
t/001_basic/021_reconnect.t ............................................. ok
t/001_basic/022_transaction.t ........................................... ok
t/001_basic/023_bulk_insert.t ........................................... ok
t/001_basic/024_bind_column.t ........................................... ok
t/002_common/000_new.t .................................................. ok
t/002_common/001_insert.t ............................................... ok
t/002_common/002_update.t ............................................... ok
t/002_common/003_delete.t ............................................... ok
t/002_common/004_find_or_create.t ....................................... ok
t/002_common/005_count.t ................................................ ok
t/002_common/006_single.t ............................................... ok
t/002_common/007_search.t ............................................... ok
t/002_common/008_search_named.t ......................................... ok
t/002_common/009_search_by_sql.t ........................................ ok
t/002_common/010_resultset.t ............................................ ok
t/002_common/011_do.t ................................................... ok
t/002_common/012_replace.t .............................................. ok
t/002_common/014_find_or_new.t .......................................... ok
t/002_common/015_data2row.t ............................................. ok
t/002_common/016_hash_to_row.t .......................................... ok
t/002_common/017_iterator.t ............................................. ok
t/002_common/018_refetch.t .............................................. ok
t/002_common/019_get_columns.t .......................................... ok
t/002_common/020_get_column.t ........................................... ok
t/002_common/021_quote.t ................................................ ok
t/002_common/022_disconnect.t ........................................... ok
t/002_common/023_multi_pk.t ............................................. ok
t/002_common/024_txn_scope.t ............................................ ok
t/002_common/999_delete_by_sql.t ........................................ ok
t/002_common/999_update_by_sql.t ........................................ ok
t/500_deprecated/001_deprecated_setup.t ................................. ok
t/500_deprecated/002_deprecated_profiler.t .............................. ok
t/999_regression/bind_param.t ........................................... ok
t/999_regression/data2itr_objectarray.t ................................. ok
t/999_regression/dbh_and_txn_manager.t .................................. ok
t/999_regression/deflate_bug.t .......................................... ok
t/999_regression/deflate_scalarref.t .................................... ok
t/999_regression/duplicate_update.t ..................................... ok
t/999_regression/empty_update.t ......................................... ok
t/999_regression/get_row_class.t ........................................ ok
t/999_regression/guess_table_name.t ..................................... ok
t/999_regression/loose_connect_options_after_new.t ...................... ok
t/999_regression/new_attr.t ............................................. ok
t/999_regression/no_schema.t ............................................ ok
t/999_regression/prepare_error_handling.t ............................... ok
t/999_regression/row_update_by_scalarref.t .............................. ok
t/999_regression/transaction/call_txn_scope_after_fork.t ................ ok
t/999_regression/transaction/call_txn_scope_after_missing_connect.t ..... ok
t/999_regression/transaction/call_txn_scope_and_fork.t .................. ok
t/999_regression/transaction/call_txn_scope_before_fork.t ............... ok
t/999_regression/transaction/call_txn_scope_before_fork_and_rollback.t .. ok
t/999_regression/where_condition_in.t ................................... ok
All tests successful.
Files=72, Tests=280, 18 wallclock secs ( 0.30 usr 0.22 sys + 6.38 cusr 1.62 csys = 8.52 CPU)
Result: PASS
------------------------------
PREREQUISITES
------------------------------
Prerequisite modules loaded:
requires:
Module Need Have
------------------------ ---- -------
Carp 0 1.23
Class::Accessor::Lite 0 0.05
Class::Load 0 0.11
DBI 0 1.616
DBIx::TransactionManager 1.07 1.09
IO::Handle 0 1.28
Scalar::Util 0 1.23
Try::Tiny 0 0.11
UNIVERSAL::require 0 0.13
build_requires:
Module Need Have
------------------------ ---- -------
ExtUtils::MakeMaker 6.42 6.61_01
Test::More 0.96 0.98
Test::SharedFork 0.15 0.18
configure_requires:
Module Need Have
------------------------ ---- -------
ExtUtils::MakeMaker 6.42 6.61_01
------------------------------
ENVIRONMENT AND OTHER CONTEXT
------------------------------
Environment variables:
AUTOMATED_TESTING = 1
LANG = C
LC_ALL = C
PATH = /home/test/perl5/perlbrew/bin:/home/test/perl5/perlbrew/perls/perl-5.8.9/bin:/home/test/bin:~/bin:/usr/bin:/bin
PATH_WITHOUT_PERLBREW = /home/test/bin:~/bin:/usr/bin:/bin
PERL5LIB =
PERL5OPT =
PERL5_CPANPLUS_IS_RUNNING = 6149
PERL5_CPAN_IS_RUNNING = 6149
PERL5_CPAN_IS_RUNNING_IN_RECURSION = 21730,6149
PERLBREW_HOME = /home/test/.perlbrew
PERLBREW_PATH = /home/test/perl5/perlbrew/bin:/home/test/perl5/perlbrew/perls/perl-5.8.9/bin
PERLBREW_PERL = perl-5.8.9
PERLBREW_ROOT = /home/test/perl5/perlbrew
PERLBREW_VERSION = 0.29
PERL_CPANM_OPT = --prompt --mirror file:///mirrors/cpan/
PERL_CR_SMOKER_CURRENT = DBIx-Skinny-Pager-0.11
PERL_EXTUTILS_AUTOINSTALL = --defaultdeps
PERL_MM_USE_DEFAULT = 1
SHELL = /bin/bash
TERM = linux
Perl special variables (and OS-specific diagnostics, for MSWin32):
$^X = /home/test/perl5/perlbrew/perls/perl-5.8.9/bin/perl
$UID/$EUID = 1001 / 1001
$GID = 1001 1001
$EGID = 1001 1001
Perl module toolchain versions installed:
Module Have
------------------- --------
CPAN 1.9800
CPAN::Meta 2.112621
Cwd 3.33
ExtUtils::CBuilder 0.280202
ExtUtils::Command 1.16
ExtUtils::Install 1.54
ExtUtils::MakeMaker 6.61_01
ExtUtils::Manifest 1.58
ExtUtils::ParseXS 3.05
File::Spec 3.33
JSON 2.53
JSON::PP 2.27200
Module::Build 0.3800
Module::Signature n/a
Parse::CPAN::Meta 1.4401
Test::Harness 3.23
Test::More 0.98
YAML 0.77
YAML::Syck 1.17
version 0.94
--
Summary of my perl5 (revision 5 version 8 subversion 9) configuration:
Platform:
osname=linux, osvers=2.6.35-28-generic, archname=x86_64-linux-ld
uname='linux zippy 2.6.35-28-generic #50-ubuntu smp fri mar 18 18:42:20 utc 2011 x86_64 gnulinux '
config_args='-de -Dprefix=/home/test/perl5/perlbrew/perls/perl-5.8.9 -Duselongdouble'
hint=recommended, useposix=true, d_sigaction=define
usethreads=undef use5005threads=undef useithreads=undef usemultiplicity=undef
useperlio=define d_sfio=undef uselargefiles=define usesocks=undef
use64bitint=define use64bitall=define uselongdouble=define
usemymalloc=n, bincompat5005=undef
Compiler:
cc='cc', ccflags ='-fno-strict-aliasing -pipe -I/usr/local/include -D_LARGEFILE_SOURCE -D_FILE_OFFSET_BITS=64',
optimize='-O2',
cppflags='-fno-strict-aliasing -pipe -I/usr/local/include'
ccversion='', gccversion='4.4.5', gccosandvers=''
intsize=4, longsize=8, ptrsize=8, doublesize=8, byteorder=12345678
d_longlong=define, longlongsize=8, d_longdbl=define, longdblsize=16
ivtype='long', ivsize=8, nvtype='long double', nvsize=16, Off_t='off_t', lseeksize=8
alignbytes=16, prototype=define
Linker and Libraries:
ld='cc', ldflags =' -L/usr/local/lib'
libpth=/usr/local/lib /lib/../lib /usr/lib/../lib /lib /usr/lib /usr/lib/x86_64-linux-gnu /lib64 /usr/lib64
libs=-lnsl -ldl -lm -lcrypt -lutil -lc
perllibs=-lnsl -ldl -lm -lcrypt -lutil -lc
libc=/lib/libc-2.12.1.so, so=so, useshrplib=false, libperl=libperl.a
gnulibc_version='2.12.1'
Dynamic Linking:
dlsrc=dl_dlopen.xs, dlext=so, d_dlsymun=undef, ccdlflags='-Wl,-E'
cccdlflags='-fPIC', lddlflags='-shared -O2 -L/usr/local/lib'
Characteristics of this binary (from libperl):
Compile-time options: PERL_MALLOC_WRAP USE_64_BIT_ALL USE_64_BIT_INT
USE_FAST_STDIO USE_LARGE_FILES USE_LONG_DOUBLE
USE_PERLIO
Built under linux
Compiled at Oct 8 2011 22:49:46
%ENV:
PERL5LIB=""
PERL5OPT=""
PERL5_CPANPLUS_IS_RUNNING="6149"
PERL5_CPAN_IS_RUNNING="6149"
PERL5_CPAN_IS_RUNNING_IN_RECURSION="21730,6149"
PERLBREW_HOME="/home/test/.perlbrew"
PERLBREW_PATH="/home/test/perl5/perlbrew/bin:/home/test/perl5/perlbrew/perls/perl-5.8.9/bin"
PERLBREW_PERL="perl-5.8.9"
PERLBREW_ROOT="/home/test/perl5/perlbrew"
PERLBREW_VERSION="0.29"
PERL_CPANM_OPT="--prompt --mirror file:///mirrors/cpan/"
PERL_CR_SMOKER_CURRENT="DBIx-Skinny-Pager-0.11"
PERL_EXTUTILS_AUTOINSTALL="--defaultdeps"
PERL_MM_USE_DEFAULT="1"
@INC:
/home/test/perl5/perlbrew/perls/perl-5.8.9/lib/5.8.9/x86_64-linux-ld
/home/test/perl5/perlbrew/perls/perl-5.8.9/lib/5.8.9
/home/test/perl5/perlbrew/perls/perl-5.8.9/lib/site_perl/5.8.9/x86_64-linux-ld
/home/test/perl5/perlbrew/perls/perl-5.8.9/lib/site_perl/5.8.9
.