Report for AnyEvent-SIP-0.002

Back
From: metabase:user:314402c4-2aae-11df-837a-5e0a49663a4f
Subject: PASS AnyEvent-SIP-0.002 v5.25.4 GNU/Linux
Date: 2016-08-29T22:44:41Z

This distribution has been tested as part of the CPAN Testers
project, supporting the Perl programming language.  See
http://wiki.cpantesters.org/ for more information or email
questions to cpan-testers-discuss@perl.org


--
Dear Sawyer X,

This is a computer-generated report for AnyEvent-SIP-0.002
on perl 5.25.4, created by CPAN-Reporter-1.2018.

Thank you for uploading your work to CPAN.  Congratulations!
All tests were successful.

Sections of this report:

    * Tester comments
    * Program output
    * Prerequisites
    * Environment and other context

------------------------------
TESTER COMMENTS
------------------------------

Additional comments from tester:

none provided

------------------------------
PROGRAM OUTPUT
------------------------------

Output from './Build test':

t/00-compile.t .......................... ok
# call created
# got ringing
# call established
# call cleaned up
t/02_listen_and_invite-anyevent.t ....... ok
# call created
# got ringing
# call established
# call cleaned up
t/02_listen_and_invite.t ................ ok
t/03_forward_stateless.t ................ ok
# UAS on 127.0.0.1:53158
# UAC on 127.0.0.1:5060
# call created
# call established
# call cleaned up
# received 100/100 packets
t/04_call_with_rtp.t .................... ok
# UAS on 127.0.0.1:54290 
# UAC on 127.0.0.1:57239 
# PROXY on 127.0.0.1:47882 127.0.0.1:44601 
# proxy >> OK
# <<
# uas >> OK
# <<
# proxy >> ready
# <<
# uas >> ready
# <<
# uac >> OK
# <<
# uac >> ready
# <<
# uac >> O> udp:127.0.0.1:47882 REQ(INVITE) SDP: audio=127.0.0.1:3570/2
# <<
# proxy >> I< 127.0.0.1:57239 REQ(INVITE) SDP: audio=127.0.0.1:3570/2
# O> udp:127.0.0.1:54290 REQ(INVITE) SDP: audio=127.0.0.1:3570/2
# <<
# uas >> I< 127.0.0.1:44601 REQ(INVITE) SDP: audio=127.0.0.1:3570/2
# O> 127.0.0.1:44601 RSP(INVITE,100) NO SDP
# call created
# INVITE you.uas@example.com SIP/2.0
# Via: SIP/2.0/UDP 127.0.0.1:44601;branch=z9hG4bKa66adf9f283fa635b22dc4ada586b02020b515d6bbf56d35765c20ffdc586f
# Record-route: <sip:127.0.0.1:44601;lr>
# Via: SIP/2.0/UDP 127.0.0.1:47882;branch=z9hG4bK3df14b00cecfe03dfcbacafe63149dab20b515d6bbf56d31eb057b4a72919c
# Record-route: <sip:127.0.0.1:47882;lr>
# Supported: 
# Allow: INVITE, ACK, OPTIONS, CANCEL, BYE
# Via: SIP/2.0/UDP 127.0.0.1:57239;branch=z9hG4bK008a74f995fc8ba19f287f66a835fe0e20b515d6bbf56d3b522e2b2ec9b492
# Call-id: 651a7c27c0ac96fded4199752356c6d5
# Cseq: 1 INVITE
# From: me.uac@example.com;tag=e31eb1f531f7be4944ae62f054cfa304
# Content-type: application/sdp
# Content-length: 175
# Max-forwards: 69
# Contact: sip:rbdb01815b96269cffc161a396abd1e6e401f2e3675e8d49bbb4df4d881c7026a1cfa9e91e508c4b2310bbaff594372d508f4dea2a9087d1558bc6e3a63c95f9d9d28feaf96ee@127.0.0.1:44601
# To: you.uas@example.com;tag=4ff37e0591a4e3ab1862da03727d23b5
# 
# v=0
# o=anonymous 1472510622 1472510622 IN IP4 127.0.0.1
# s=session
# c=IN IP4 127.0.0.1
# t=0 0
# m=audio 3570 RTP/AVP 0 101
# a=rtpmap:101 telephone-event/8000
# a=fmtp:101 0-16
# <<
# uac >> I< 127.0.0.1:47882 RSP(INVITE,100) NO SDP
# <<
# uac >> I< 127.0.0.1:47882 RSP(INVITE,200) SDP: audio=127.0.0.1:11644/2
# O> 127.0.0.1:47882 REQ(ACK) NO SDP
# <<
# uac >> call established
# <<
# uac >> RTP done
# O> udp:127.0.0.1:47882 REQ(BYE) NO SDP
# <<
# uas >> O> 127.0.0.1:44601 RSP(INVITE,200) SDP: audio=127.0.0.1:11644/2
# I< 127.0.0.1:44601 REQ(ACK) NO SDP
# call established
# <<
# uas >> I< 127.0.0.1:44601 REQ(BYE) NO SDP
# O> 127.0.0.1:44601 RSP(BYE,200) NO SDP
# call cleaned up
# <<
# uas >> received 100/100 packets
# RTP ok
# END
# <<
# uac >> I< 127.0.0.1:47882 RSP(BYE,200) NO SDP
# <<
# uac >> END
# <<
# proxy >> OK
# <<
# uas >> OK
# ready
# <<
# proxy >> ready
# <<
# uac >> OK
# ready
# <<
# uac >> O> udp:127.0.0.1:47882 REQ(INVITE) SDP: audio=127.0.0.1:9866/2
# <<
# proxy >> I< 127.0.0.1:57239 REQ(INVITE) SDP: audio=127.0.0.1:9866/2
# O> udp:127.0.0.1:54290 REQ(INVITE) SDP: audio=127.0.0.1:6878/2
# <<
# uas >> I< 127.0.0.1:44601 REQ(INVITE) SDP: audio=127.0.0.1:6878/2
# O> 127.0.0.1:44601 RSP(INVITE,100) NO SDP
# call created
# INVITE you.uas@example.com SIP/2.0
# Via: SIP/2.0/UDP 127.0.0.1:44601;branch=z9hG4bKa66adf9f283fa635b22dc4ada586b020c129645915e315e4714f6718eba117
# Record-route: <sip:127.0.0.1:44601;lr>
# Via: SIP/2.0/UDP 127.0.0.1:47882;branch=z9hG4bK3df14b00cecfe03dfcbacafe63149dabc129645915e315e773b861cdda503d
# Record-route: <sip:127.0.0.1:47882;lr>
# Supported: 
# Allow: INVITE, ACK, OPTIONS, CANCEL, BYE
# Via: SIP/2.0/UDP 127.0.0.1:57239;branch=z9hG4bK008a74f995fc8ba19f287f66a835fe0ec129645915e315e829366b6a63a30f
# Call-id: 4b2e81f08fac2220f36bc865aad45621
# Cseq: 1 INVITE
# From: me.uac@example.com;tag=84ca72ea8bd7cab9bbf247dc82b96d27
# Content-type: application/sdp
# Content-length: 175
# Max-forwards: 69
# Contact: sip:r85ecaca6c57e65e4584dc7c6d93a79adfe3eba8e3bd02562489899fb57e829ed805cdadf3d4582c85d0d9c17ce0fbec4e7cd9ae10ebe42e685e61c039036b5879f57eea3a438@127.0.0.1:44601
# To: you.uas@example.com;tag=685d16bbb9337a994ff47cda1f82784b
# 
# v=0
# o=anonymous 1472510625 1472510625 IN IP4 127.0.0.1
# s=session
# c=IN IP4 127.0.0.1
# t=0 0
# m=audio 6878 RTP/AVP 0 101
# a=rtpmap:101 telephone-event/8000
# a=fmtp:101 0-16
# O> 127.0.0.1:44601 RSP(INVITE,200) SDP: audio=127.0.0.1:5694/2
# <<
# uac >> I< 127.0.0.1:47882 RSP(INVITE,100) NO SDP
# I< 127.0.0.1:47882 RSP(INVITE,200) SDP: audio=127.0.0.1:3182/2
# O> 127.0.0.1:47882 REQ(ACK) NO SDP
# <<
# uac >> call established
# <<
# uac >> RTP done
# O> udp:127.0.0.1:47882 REQ(BYE) NO SDP
# <<
# uas >> I< 127.0.0.1:44601 REQ(ACK) NO SDP
# call established
# <<
# uas >> I< 127.0.0.1:44601 REQ(BYE) NO SDP
# <<
# uas >> O> 127.0.0.1:44601 RSP(BYE,200) NO SDP
# call cleaned up
# <<
# uas >> received 100/100 packets
# RTP ok
# END
# <<
# uac >> I< 127.0.0.1:47882 RSP(BYE,200) NO SDP
# <<
# uac >> END
# <<
# nathelper >> OK
# <<
# proxy >> OK
# <<
# uas >> OK
# <<
# proxy >> ready
# <<
# uas >> ready
# <<
# uac >> OK
# <<
# uac >> ready
# O> udp:127.0.0.1:47882 REQ(INVITE) SDP: audio=127.0.0.1:7118/2
# <<
# proxy >> I< 127.0.0.1:57239 REQ(INVITE) SDP: audio=127.0.0.1:7118/2
# <<
# proxy >> O> udp:127.0.0.1:54290 REQ(INVITE) SDP: audio=127.0.0.1:8624/2
# <<
# uas >> I< 127.0.0.1:44601 REQ(INVITE) SDP: audio=127.0.0.1:8624/2
# O> 127.0.0.1:44601 RSP(INVITE,100) NO SDP
# <<
# uas >> call created
# INVITE you.uas@example.com SIP/2.0
# Via: SIP/2.0/UDP 127.0.0.1:44601;branch=z9hG4bKa66adf9f283fa635b22dc4ada586b0202a63261c4cf27a77ff9dcb6b8a0a52
# Record-route: <sip:127.0.0.1:44601;lr>
# Via: SIP/2.0/UDP 127.0.0.1:47882;branch=z9hG4bK3df14b00cecfe03dfcbacafe63149dab2a63261c4cf27a7c5c84d4c79b07ff
# Record-route: <sip:127.0.0.1:47882;lr>
# Supported: 
# Allow: INVITE, ACK, OPTIONS, CANCEL, BYE
# Via: SIP/2.0/UDP 127.0.0.1:57239;branch=z9hG4bK008a74f995fc8ba19f287f66a835fe0e2a63261c4cf27a77c73a55737d6b36
# Call-id: 5c7e9a9bf43993100a0945f9c3a98e33
# Cseq: 1 INVITE
# From: me.uac@example.com;tag=2b09bc3c4ef8d1fafafae432347a2ca1
# Content-type: application/sdp
# Content-length: 175
# Max-forwards: 69
# Contact: sip:rd8d7c18d4e03735b3eb73867ccad1e9d68509d1501a39c71b786fc75859aaba7ebda62186e2cb9f16789933f23b488f687019c582d0f5dc3e6627420dc8804d5861d437b0b31@127.0.0.1:44601
# To: you.uas@example.com;tag=38944381a6f94e37dd3c47e1aeb38841
# 
# v=0
# o=anonymous 1472510627 1472510627 IN IP4 127.0.0.1
# s=session
# c=IN IP4 127.0.0.1
# t=0 0
# m=audio 8624 RTP/AVP 0 101
# a=rtpmap:101 telephone-event/8000
# a=fmtp:101 0-16
# O> 127.0.0.1:44601 RSP(INVITE,200) SDP: audio=127.0.0.1:6426/2
# <<
# uac >> I< 127.0.0.1:47882 RSP(INVITE,100) NO SDP
# <<
# uac >> I< 127.0.0.1:47882 RSP(INVITE,200) SDP: audio=127.0.0.1:3046/2
# O> 127.0.0.1:47882 REQ(ACK) NO SDP
# <<
# uac >> call established
# <<
# uac >> RTP done
# O> udp:127.0.0.1:47882 REQ(BYE) NO SDP
# <<
# uas >> I< 127.0.0.1:44601 REQ(ACK) NO SDP
# call established
# <<
# uas >> I< 127.0.0.1:44601 REQ(BYE) NO SDP
# O> 127.0.0.1:44601 RSP(BYE,200) NO SDP
# call cleaned up
# <<
# uas >> received 100/100 packets
# RTP ok
# END
# <<
# uac >> I< 127.0.0.1:47882 RSP(BYE,200) NO SDP
# <<
# uac >> END
# <<
t/05_call_with_stateless_proxy.t ........ ok
# uas >> OK
# <<
# uas >> Listening
# <<
# uac >> OK
# <<
# uac >> Started
# <<
# uas >> Call accepted
# <<
# uac >> Start RTP
# <<
# uac >> RTP#50#
# <<
# uas >> got rtp packet#50
# <<
# uas >> Starting ReInvite
# <<
# uac >> Got ReInvite
# <<
# uas >> Start RTP
# <<
# uas >> RTP#50#
# <<
# uac >> got rtp packet#50
# <<
# uac >> Send BYE
# <<
# uas >> Got RTP
# Received BYE
# <<
# uac >> BYE done
# <<
t/06_call_with_reinvite.t ............... ok
# uas >> OK
# <<
# uas >> Listening
# <<
# uac >> OK
# <<
# uac >> Started
# <<
# uas >> Call accepted
# <<
# uac >> Start RTP
# <<
# uac >> RTP#50#
# <<
# uas >> got rtp packet#50
# <<
# uas >> Starting ReInvite
# <<
# uac >> Got ReInvite
# <<
# uas >> Start RTP
# <<
# uas >> RTP#50#
# <<
# uac >> got rtp packet#50
# <<
# uac >> Send BYE
# <<
# uas >> Received BYE after 0 bytes read
# <<
# uac >> BYE done
# <<
t/07_call_on_hold.t ..................... ok
# registrar >> OK
# <<
# registrar >> Listening
# <<
# uac >> OK
# <<
# uac >> Started
# <<
# uac >> Registered wolf (REALM.example.com)
# <<
# uac >> Registered 007 (REALM.example.com)
# <<
# uac >> Registered noauth ()
# <<
t/08_register_with_auth.t ............... ok
t/11_invite_timeout.t ................... ok
# call established
# call cleaned up
t/12_maddr.t ............................ ok
t/13_maddr_proxy.t ...................... ok
# UAS   on 127.0.0.1:5062 
# UAC   on 127.0.0.1:5060 
# PROXY on 127.0.0.1:5063 
# proxy >> OK
# <<
# proxy >> Listening
# <<
# uas >> OK
# <<
# uas >> Listening
# <<
# uac >> OK
# <<
# uac >> Started
# <<
# uas >> Call accepted
# Starting ReInvite
# <<
# uac >> Got ReInvite
# Received BYE
# <<
# uas >> Send BYE
# <<
# uas >> BYE done
# <<
t/14_bugfix_0.51.t ...................... ok
t/15_block_invite.t ..................... ok
t/16_drop_invite.t ...................... ok
# uas >> OK
# <<
# uas >> Listening
# <<
# uac >> OK
# Started
# <<
# uas >> Call accepted
# <<
# uac >> Starting ReInvite
# <<
# uas >> ReInvite accepted
# <<
# uac >> ReInvite done
# <<
# uac >> Send BYE
# <<
# uas >> Received BYE
# <<
# uac >> BYE done
# <<
t/17_call_with_reinvite_and_auth.t ...... ok
# registrar >> OK
# <<
# registrar >> Listening
# <<
# uac >> OK
# <<
# uac >> Started
# <<
# uac >> got 401 response
# <<
# uac >> Registered wolf (REALM.example.com)
# <<
# uac >> Registered 007 (REALM.example.com)
# <<
# uac >> Registered noauth ()
# <<
t/18_register_with_auth_step_by_step.t .. ok
# UAS on 127.0.0.1:55791
# UAC on 127.0.0.1:5060
# call created
# call established
# call cleaned up
# received 352/100 packets events=1 2 D # 3 4 B *
t/19_call_with_dtmf.t ................... ok
# call created
# got ringing
# call established
# call cleaned up
t/anyevent.t ............................ ok
t/release-pod-syntax.t .................. skipped: these tests are for release candidate testing
All tests successful.
Files=20, Tests=224, 48 wallclock secs ( 0.06 usr  0.10 sys +  2.58 cusr  1.10 csys =  3.84 CPU)
Result: PASS

------------------------------
PREREQUISITES
------------------------------

Prerequisite modules loaded:

requires:

    Module                          Need   Have    
    ------------------------------- ------ --------
    AnyEvent                        0      7.12    
    AnyEvent::AggressiveIdle        0      0.04    
    Net::SIP::Dispatcher::Eventloop 0      0       
    Net::SIP::Util                  0      0       
    strict                          0      1.11    
    warnings                        0      1.37    

build_requires:

    Module                          Need   Have    
    ------------------------------- ------ --------
    base                            0      2.23    
    Cwd                             0      3.62    
    Data::Dumper                    0      2.161   
    Digest::MD5                     0      2.55    
    fields                          0      2.23    
    File::Find                      0      1.34    
    File::Temp                      0      0.2304  
    IO::Socket                      0      1.38    
    List::Util                      0      1.45    
    Module::Build                   0.3601 0.4220  
    Net::SIP                        0      0.687   
    Net::SIP::Blocker               0      0       
    Net::SIP::Debug                 0      0       
    Net::SIP::Dropper               0      0       
    Net::SIP::Dropper::ByField      0      0       
    Net::SIP::Dropper::ByIPPort     0      0       
    Net::SIP::Leg                   0      0       
    Net::SIP::NATHelper::Client     0      0       
    Net::SIP::NATHelper::Local      0      0       
    Net::SIP::NATHelper::Server     0      0       
    Net::SIP::ReceiveChain          0      0       
    Net::SIP::SDP                   0      0       
    Test::More                      0      1.302052

configure_requires:

    Module                          Need   Have    
    ------------------------------- ------ --------
    ExtUtils::MakeMaker             6.30   7.24    
    Module::Build                   0.3601 0.4220  


------------------------------
ENVIRONMENT AND OTHER CONTEXT
------------------------------

Environment variables:

    LANG = C
    LC_ALL = de_DE.UTF-8
    PATH = /usr/local/bin:/usr/bin:/bin:/usr/local/sbin:/usr/sbin:/sbin:/home/cpansand/bin/linux-gnu:/home/cpansand/bin/sh:/home/cpansand/bin:/usr/games:/home/cpansand/devel:/home/eserte/src/srezic-misc/scripts
    PERL5LIB = 
    PERL5OPT = 
    PERL5_CPANPLUS_IS_RUNNING = 11841
    PERL5_CPAN_IS_RUNNING = 11841
    PERL5_CPAN_IS_RUNNING_IN_RECURSION = 11522,11841
    PERLDOC = -MPod::Perldoc::ToTextOverstrike
    PERL_BATCH = yes
    PERL_CANARY_STABILITY_NOPROMPT = 1
    PERL_CPAN_REPORTER_CONFIG = /run/user/1023/cpansmoker/2016082903/cpanreporter_001_config.ini
    PERL_EXTUTILS_AUTOINSTALL = --defaultdeps
    PERL_PARALLEL_SMOKER = yes
    PERL_USE_UNSAFE_INC = 1
    SHELL = /bin/zsh
    TERM = screen
    TMPDIR = /run/user/1023/cpansmoker/2016082903

Perl special variables (and OS-specific diagnostics, for MSWin32):

    $^X = /bbbike/perl-5.25.4/bin/perl5.25.4
    $UID/$EUID = 1023 / 1023
    $GID = 1023 1023
    $EGID = 1023 1023

Perl module toolchain versions installed:

    Module              Have    
    ------------------- --------
    CPAN                2.14    
    CPAN::Meta          2.150010
    Cwd                 3.62    
    ExtUtils::CBuilder  0.280224
    ExtUtils::Command   7.24    
    ExtUtils::Install   2.04    
    ExtUtils::MakeMaker 7.24    
    ExtUtils::Manifest  1.70    
    ExtUtils::ParseXS   3.30    
    File::Spec          3.62    
    JSON                2.90    
    JSON::PP            2.27400 
    Module::Build       0.4220  
    Module::Signature   0.80    
    Parse::CPAN::Meta   2.150010
    Test::Harness       3.36    
    Test::More          1.302052
    YAML                1.18    
    YAML::Syck          1.29    
    version             0.9917  


--

Summary of my perl5 (revision 5 version 25 subversion 4) configuration:
   
  Platform:
    osname=linux
    osvers=3.16.0-4-amd64
    archname=x86_64-linux
    uname='linux eserte 3.16.0-4-amd64 #1 smp debian 3.16.7-ckt25-2+deb8u3 (2016-07-02) x86_64 gnulinux '
    config_args='-ds -e -Dprefix=/opt/perl-5.25.4 -Dusedevel -Dusemallocwrap=no -Dcf_email=srezic@cpan.org'
    hint=recommended
    useposix=true
    d_sigaction=define
    useithreads=undef
    usemultiplicity=undef
    use64bitint=define
    use64bitall=define
    uselongdouble=undef
    usemymalloc=n
    bincompat5005=undef
  Compiler:
    cc='cc'
    ccflags ='-fwrapv -fno-strict-aliasing -pipe -fstack-protector-strong -I/usr/local/include -D_LARGEFILE_SOURCE -D_FILE_OFFSET_BITS=64 -D_FORTIFY_SOURCE=2'
    optimize='-O2'
    cppflags='-fwrapv -fno-strict-aliasing -pipe -fstack-protector-strong -I/usr/local/include'
    ccversion=''
    gccversion='4.9.2'
    gccosandvers=''
    intsize=4
    longsize=8
    ptrsize=8
    doublesize=8
    byteorder=12345678
    doublekind=3
    d_longlong=define
    longlongsize=8
    d_longdbl=define
    longdblsize=16
    longdblkind=3
    ivtype='long'
    ivsize=8
    nvtype='double'
    nvsize=8
    Off_t='off_t'
    lseeksize=8
    alignbytes=8
    prototype=define
  Linker and Libraries:
    ld='cc'
    ldflags =' -fstack-protector-strong -L/usr/local/lib'
    libpth=/usr/local/lib /usr/lib/gcc/x86_64-linux-gnu/4.9/include-fixed /usr/include/x86_64-linux-gnu /usr/lib /lib/x86_64-linux-gnu /lib/../lib /usr/lib/x86_64-linux-gnu /usr/lib/../lib /lib
    libs=-lpthread -lnsl -lgdbm -ldb -ldl -lm -lcrypt -lutil -lc -lgdbm_compat
    perllibs=-lpthread -lnsl -ldl -lm -lcrypt -lutil -lc
    libc=libc-2.19.so
    so=so
    useshrplib=false
    libperl=libperl.a
    gnulibc_version='2.19'
  Dynamic Linking:
    dlsrc=dl_dlopen.xs
    dlext=so
    d_dlsymun=undef
    ccdlflags='-Wl,-E'
    cccdlflags='-fPIC'
    lddlflags='-shared -O2 -L/usr/local/lib -fstack-protector-strong'


Characteristics of this binary (from libperl): 
  Compile-time options:
    HAS_TIMES
    PERLIO_LAYERS
    PERL_COPY_ON_WRITE
    PERL_DONT_CREATE_GVSV
    PERL_HASH_FUNC_ONE_AT_A_TIME_HARD
    PERL_OP_PARENT
    PERL_PRESERVE_IVUV
    PERL_USE_DEVEL
    USE_64_BIT_ALL
    USE_64_BIT_INT
    USE_LARGE_FILES
    USE_LOCALE
    USE_LOCALE_COLLATE
    USE_LOCALE_CTYPE
    USE_LOCALE_NUMERIC
    USE_LOCALE_TIME
    USE_PERLIO
    USE_PERL_ATOF
  Built under linux
  Compiled at Aug 20 2016 21:18:40
  %ENV:
    PERL5LIB=""
    PERL5OPT=""
    PERL5_CPANPLUS_IS_RUNNING="11841"
    PERL5_CPAN_IS_RUNNING="11841"
    PERL5_CPAN_IS_RUNNING_IN_RECURSION="11522,11841"
    PERLDOC="-MPod::Perldoc::ToTextOverstrike"
    PERL_BATCH="yes"
    PERL_CANARY_STABILITY_NOPROMPT="1"
    PERL_CPAN_REPORTER_CONFIG="/run/user/1023/cpansmoker/2016082903/cpanreporter_001_config.ini"
    PERL_EXTUTILS_AUTOINSTALL="--defaultdeps"
    PERL_PARALLEL_SMOKER="yes"
    PERL_USE_UNSAFE_INC="1"
  @INC:
    /opt/perl-5.25.4/lib/site_perl/5.25.4/x86_64-linux
    /opt/perl-5.25.4/lib/site_perl/5.25.4
    /opt/perl-5.25.4/lib/5.25.4/x86_64-linux
    /opt/perl-5.25.4/lib/5.25.4
    .