Hash-AutoHash-Args v1.18 Perl 5 v5.30.2 darwin-thread-multi-2level

Status
Pass
From
Gintautas Grigelionis
Dist
Hash-AutoHash-Args v1.18
Platform
Perl 5 v5.30.2 darwin-thread-multi-2level
Date
2020-05-03 08:57:53
ID
2c5c7f9e-8d1c-11ea-aee8-490b4f3695bb
This distribution has been tested as part of the CPAN Testers
project, supporting the Perl programming language.  See
http://wiki.cpantesters.org/ for more information or email
questions to cpan-testers-discuss@perl.org


--
Dear Nathan Goodman,

This is a computer-generated report for Hash-AutoHash-Args-1.18
on perl 5.30.2, created by CPAN-Reporter-1.2018.

Thank you for uploading your work to CPAN.  Congratulations!
All tests were successful.

Sections of this report:

    * Tester comments
    * Program output
    * Prerequisites
    * Environment and other context

------------------------------
TESTER COMMENTS
------------------------------

Additional comments from tester:

none provided

------------------------------
PROGRAM OUTPUT
------------------------------

Output from './Build test':

# Testing Hash::AutoHash::Args 1.18, Perl 5.030002, /usr/local/Cellar/perl/5.30.2_1/bin/perl
t/autoargs.000.code_exists.t .... ok
t/autoargs.001.boilerplate.t .... ok
t/autoargs.002.pod.t ............ ok
t/autoargs.010.basics.t ......... ok
t/autoargs.020.class_methods.t .. ok
t/autoargs.020.special_keys.t ... ok
t/autoargs.020.universal.t ...... ok
t/autoargs.030.functions.t ...... ok
t/autoargs.030.v0_methods.t ..... ok
t/autoargs.031.alias.t .......... ok
t/autoargs.098.docs.t ........... ok
t/autoargs.099.v0_docs.t ........ ok
t/autoargs.100.grow_slot.t ...... ok
All tests successful.
Files=13, Tests=329,  2 wallclock secs ( 0.07 usr  0.04 sys +  1.15 cusr  0.29 csys =  1.55 CPU)
Result: PASS

------------------------------
PREREQUISITES
------------------------------

Prerequisite modules loaded:

requires:

    Module             Need   Have    
    ------------------ ------ --------
    Carp               1.2    1.50    
    Cwd                3.4    3.78    
    Exporter           5.68   5.74    
    Hash::AutoHash     1.17   1.17    
    List::MoreUtils    0.33   0.428   
    List::Util         1.32   1.55    
    Tie::Hash          1.04   1.05    
    Tie::ToObject      0.03   0.03    
    XSLoader           0.16   0.30    

build_requires:

    Module             Need   Have    
    ------------------ ------ --------
    Carp               1.2    1.50    
    Exporter           5.68   5.74    
    File::Basename     2.82   2.85    
    File::Spec         3.4    3.78    
    Hash::AutoHash     1.17   1.17    
    List::MoreUtils    0.33   0.428   
    Module::Build      0.4007 0.4231  
    Test::Deep         0.11   1.130   
    Test::More         0.98   1.302175
    Test::Pod          1.48   1.52    
    Test::Pod::Content v0.0.6 0.0.6   

configure_requires:

    Module             Need   Have    
    ------------------ ------ --------
    Module::Build      0.4007 0.4231  


------------------------------
ENVIRONMENT AND OTHER CONTEXT
------------------------------

Environment variables:

    LC_CTYPE = UTF-8
    PATH = /Users/gintas/Projects/perl5/bin:/Users/gintas/perl5/bin:/usr/local/bin:/usr/bin:/bin:/usr/sbin:/sbin:/usr/local/MacGPG2/bin:/opt/X11/bin:/Library/Apple/usr/bin
    PERL5LIB = /Users/gintas/Projects/perl5/lib/perl5:/Users/gintas/perl5/lib/perl5
    PERL5OPT = 
    PERL5_CPANPLUS_IS_RUNNING = 3455
    PERL5_CPAN_IS_RUNNING = 3455
    PERL_LOCAL_LIB_ROOT = /Users/gintas/Projects/perl5:/Users/gintas/perl5
    PERL_MB_OPT = --install_base "/Users/gintas/Projects/perl5"
    PERL_MM_OPT = INSTALL_BASE=/Users/gintas/Projects/perl5
    PERL_USE_UNSAFE_INC = 1
    SHELL = /bin/bash
    TERM = xterm-256color
    TMPDIR = /var/folders/7j/gsygg6dj3yg5vj5ph2nk1x880000gn/T/

Perl special variables (and OS-specific diagnostics, for MSWin32):

    $^X = /usr/local/Cellar/perl/5.30.2_1/bin/perl
    $UID/$EUID = 501 / 501
    $GID = 20 20 701 12 61 79 80 81 98 703 702 33 100 204 250 395 398
    $EGID = 20 20 701 12 61 79 80 81 98 703 702 33 100 204 250 395 398

Perl module toolchain versions installed:

    Module              Have    
    ------------------- --------
    CPAN                2.22    
    CPAN::Meta          2.150010
    Cwd                 3.78    
    ExtUtils::CBuilder  0.280234
    ExtUtils::Command   7.44    
    ExtUtils::Install   2.14    
    ExtUtils::MakeMaker 7.44    
    ExtUtils::Manifest  1.72    
    ExtUtils::ParseXS   3.40    
    File::Spec          3.78    
    JSON                4.02    
    JSON::PP            4.04    
    Module::Build       0.4231  
    Module::Signature   0.83    
    Parse::CPAN::Meta   2.150010
    Test::Harness       3.42    
    Test::More          1.302175
    YAML                1.30    
    YAML::Syck          1.32    
    version             0.9924  


--

Summary of my perl5 (revision 5 version 30 subversion 2) configuration:
   
  Platform:
    osname=darwin
    osvers=19.4.0
    archname=darwin-thread-multi-2level
    uname='darwin catalina 19.4.0 darwin kernel version 19.4.0: wed mar 4 22:28:40 pst 2020; root:xnu-6153.101.6~15release_x86_64 x86_64 '
    config_args='-des -Dprefix=/usr/local/Cellar/perl/5.30.2_1 -Dprivlib=/usr/local/Cellar/perl/5.30.2_1/lib/perl5/5.30.2 -Dsitelib=/usr/local/Cellar/perl/5.30.2_1/lib/perl5/site_perl/5.30.2 -Dotherlibdirs=/usr/local/lib/perl5/site_perl/5.30.2 -Dperlpath=/usr/local/opt/perl/bin/perl -Dstartperl=#!/usr/local/opt/perl/bin/perl -Dman1dir=/usr/local/Cellar/perl/5.30.2_1/share/man/man1 -Dman3dir=/usr/local/Cellar/perl/5.30.2_1/share/man/man3 -Duseshrplib -Duselargefiles -Dusethreads -Dsed=/usr/bin/sed'
    hint=recommended
    useposix=true
    d_sigaction=define
    useithreads=define
    usemultiplicity=define
    use64bitint=define
    use64bitall=define
    uselongdouble=undef
    usemymalloc=n
    default_inc_excludes_dot=define
    bincompat5005=undef
  Compiler:
    cc='cc'
    ccflags ='-fno-common -DPERL_DARWIN -mmacosx-version-min=10.15 -fno-strict-aliasing -pipe -fstack-protector-strong -I/usr/local/include -DPERL_USE_SAFE_PUTENV'
    optimize='-O3'
    cppflags='-fno-common -DPERL_DARWIN -mmacosx-version-min=10.15 -fno-strict-aliasing -pipe -fstack-protector-strong -I/usr/local/include'
    ccversion=''
    gccversion='4.2.1 Compatible Apple LLVM 11.0.3 (clang-1103.0.32.59)'
    gccosandvers=''
    intsize=4
    longsize=8
    ptrsize=8
    doublesize=8
    byteorder=12345678
    doublekind=3
    d_longlong=define
    longlongsize=8
    d_longdbl=define
    longdblsize=16
    longdblkind=3
    ivtype='long'
    ivsize=8
    nvtype='double'
    nvsize=8
    Off_t='off_t'
    lseeksize=8
    alignbytes=8
    prototype=define
  Linker and Libraries:
    ld='cc'
    ldflags =' -mmacosx-version-min=10.15 -fstack-protector-strong -L/usr/local/lib'
    libpth=/usr/local/lib /Applications/Xcode.app/Contents/Developer/Toolchains/XcodeDefault.xctoolchain/usr/lib/clang/11.0.3/lib /Library/Developer/CommandLineTools/SDKs/MacOSX10.15.sdk/usr/lib /Applications/Xcode.app/Contents/Developer/Toolchains/XcodeDefault.xctoolchain/usr/lib /usr/lib
    libs=-lpthread -ldbm -ldl -lm -lutil -lc
    perllibs=-lpthread -ldl -lm -lutil -lc
    libc=
    so=dylib
    useshrplib=true
    libperl=libperl.dylib
    gnulibc_version=''
  Dynamic Linking:
    dlsrc=dl_dlopen.xs
    dlext=bundle
    d_dlsymun=undef
    ccdlflags=' '
    cccdlflags=' '
    lddlflags=' -mmacosx-version-min=10.15 -bundle -undefined dynamic_lookup -L/usr/local/lib -fstack-protector-strong'


Characteristics of this binary (from libperl): 
  Compile-time options:
    HAS_TIMES
    MULTIPLICITY
    PERLIO_LAYERS
    PERL_COPY_ON_WRITE
    PERL_DONT_CREATE_GVSV
    PERL_IMPLICIT_CONTEXT
    PERL_MALLOC_WRAP
    PERL_OP_PARENT
    PERL_PRESERVE_IVUV
    PERL_USE_SAFE_PUTENV
    USE_64_BIT_ALL
    USE_64_BIT_INT
    USE_ITHREADS
    USE_LARGE_FILES
    USE_LOCALE
    USE_LOCALE_COLLATE
    USE_LOCALE_CTYPE
    USE_LOCALE_NUMERIC
    USE_LOCALE_TIME
    USE_PERLIO
    USE_PERL_ATOF
    USE_REENTRANT_API
    USE_THREAD_SAFE_LOCALE
  Built under darwin
  Compiled at Apr 16 2020 15:48:49
  %ENV:
    PERL5LIB="/Users/gintas/Projects/perl5/lib/perl5:/Users/gintas/perl5/lib/perl5"
    PERL5OPT=""
    PERL5_CPANPLUS_IS_RUNNING="3455"
    PERL5_CPAN_IS_RUNNING="3455"
    PERL_LOCAL_LIB_ROOT="/Users/gintas/Projects/perl5:/Users/gintas/perl5"
    PERL_MB_OPT="--install_base "/Users/gintas/Projects/perl5""
    PERL_MM_OPT="INSTALL_BASE=/Users/gintas/Projects/perl5"
    PERL_USE_UNSAFE_INC="1"
  @INC:
    /Users/gintas/Projects/perl5/lib/perl5/5.30.2/darwin-thread-multi-2level
    /Users/gintas/Projects/perl5/lib/perl5/5.30.2
    /Users/gintas/Projects/perl5/lib/perl5/darwin-thread-multi-2level
    /Users/gintas/Projects/perl5/lib/perl5
    /Users/gintas/perl5/lib/perl5
    /usr/local/Cellar/perl/5.30.2_1/lib/perl5/site_perl/5.30.2/darwin-thread-multi-2level
    /usr/local/Cellar/perl/5.30.2_1/lib/perl5/site_perl/5.30.2
    /usr/local/Cellar/perl/5.30.2_1/lib/perl5/5.30.2/darwin-thread-multi-2level
    /usr/local/Cellar/perl/5.30.2_1/lib/perl5/5.30.2
    /usr/local/lib/perl5/site_perl/5.30.2/darwin-thread-multi-2level
    /usr/local/lib/perl5/site_perl/5.30.2
    .