AnyEvent-ProcessPool v0.07 Perl 5 v5.26.1 amd64-freebsd

Status
Pass
From
Slaven Rezić (SREZIC)
Dist
AnyEvent-ProcessPool v0.07
Platform
Perl 5 v5.26.1 amd64-freebsd
Date
2017-12-01 20:49:49
ID
2c4e5cb2-d6d9-11e7-a8bb-c9da9d292e4b
This distribution has been tested as part of the CPAN Testers
project, supporting the Perl programming language.  See
http://wiki.cpantesters.org/ for more information or email
questions to cpan-testers-discuss@perl.org


--
Dear Jeff Ober,

This is a computer-generated report for AnyEvent-ProcessPool-0.07
on perl 5.26.1, created by CPAN-Reporter-1.2018.

Thank you for uploading your work to CPAN.  Congratulations!
All tests were successful.

Sections of this report:

    * Tester comments
    * Program output
    * Prerequisites
    * Environment and other context

------------------------------
TESTER COMMENTS
------------------------------

Additional comments from tester:

none provided

------------------------------
PROGRAM OUTPUT
------------------------------

Output from '/usr/bin/make test':

PERL_DL_NONLAZY=1 "/usr/perl5.26.1p/bin/perl5.26.1" "-MExtUtils::Command::MM" "-MTest::Harness" "-e" "undef *Test::Harness::Switches; test_harness(0, 'blib/lib', 'blib/arch')" t/*.t t/AnyEvent/*.t t/AnyEvent/ProcessPool/*.t
# 
# Versions for all modules listed in MYMETA.json (including optional ones):
# 
# === Configure Requires ===
# 
#     Module              Want Have
#     ------------------- ---- ----
#     ExtUtils::MakeMaker  any 7.30
# 
# === Build Requires ===
# 
#     Module              Want Have
#     ------------------- ---- ----
#     ExtUtils::MakeMaker  any 7.30
# 
# === Test Requires ===
# 
#     Module                  Want     Have
#     ----------------------- ---- --------
#     ExtUtils::MakeMaker      any     7.30
#     File::Spec               any     3.67
#     Test2::Bundle::Extended  any 0.000083
#     Test::More               any 1.302113
#     Test::Pod               1.41     1.51
# 
# === Test Recommends ===
# 
#     Module         Want     Have
#     ---------- -------- --------
#     CPAN::Meta 2.120900 2.150010
# 
# === Runtime Requires ===
# 
#     Module                  Want     Have
#     ----------------------- ---- --------
#     AnyEvent                7.14     7.14
#     AnyEvent::Open3::Simple 0.86     0.86
#     Carp                     any     1.42
#     Class::Load              any     0.24
#     Config                   any 5.026001
#     Data::Dump::Streamer     any     2.40
#     Data::UUID::MT           any    1.001
#     Exporter                 any     5.72
#     MIME::Base64             any     3.15
#     PadWalker                2.3      2.3
#     String::Escape           any 2010.002
#     Try::Catch               any    1.1.0
#     common::sense           3.74     3.74
#     parent                   any    0.236
# 
t/00-report-prereqs.t .............. ok
t/AnyEvent/ProcessPool.t ........... ok
t/AnyEvent/ProcessPool/Pipeline.t .. ok
t/AnyEvent/ProcessPool/Process.t ... ok
t/AnyEvent/ProcessPool/Task.t ...... ok
t/author-pod-syntax.t .............. skipped: these tests are for testing by the author
All tests successful.
Files=6, Tests=14,  4 wallclock secs ( 0.03 usr  0.02 sys +  1.79 cusr  0.58 csys =  2.41 CPU)
Result: PASS

------------------------------
PREREQUISITES
------------------------------

Prerequisite modules loaded:

requires:

    Module                  Need  Have    
    ----------------------- ----- --------
    AnyEvent                7.14  7.14    
    AnyEvent::Open3::Simple 0.86  0.86    
    Carp                    0     1.42    
    Class::Load             0     0.24    
    common::sense           3.74  3.74    
    Config                  0     5.026001
    Data::Dump::Streamer    0     2.40    
    Data::UUID::MT          0     1.001   
    Exporter                0     5.72    
    MIME::Base64            0     3.15    
    PadWalker               2.3   2.3     
    parent                  0     0.236   
    perl                    5.010 5.026001
    String::Escape          0     2010.002
    Try::Catch              0     1.1.0   

build_requires:

    Module                  Need  Have    
    ----------------------- ----- --------
    ExtUtils::MakeMaker     0     7.30    
    File::Spec              0     3.67    
    Test2::Bundle::Extended 0     0.000083
    Test::More              0     1.302113
    Test::Pod               1.41  1.51    

configure_requires:

    Module                  Need  Have    
    ----------------------- ----- --------
    ExtUtils::MakeMaker     0     7.30    


------------------------------
ENVIRONMENT AND OTHER CONTEXT
------------------------------

Environment variables:

    PATH = /usr/local/bin:/usr/bin:/bin:/usr/local/sbin:/usr/sbin:/sbin:/home/cpansand/bin/freebsd11.0:/home/cpansand/bin/sh:/home/cpansand/bin:/usr/games:/home/cpansand/devel:/home/eserte/src/srezic-misc/scripts
    PERL5LIB = /home/cpansand/.cpan/build/2017120203/Try-Catch-1.1.0-0/blib/arch:/home/cpansand/.cpan/build/2017120203/Try-Catch-1.1.0-0/blib/lib:/home/cpansand/.cpan/build/2017120203/Data-UUID-MT-1.001-0/blib/arch:/home/cpansand/.cpan/build/2017120203/Data-UUID-MT-1.001-0/blib/lib:/home/cpansand/.cpan/build/2017120203/Math-Random-MT-Auto-6.22-0/blib/arch:/home/cpansand/.cpan/build/2017120203/Math-Random-MT-Auto-6.22-0/blib/lib:/home/cpansand/.cpan/build/2017120203/Object-InsideOut-4.04-0/blib/arch:/home/cpansand/.cpan/build/2017120203/Object-InsideOut-4.04-0/blib/lib:/home/cpansand/.cpan/build/2017120203/AnyEvent-Open3-Simple-0.86-0/blib/arch:/home/cpansand/.cpan/build/2017120203/AnyEvent-Open3-Simple-0.86-0/blib/lib
    PERL5OPT = 
    PERL5_CPANPLUS_IS_RUNNING = 5280
    PERL5_CPAN_IS_RUNNING = 5280
    PERL5_CPAN_IS_RUNNING_IN_RECURSION = 5247,5280
    PERLDOC = -MPod::Perldoc::ToTextOverstrike
    PERL_BATCH = yes
    PERL_CANARY_STABILITY_NOPROMPT = 1
    PERL_CPAN_REPORTER_CONFIG = /var/tmp/cpansmoker-1023/2017120203/cpanreporter_000_config.ini
    PERL_EXTUTILS_AUTOINSTALL = --defaultdeps
    PERL_USE_UNSAFE_INC = 1
    SHELL = /usr/local/bin/zsh
    TERM = screen
    TMPDIR = /var/tmp/cpansmoker-1023/2017120203

Perl special variables (and OS-specific diagnostics, for MSWin32):

    $^X = /usr/perl5.26.1p/bin/perl5.26.1
    $UID/$EUID = 1023 / 1023
    $GID = 1023 1023
    $EGID = 1023 1023

Perl module toolchain versions installed:

    Module              Have    
    ------------------- --------
    CPAN                2.18    
    CPAN::Meta          2.150010
    Cwd                 3.67    
    ExtUtils::CBuilder  0.280230
    ExtUtils::Command   7.30    
    ExtUtils::Install   2.06    
    ExtUtils::MakeMaker 7.30    
    ExtUtils::Manifest  1.70    
    ExtUtils::ParseXS   3.34    
    File::Spec          3.67    
    JSON                2.94    
    JSON::PP            2.94    
    Module::Build       0.4224  
    Module::Signature   n/a     
    Parse::CPAN::Meta   2.150010
    Test::Harness       3.38    
    Test::More          1.302113
    YAML                1.23    
    YAML::Syck          1.30    
    version             0.9917  


--

Summary of my perl5 (revision 5 version 26 subversion 1) configuration:
   
  Platform:
    osname=freebsd
    osvers=11.1-release-p2
    archname=amd64-freebsd
    uname='freebsd ali2.bbbike.org 11.1-release-p2 freebsd 11.1-release-p2 #0 r313908+e96f1f21705(releng11.1)-dirty: thu oct 19 12:14:33 utc 2017 root@ali2.bbbike.org:usrobjhomeprojectsfreebsdsysgeneric amd64 '
    config_args='-ds -e -Dprefix=/usr/perl5.26.1p -Dcf_email=srezic@cpan.org -Doptimize=-O2 -pipe'
    hint=recommended
    useposix=true
    d_sigaction=define
    useithreads=undef
    usemultiplicity=undef
    use64bitint=define
    use64bitall=define
    uselongdouble=undef
    usemymalloc=n
    default_inc_excludes_dot=define
    bincompat5005=undef
  Compiler:
    cc='cc'
    ccflags ='-DHAS_FPSETMASK -DHAS_FLOATINGPOINT_H -fno-strict-aliasing -pipe -fstack-protector-strong -I/usr/local/include -D_FORTIFY_SOURCE=2'
    optimize='-O2 -pipe'
    cppflags='-DHAS_FPSETMASK -DHAS_FLOATINGPOINT_H -fno-strict-aliasing -pipe -fstack-protector-strong -I/usr/local/include'
    ccversion=''
    gccversion='4.2.1 Compatible FreeBSD Clang 4.0.0 (tags/RELEASE_400/final 297347)'
    gccosandvers=''
    intsize=4
    longsize=8
    ptrsize=8
    doublesize=8
    byteorder=12345678
    doublekind=3
    d_longlong=define
    longlongsize=8
    d_longdbl=define
    longdblsize=16
    longdblkind=3
    ivtype='long'
    ivsize=8
    nvtype='double'
    nvsize=8
    Off_t='off_t'
    lseeksize=8
    alignbytes=8
    prototype=define
  Linker and Libraries:
    ld='cc'
    ldflags ='-pthread -Wl,-E  -fstack-protector-strong -L/usr/local/lib'
    libpth=/usr/lib /usr/local/lib /usr/bin/../lib/clang/4.0.0/lib /usr/lib
    libs=-lpthread -lgdbm -lm -lcrypt -lutil -lc
    perllibs=-lpthread -lm -lcrypt -lutil -lc
    libc=
    so=so
    useshrplib=false
    libperl=libperl.a
    gnulibc_version=''
  Dynamic Linking:
    dlsrc=dl_dlopen.xs
    dlext=so
    d_dlsymun=undef
    ccdlflags=' '
    cccdlflags='-DPIC -fPIC'
    lddlflags='-shared  -L/usr/local/lib -fstack-protector-strong'


Characteristics of this binary (from libperl): 
  Compile-time options:
    HAS_TIMES
    PERLIO_LAYERS
    PERL_COPY_ON_WRITE
    PERL_DONT_CREATE_GVSV
    PERL_MALLOC_WRAP
    PERL_OP_PARENT
    PERL_PRESERVE_IVUV
    USE_64_BIT_ALL
    USE_64_BIT_INT
    USE_LARGE_FILES
    USE_LOCALE
    USE_LOCALE_COLLATE
    USE_LOCALE_CTYPE
    USE_LOCALE_NUMERIC
    USE_LOCALE_TIME
    USE_PERLIO
    USE_PERL_ATOF
  Built under freebsd
  Compiled at Oct 28 2017 07:46:07
  %ENV:
    PERL5LIB="/home/cpansand/.cpan/build/2017120203/Try-Catch-1.1.0-0/blib/arch:/home/cpansand/.cpan/build/2017120203/Try-Catch-1.1.0-0/blib/lib:/home/cpansand/.cpan/build/2017120203/Data-UUID-MT-1.001-0/blib/arch:/home/cpansand/.cpan/build/2017120203/Data-UUID-MT-1.001-0/blib/lib:/home/cpansand/.cpan/build/2017120203/Math-Random-MT-Auto-6.22-0/blib/arch:/home/cpansand/.cpan/build/2017120203/Math-Random-MT-Auto-6.22-0/blib/lib:/home/cpansand/.cpan/build/2017120203/Object-InsideOut-4.04-0/blib/arch:/home/cpansand/.cpan/build/2017120203/Object-InsideOut-4.04-0/blib/lib:/home/cpansand/.cpan/build/2017120203/AnyEvent-Open3-Simple-0.86-0/blib/arch:/home/cpansand/.cpan/build/2017120203/AnyEvent-Open3-Simple-0.86-0/blib/lib"
    PERL5OPT=""
    PERL5_CPANPLUS_IS_RUNNING="5280"
    PERL5_CPAN_IS_RUNNING="5280"
    PERL5_CPAN_IS_RUNNING_IN_RECURSION="5247,5280"
    PERLDOC="-MPod::Perldoc::ToTextOverstrike"
    PERL_BATCH="yes"
    PERL_CANARY_STABILITY_NOPROMPT="1"
    PERL_CPAN_REPORTER_CONFIG="/var/tmp/cpansmoker-1023/2017120203/cpanreporter_000_config.ini"
    PERL_EXTUTILS_AUTOINSTALL="--defaultdeps"
    PERL_USE_UNSAFE_INC="1"
  @INC:
    /home/cpansand/.cpan/build/2017120203/Try-Catch-1.1.0-0/blib/arch
    /home/cpansand/.cpan/build/2017120203/Try-Catch-1.1.0-0/blib/lib
    /home/cpansand/.cpan/build/2017120203/Data-UUID-MT-1.001-0/blib/arch
    /home/cpansand/.cpan/build/2017120203/Data-UUID-MT-1.001-0/blib/lib
    /home/cpansand/.cpan/build/2017120203/Math-Random-MT-Auto-6.22-0/blib/arch
    /home/cpansand/.cpan/build/2017120203/Math-Random-MT-Auto-6.22-0/blib/lib
    /home/cpansand/.cpan/build/2017120203/Object-InsideOut-4.04-0/blib/arch
    /home/cpansand/.cpan/build/2017120203/Object-InsideOut-4.04-0/blib/lib
    /home/cpansand/.cpan/build/2017120203/AnyEvent-Open3-Simple-0.86-0/blib/arch
    /home/cpansand/.cpan/build/2017120203/AnyEvent-Open3-Simple-0.86-0/blib/lib
    /usr/perl5.26.1p/lib/site_perl/5.26.1/amd64-freebsd
    /usr/perl5.26.1p/lib/site_perl/5.26.1
    /usr/perl5.26.1p/lib/5.26.1/amd64-freebsd
    /usr/perl5.26.1p/lib/5.26.1
    .