Alien-OpenSSL v0.15 Perl 5 v5.26.2 i386-freebsd-64int

Status
Pass
From
Chris Williams (BINGOS)
Dist
Alien-OpenSSL v0.15
Platform
Perl 5 v5.26.2 i386-freebsd-64int
Date
2024-02-11 01:23:33
ID
2c370cd8-c87c-11ee-98b0-b3c3213a625c
This distribution has been tested as part of the CPAN Testers
project, supporting the Perl programming language.  See
http://wiki.cpantesters.org/ for more information or email
questions to cpan-testers-discuss@perl.org


--

Dear Graham Ollis,

This is a computer-generated error report created automatically by
CPANPLUS, version 0.9914. Testers personal comments may appear
at the end of this report.


Thank you for uploading your work to CPAN.  Congratulations!
All tests were successful.

TEST RESULTS:

Below is the error stack from stage 'make test':

"/usr/home/cpan/pit/64bit/perl-5.26.2/bin/perl5.26.2" -MAlien::Build::MM=cmd -e test
Alien::Build::Plugin::PkgConfig::Negotiate> Using PkgConfig plugin: PkgConfig::CommandLine
Alien::Build::CommandSequence> + make test
make depend && make _tests
make run_tests
( SRCTOP=.  BLDTOP=.  PERL="/usr/home/cpan/pit/64bit/perl-5.26.2/bin/perl5.26.2"  FIPSKEY="f4556650ac31d35461610bac4ed81b1a181b2d8a43ea2854cbae22ca74560813"  EXE_EXT=  /usr/home/cpan/pit/64bit/perl-5.26.2/bin/perl5.26.2 ./test/run_tests.pl  )
00-prep_fipsmodule_cnf.t .. skipped: FIPS module config file only supported in a fips build
Files=1, Tests=0,  1 wallclock secs ( 0.02 usr  0.01 sys +  0.34 cusr  0.12 csys =  0.48 CPU)
Result: NOTESTS
01-test_abort.t ......................... ok
01-test_fipsmodule_cnf.t ................ skipped: Test only supported in a fips build
01-test_sanity.t ........................ ok
01-test_symbol_presence.t ............... ok
01-test_test.t .......................... ok
02-test_errstr.t ........................ ok
02-test_internal_context.t .............. ok
02-test_internal_ctype.t ................ ok
02-test_internal_exts.t ................. ok
02-test_internal_keymgmt.t .............. ok
02-test_internal_provider.t ............. ok
02-test_lhash.t ......................... ok
02-test_list.t .......................... ok
02-test_localetest.t .................... ok
02-test_ordinals.t ...................... ok
02-test_priority_queue.t ................ ok
02-test_sparse_array.t .................. ok
02-test_stack.t ......................... ok
02-test_time.t .......................... ok
03-test_exdata.t ........................ ok
03-test_fipsinstall.t ................... skipped: Test only supported in a fips build
03-test_internal_asn1.t ................. ok
03-test_internal_asn1_dsa.t ............. ok
03-test_internal_bn.t ................... ok
03-test_internal_chacha.t ............... ok
03-test_internal_curve448.t ............. ok
03-test_internal_ec.t ................... ok
03-test_internal_ffc.t .................. ok
03-test_internal_mdc2.t ................. ok
03-test_internal_modes.t ................ ok
03-test_internal_namemap.t .............. ok
03-test_internal_poly1305.t ............. ok
03-test_internal_rsa_sp800_56b.t ........ ok
03-test_internal_siphash.t .............. ok
03-test_internal_sm2.t .................. ok
03-test_internal_sm3.t .................. ok
03-test_internal_sm4.t .................. ok
03-test_internal_ssl_cert_table.t ....... ok
03-test_internal_x509.t ................. ok
03-test_params_api.t .................... ok
03-test_property.t ...................... ok
03-test_ui.t ............................ ok
04-test_asn1_decode.t ................... ok
04-test_asn1_encode.t ................... ok
04-test_asn1_parse.t .................... ok
04-test_asn1_stable_parse.t ............. ok
04-test_asn1_string_table.t ............. ok
04-test_bio_callback.t .................. ok
04-test_bio_core.t ...................... ok
04-test_bio_dgram.t ..................... ok
04-test_bio_tfo.t ....................... skipped: This test requires enable-tfo
04-test_bioprint.t ...................... ok
04-test_conf.t .......................... ok
04-test_encoder_decoder.t ............... ok
04-test_encoder_decoder_legacy.t ........ ok
04-test_err.t ........................... ok
04-test_hexstring.t ..................... ok
04-test_membio.t ........................ ok
04-test_nodefltctx.t .................... ok
04-test_param_build.t ................... ok
04-test_params.t ........................ ok
04-test_params_conversion.t ............. ok
04-test_pem_read_depr.t ................. ok
04-test_pem_reading.t ................... ok
04-test_provfetch.t ..................... ok
04-test_provider.t ...................... ok
04-test_provider_default_search_path.t .. ok
04-test_provider_fallback.t ............. ok
04-test_provider_pkey.t ................. ok
04-test_punycode.t ...................... ok
04-test_upcalls.t ....................... ok
05-test_bf.t ............................ ok
05-test_cast.t .......................... ok
05-test_cmac.t .......................... ok
05-test_des.t ........................... ok
05-test_hmac.t .......................... ok
05-test_idea.t .......................... ok
05-test_pbe.t ........................... ok
05-test_rand.t .......................... ok
05-test_rc2.t ........................... ok
05-test_rc4.t ........................... ok
05-test_rc5.t ........................... skipped: rc5 is not supported by this OpenSSL build
06-test_algorithmid.t ................... ok
06-test_rdcpu_sanity.t .................. ok
07-test_bio_comp.t ...................... skipped: No compression algorithms
10-test_bn.t ............................ ok
10-test_exp.t ........................... ok
15-test_dh.t ............................ ok
15-test_dsa.t ........................... ok
15-test_dsaparam.t ...................... ok
15-test_ec.t ............................ ok
15-test_ecdsa.t ......................... ok
15-test_ecparam.t ....................... ok
15-test_gendh.t ......................... ok
15-test_gendhparam.t .................... ok
15-test_gendsa.t ........................ ok
15-test_genec.t ......................... ok
15-test_genpkey.t ....................... ok
15-test_genrsa.t ........................ ok
15-test_gensm2.t ........................ ok
15-test_mp_rsa.t ........................ ok
15-test_out_option.t .................... ok
15-test_rsa.t ........................... ok
15-test_rsaoaep.t ....................... ok
15-test_rsapss.t ........................ ok
15-test_rsax931.t ....................... ok
15-test_sha.t ........................... ok
20-test_app.t ........................... ok
20-test_cli_fips.t ...................... skipped: Test only supported in a fips build with security checks
20-test_dgst.t .......................... ok
20-test_dhparam.t ....................... ok
20-test_dhparam_check.t ................. ok
20-test_enc.t ........................... ok
20-test_enc_more.t ...................... ok
20-test_kdf.t ........................... ok
20-test_legacy_okay.t ................... ok
20-test_mac.t ........................... ok
20-test_passwd.t ........................ ok
20-test_pkeyutl.t ....................... ok
20-test_rand_config.t ................... ok
20-test_spkac.t ......................... ok
25-test_crl.t ........................... ok
25-test_d2i.t ........................... ok
25-test_eai_data.t ...................... ok
25-test_pkcs7.t ......................... ok
25-test_pkcs8.t ......................... ok
25-test_req.t ........................... ok
25-test_rusext.t ........................ ok
25-test_sid.t ........................... ok
25-test_verify.t ........................ ok
25-test_verify_store.t .................. ok
25-test_x509.t .......................... ok
30-test_acvp.t .......................... skipped: ACVP is not supported by this test
30-test_aesgcm.t ........................ ok
30-test_afalg.t ......................... skipped: test_afalg not supported for this build
30-test_defltfips.t ..................... ok
30-test_engine.t ........................ ok
30-test_evp.t ........................... ok
30-test_evp_extra.t ..................... ok
30-test_evp_fetch_prov.t ................ ok
30-test_evp_kdf.t ....................... ok
30-test_evp_libctx.t .................... ok
30-test_evp_pkey_dhkem.t ................ ok
30-test_evp_pkey_dparam.t ............... ok
30-test_evp_pkey_provided.t ............. ok
30-test_hpke.t .......................... ok
30-test_pairwise_fail.t ................. skipped: These tests are unsupported in a non fips build
30-test_pbelu.t ......................... ok
30-test_pkey_meth.t ..................... ok
30-test_pkey_meth_kdf.t ................. ok
30-test_prov_config.t ................... ok
30-test_provider_status.t ............... ok
40-test_rehash.t ........................ ok
60-test_x509_check_cert_pkey.t .......... ok
60-test_x509_dup_cert.t ................. ok
60-test_x509_load_cert_file.t ........... ok
60-test_x509_store.t .................... ok
60-test_x509_time.t ..................... ok
61-test_bio_addr.t ...................... ok
61-test_bio_prefix.t .................... ok
61-test_bio_readbuffer.t ................ ok
65-test_cmp_asn.t ....................... ok
65-test_cmp_client.t .................... ok
65-test_cmp_ctx.t ....................... ok
65-test_cmp_hdr.t ....................... ok
65-test_cmp_msg.t ....................... ok
65-test_cmp_protect.t ................... ok
65-test_cmp_server.t .................... ok
65-test_cmp_status.t .................... ok
65-test_cmp_vfy.t ....................... ok
66-test_ossl_store.t .................... ok
70-test_asyncio.t ....................... ok
70-test_bad_dtls.t ...................... ok
70-test_certtypeext.t ................... ok
70-test_clienthello.t ................... ok
70-test_comp.t .......................... ok
70-test_key_share.t ..................... ok
70-test_packet.t ........................ ok
70-test_quic_cfq.t ...................... ok
70-test_quic_fc.t ....................... ok
70-test_quic_fifd.t ..................... ok
70-test_quic_multistream.t .............. ok
70-test_quic_record.t ................... ok
70-test_quic_stream.t ................... ok
70-test_quic_tserver.t .................. ok
70-test_quic_txp.t ...................... ok
70-test_quic_txpim.t .................... ok
70-test_quic_wire.t ..................... ok
70-test_recordlen.t ..................... ok
70-test_renegotiation.t ................. ok
70-test_servername.t .................... ok
70-test_sslcbcpadding.t ................. ok
70-test_sslcertstatus.t ................. ok
70-test_sslextension.t .................. ok
70-test_sslmessages.t ................... ok
70-test_sslrecords.t .................... ok
70-test_sslsessiontick.t ................ ok
70-test_sslsigalgs.t .................... ok
70-test_sslsignature.t .................. ok
70-test_sslskewith0p.t .................. ok
70-test_sslversions.t ................... ok
70-test_sslvertol.t ..................... ok
70-test_tls13alerts.t ................... ok
70-test_tls13certcomp.t ................. skipped: test_tls13certcomp needs compression and algorithms enabled
70-test_tls13cookie.t ................... ok
70-test_tls13downgrade.t ................ ok
70-test_tls13hrr.t ...................... ok
70-test_tls13kexmodes.t ................. ok
70-test_tls13messages.t ................. ok
70-test_tls13psk.t ...................... ok
70-test_tlsextms.t ...................... ok
70-test_verify_extra.t .................. ok
70-test_wpacket.t ....................... ok
71-test_ssl_ctx.t ....................... ok
75-test_quic_ackm.t ..................... ok
75-test_quic_cc.t ....................... ok
75-test_quicapi.t ....................... ok
79-test_http.t .......................... ok
80-test_ca.t ............................ ok
80-test_ca_internals.t .................. ok
80-test_cipherbytes.t ................... ok
80-test_cipherlist.t .................... ok
80-test_ciphername.t .................... ok
80-test_cmp_http.t ...................... ok
80-test_cms.t ........................... ok
80-test_cmsapi.t ........................ ok
80-test_ct.t ............................ ok
80-test_dane.t .......................... ok
80-test_dtls.t .......................... ok
80-test_dtls_mtu.t ...................... ok
80-test_dtlsv1listen.t .................. ok
80-test_ocsp.t .......................... ok
80-test_pkcs12.t ........................ ok
80-test_policy_tree.t ................... ok
80-test_ssl_new.t ....................... ok
80-test_ssl_old.t ....................... ok
80-test_ssl_test_ctx.t .................. ok
80-test_sslcorrupt.t .................... ok
80-test_tsa.t ........................... ok
80-test_x509aux.t ....................... ok
81-test_cmp_cli.t ....................... ok
82-test_tfo_cli.t ....................... skipped: test_tfo_cli needs tfo enabled
90-test_asn1_time.t ..................... ok
90-test_async.t ......................... ok
90-test_bio_enc.t ....................... ok
90-test_bio_memleak.t ................... ok
90-test_cert_comp.t ..................... skipped: Certificate compression is disabled in this OpenSSL build
90-test_constant_time.t ................. ok
90-test_fatalerr.t ...................... ok
90-test_fipsload.t ...................... skipped: Test is disabled with disabled fips
90-test_gmdiff.t ........................ ok
90-test_ige.t ........................... ok
90-test_includes.t ...................... ok
90-test_memleak.t ....................... ok
90-test_overhead.t ...................... ok
90-test_quicfaults.t .................... ok
90-test_rpk.t ........................... ok
90-test_secmem.t ........................ ok
90-test_shlibload.t ..................... ok
90-test_srp.t ........................... ok
90-test_sslapi.t ........................ ok
90-test_sslbuffers.t .................... ok
90-test_store.t ......................... ok
90-test_store_cases.t ................... ok
90-test_sysdefault.t .................... ok
90-test_threads.t ....................... ok
90-test_time_offset.t ................... ok
90-test_tls13ccs.t ...................... ok
90-test_tls13encryption.t ............... ok
90-test_tls13secrets.t .................. ok
90-test_trace_api.t ..................... ok
90-test_v3name.t ........................ ok
91-test_pkey_check.t .................... ok
95-test_external_cf_quiche.t ............ skipped: No external tests in this configuration
95-test_external_gost_engine.t .......... skipped: No external tests in this configuration
95-test_external_krb5.t ................. skipped: No external tests in this configuration
95-test_external_oqsprovider.t .......... skipped: No external tests in this configuration
95-test_external_pyca.t ................. skipped: No external tests in this configuration
95-test_external_tlsfuzzer.t ............ skipped: No external tests in this configuration
99-test_ecstress.t ...................... ok
99-test_fuzz_asn1.t ..................... ok
99-test_fuzz_asn1parse.t ................ ok
99-test_fuzz_bignum.t ................... ok
99-test_fuzz_bndiv.t .................... ok
99-test_fuzz_client.t ................... ok
99-test_fuzz_cmp.t ...................... ok
99-test_fuzz_cms.t ...................... ok
99-test_fuzz_conf.t ..................... ok
99-test_fuzz_crl.t ...................... ok
99-test_fuzz_ct.t ....................... ok
99-test_fuzz_decoder.t .................. ok
99-test_fuzz_pem.t ...................... ok
99-test_fuzz_punycode.t ................. ok
99-test_fuzz_quic_client.t .............. ok
99-test_fuzz_server.t ................... ok
99-test_fuzz_smime.t .................... ok
99-test_fuzz_v3name.t ................... ok
99-test_fuzz_x509.t ..................... ok
All tests successful.
Files=298, Tests=3577, 1467 wallclock secs (13.16 usr  8.27 sys + 1122.80 cusr 250.59 csys = 1394.82 CPU)
Result: PASS
PERL_DL_NONLAZY=1 "/usr/home/cpan/pit/64bit/perl-5.26.2/bin/perl5.26.2" "-MExtUtils::Command::MM" "-MTest::Harness" "-e" "undef *Test::Harness::Switches; test_harness(0, 'blib/lib', 'blib/arch')" t/*.t
# 
# 
# 
# HARNESS_ACTIVE=1
# HARNESS_VERSION=3.48
# PERL5LIB=/usr/home/cpan/pit/64bit/conf/perl-5.26.2/.cpanplus/5.26.2/build/hRwRcigaWs/Alien-OpenSSL-0.15/blib/lib:/usr/home/cpan/pit/64bit/conf/perl-5.26.2/.cpanplus/5.26.2/build/hRwRcigaWs/Alien-OpenSSL-0.15/blib/arch:/usr/home/cpan/pit/jail/cgr_zxmjSM/lib/perl5/5.26.2/i386-freebsd-64int:/usr/home/cpan/pit/jail/cgr_zxmjSM/lib/perl5/5.26.2:/usr/home/cpan/pit/jail/cgr_zxmjSM/lib/perl5/i386-freebsd-64int:/usr/home/cpan/pit/jail/cgr_zxmjSM/lib/perl5:/usr/home/cpan/pit/jail/cgr_zxmjSM/lib/perl5:/usr/home/cpan/pit/64bit/conf/perl-5.26.2/.cpanplus/5.26.2/build/hRwRcigaWs/Alien-OpenSSL-0.15/blib/lib:/usr/home/cpan/pit/64bit/conf/perl-5.26.2/.cpanplus/5.26.2/build/hRwRcigaWs/Alien-OpenSSL-0.15/blib/arch
# PERL5_CPANPLUS_IS_RUNNING=52429
# PERL5_CPANPLUS_IS_VERSION=0.9914
# PERL5_MINISMOKEBOX=0.68
# PERL5_YACSMOKE_BASE=/usr/home/cpan/pit/64bit/conf/perl-5.26.2
# PERL_DL_NONLAZY=1
# PERL_EXTUTILS_AUTOINSTALL=--defaultdeps
# PERL_LOCAL_LIB_ROOT=/usr/home/cpan/pit/jail/cgr_zxmjSM
# PERL_MB_OPT=--install_base "/usr/home/cpan/pit/jail/cgr_zxmjSM"
# PERL_MM_OPT=INSTALL_BASE=/usr/home/cpan/pit/jail/cgr_zxmjSM
# PERL_MM_USE_DEFAULT=1
# PERL_USE_UNSAFE_INC=0
# SHELL=/usr/local/bin/bash
# 
# 
# 
# PERL5LIB path
# /usr/home/cpan/pit/64bit/conf/perl-5.26.2/.cpanplus/5.26.2/build/hRwRcigaWs/Alien-OpenSSL-0.15/blib/lib
# /usr/home/cpan/pit/64bit/conf/perl-5.26.2/.cpanplus/5.26.2/build/hRwRcigaWs/Alien-OpenSSL-0.15/blib/arch
# /usr/home/cpan/pit/jail/cgr_zxmjSM/lib/perl5/5.26.2/i386-freebsd-64int
# /usr/home/cpan/pit/jail/cgr_zxmjSM/lib/perl5/5.26.2
# /usr/home/cpan/pit/jail/cgr_zxmjSM/lib/perl5/i386-freebsd-64int
# /usr/home/cpan/pit/jail/cgr_zxmjSM/lib/perl5
# /usr/home/cpan/pit/jail/cgr_zxmjSM/lib/perl5
# /usr/home/cpan/pit/64bit/conf/perl-5.26.2/.cpanplus/5.26.2/build/hRwRcigaWs/Alien-OpenSSL-0.15/blib/lib
# /usr/home/cpan/pit/64bit/conf/perl-5.26.2/.cpanplus/5.26.2/build/hRwRcigaWs/Alien-OpenSSL-0.15/blib/arch
# 
# 
# 
# perl                                   5.026002 freebsd i386-freebsd-64int
# Alien::Base                            2.80
# Alien::Build                           2.80
# Alien::Build::MM                       2.80
# Alien::Build::Plugin::Build::SearchDep 2.80
# ExtUtils::MakeMaker                    7.70
# Path::Tiny                             0.144
# Test2::V0                              0.000159
# Test::Alien                            2.80
# Test::Alien::Diag                      2.80
# 
# 
# 
t/00_diag.t ........ ok
# 
# 
# 
# Alien::OpenSSL->cflags        = -I/usr/home/cpan/pit/64bit/conf/perl-5.26.2/.cpanplus/5.26.2/build/hRwRcigaWs/Alien-OpenSSL-0.15/blib/lib/auto/share/dist/Alien-OpenSSL/include
# Alien::OpenSSL->cflags_static = -I/usr/home/cpan/pit/64bit/conf/perl-5.26.2/.cpanplus/5.26.2/build/hRwRcigaWs/Alien-OpenSSL-0.15/blib/lib/auto/share/dist/Alien-OpenSSL/include
# Alien::OpenSSL->install_type  = share
# Alien::OpenSSL->libs          = -L/usr/home/cpan/pit/64bit/conf/perl-5.26.2/.cpanplus/5.26.2/build/hRwRcigaWs/Alien-OpenSSL-0.15/blib/lib/auto/share/dist/Alien-OpenSSL/lib -lssl -lcrypto -pthread
# Alien::OpenSSL->libs_static   = -L/usr/home/cpan/pit/64bit/conf/perl-5.26.2/.cpanplus/5.26.2/build/hRwRcigaWs/Alien-OpenSSL-0.15/blib/lib/auto/share/dist/Alien-OpenSSL/lib -lssl -L/usr/home/cpan/pit/64bit/conf/perl-5.26.2/.cpanplus/5.26.2/build/hRwRcigaWs/Alien-OpenSSL-0.15/blib/lib/auto/share/dist/Alien-OpenSSL/lib -lcrypto -pthread
# Alien::OpenSSL->version       = 3.2.1
# Alien::OpenSSL->bin_dir       = /usr/home/cpan/pit/64bit/conf/perl-5.26.2/.cpanplus/5.26.2/build/hRwRcigaWs/Alien-OpenSSL-0.15/blib/lib/auto/share/dist/Alien-OpenSSL/bin
# Alien::OpenSSL->dynamic_libs  = /usr/home/cpan/pit/64bit/conf/perl-5.26.2/.cpanplus/5.26.2/build/hRwRcigaWs/Alien-OpenSSL-0.15/blib/lib/auto/share/dist/Alien-OpenSSL/dynamic/libcrypto.so
# Alien::OpenSSL->dynamic_libs  = /usr/home/cpan/pit/64bit/conf/perl-5.26.2/.cpanplus/5.26.2/build/hRwRcigaWs/Alien-OpenSSL-0.15/blib/lib/auto/share/dist/Alien-OpenSSL/dynamic/libcrypto.so.3
# Alien::OpenSSL->dynamic_libs  = /usr/home/cpan/pit/64bit/conf/perl-5.26.2/.cpanplus/5.26.2/build/hRwRcigaWs/Alien-OpenSSL-0.15/blib/lib/auto/share/dist/Alien-OpenSSL/dynamic/libssl.so
# Alien::OpenSSL->dynamic_libs  = /usr/home/cpan/pit/64bit/conf/perl-5.26.2/.cpanplus/5.26.2/build/hRwRcigaWs/Alien-OpenSSL-0.15/blib/lib/auto/share/dist/Alien-OpenSSL/dynamic/libssl.so.3
# 
# 
t/alien_openssl.t .. ok
All tests successful.
Files=2, Tests=4,  7 wallclock secs ( 0.05 usr  0.02 sys +  1.59 cusr  0.90 csys =  2.56 CPU)
Result: PASS


PREREQUISITES:

Here is a list of prerequisites you specified and versions we
managed to load:

	  Module Name                        Have     Want
	  Alien::Base                        2.80    0.038
	  Alien::Build                       2.80     0.25
	  Alien::Build::MM                   2.80     0.32
	  Alien::Build::Plugin::Gather::IsolateDynamic     2.80     0.48
	  Archive::Tar                       3.02        0
	  ExtUtils::MakeMaker                7.70     6.52
	  IO::Zlib                           1.14        0
	  Mojo::DOM58                       3.001     1.00
	  Sort::Versions                     1.62        0
	  Test2::V0                      0.000159 0.000121
	  Test::Alien                        2.80        0
	  Test::Alien::Diag                  2.80        0
	  Test::More                     1.302198     0.96
	  Text::Template                     1.61        0
	  URI                                5.26        0
	  URI::Escape                        5.26        0
	  base                               2.26        0
	  strict                             1.11        0
	  warnings                           1.37        0

Perl module toolchain versions installed:
	Module Name                        Have
	CPANPLUS                         0.9914
	CPANPLUS::Dist::Build              0.90
	Cwd                                3.75
	ExtUtils::CBuilder             0.280236
	ExtUtils::Command                  7.70
	ExtUtils::Install                  2.22
	ExtUtils::MakeMaker                7.70
	ExtUtils::Manifest                 1.75
	ExtUtils::ParseXS                  3.51
	File::Spec                         3.75
	Module::Build                    0.4234
	Pod::Parser                        1.63
	Pod::Simple                        3.35
	Test2                          1.302198
	Test::Harness                      3.48
	Test::More                     1.302198
	version                          0.9930

******************************** NOTE ********************************
The comments above are created mechanically, possibly without manual
checking by the sender.  As there are many people performing automatic
tests on each upload to CPAN, it is likely that you will receive
identical messages about the same problem.

If you believe that the message is mistaken, please reply to the first
one with correction and/or additional informations, and do not take
it personally.  We appreciate your patience. :)
**********************************************************************

Additional comments:


This report was machine-generated by CPANPLUS::Dist::YACSmoke 1.08.
Powered by minismokebox version 0.68

CPANPLUS is prefering Build.PL

------------------------------
ENVIRONMENT AND OTHER CONTEXT
------------------------------

Environment variables:

    AUTOMATED_TESTING = 1
    NONINTERACTIVE_TESTING = 1
    PATH = /sbin:/bin:/usr/sbin:/usr/bin:/usr/local/sbin:/usr/local/bin:/home/cpan/bin
    PERL5LIB = /usr/home/cpan/pit/jail/cgr_zxmjSM/lib/perl5:/usr/home/cpan/pit/64bit/conf/perl-5.26.2/.cpanplus/5.26.2/build/hRwRcigaWs/Alien-OpenSSL-0.15/blib/lib:/usr/home/cpan/pit/64bit/conf/perl-5.26.2/.cpanplus/5.26.2/build/hRwRcigaWs/Alien-OpenSSL-0.15/blib/arch
    PERL5_CPANPLUS_IS_RUNNING = 52429
    PERL5_CPANPLUS_IS_VERSION = 0.9914
    PERL5_MINISMOKEBOX = 0.68
    PERL5_YACSMOKE_BASE = /usr/home/cpan/pit/64bit/conf/perl-5.26.2
    PERL_EXTUTILS_AUTOINSTALL = --defaultdeps
    PERL_LOCAL_LIB_ROOT = /usr/home/cpan/pit/jail/cgr_zxmjSM
    PERL_MB_OPT = --install_base "/usr/home/cpan/pit/jail/cgr_zxmjSM"
    PERL_MM_OPT = INSTALL_BASE=/usr/home/cpan/pit/jail/cgr_zxmjSM
    PERL_MM_USE_DEFAULT = 1
    SHELL = /usr/local/bin/bash
    TERM = screen

Perl special variables (and OS-specific diagnostics, for MSWin32):

    Perl: $^X = /usr/home/cpan/pit/64bit/perl-5.26.2/bin/perl5.26.2
    UID:  $<  = 1002
    EUID: $>  = 1002
    GID:  $(  = 1002 1002
    EGID: $)  = 1002 1002


-------------------------------


--

Summary of my perl5 (revision 5 version 26 subversion 2) configuration:
   
  Platform:
    osname=freebsd
    osvers=12.4-release
    archname=i386-freebsd-64int
    uname='freebsd ffyrc 12.4-release freebsd 12.4-release r372781 generic i386 '
    config_args='-des -Dprefix=/usr/home/cpan/pit/64bit/perl-5.26.2 -Duse64bitint'
    hint=recommended
    useposix=true
    d_sigaction=define
    useithreads=undef
    usemultiplicity=undef
    use64bitint=define
    use64bitall=undef
    uselongdouble=undef
    usemymalloc=n
    default_inc_excludes_dot=define
    bincompat5005=undef
  Compiler:
    cc='cc'
    ccflags ='-DHAS_FPSETMASK -DHAS_FLOATINGPOINT_H -fno-strict-aliasing -pipe -fstack-protector-strong -I/usr/local/include'
    optimize='-O2'
    cppflags='-DHAS_FPSETMASK -DHAS_FLOATINGPOINT_H -fno-strict-aliasing -pipe -fstack-protector-strong -I/usr/local/include'
    ccversion=''
    gccversion='FreeBSD Clang 13.0.0 (git@github.com:llvm/llvm-project.git llvmorg-13.0.0-0-gd7b669b3a303)'
    gccosandvers=''
    intsize=4
    longsize=4
    ptrsize=4
    doublesize=8
    byteorder=12345678
    doublekind=3
    d_longlong=define
    longlongsize=8
    d_longdbl=define
    longdblsize=12
    longdblkind=3
    ivtype='long long'
    ivsize=8
    nvtype='double'
    nvsize=8
    Off_t='off_t'
    lseeksize=8
    alignbytes=4
    prototype=define
  Linker and Libraries:
    ld='cc'
    ldflags ='-Wl,-E  -fstack-protector-strong -L/usr/local/lib'
    libpth=/usr/lib /usr/local/lib /usr/lib/clang/13.0.0/lib /usr/lib
    libs=-lpthread -lgdbm -ldl -lm -lcrypt -lutil -lc
    perllibs=-lpthread -ldl -lm -lcrypt -lutil -lc
    libc=
    so=so
    useshrplib=false
    libperl=libperl.a
    gnulibc_version=''
  Dynamic Linking:
    dlsrc=dl_dlopen.xs
    dlext=so
    d_dlsymun=undef
    ccdlflags=' '
    cccdlflags='-DPIC -fPIC'
    lddlflags='-shared  -L/usr/local/lib -fstack-protector-strong'


Characteristics of this binary (from libperl): 
  Compile-time options:
    HAS_TIMES
    PERLIO_LAYERS
    PERL_COPY_ON_WRITE
    PERL_DONT_CREATE_GVSV
    PERL_MALLOC_WRAP
    PERL_OP_PARENT
    PERL_PRESERVE_IVUV
    USE_64_BIT_INT
    USE_LARGE_FILES
    USE_LOCALE
    USE_LOCALE_COLLATE
    USE_LOCALE_CTYPE
    USE_LOCALE_NUMERIC
    USE_LOCALE_TIME
    USE_PERLIO
    USE_PERL_ATOF
  Locally applied patches:
    Devel::PatchPerl 2.08
  Built under freebsd
  Compiled at Apr  7 2023 02:12:37
  %ENV:
    PERL5LIB="/usr/home/cpan/pit/jail/cgr_zxmjSM/lib/perl5:/usr/home/cpan/pit/64bit/conf/perl-5.26.2/.cpanplus/5.26.2/build/hRwRcigaWs/Alien-OpenSSL-0.15/blib/lib:/usr/home/cpan/pit/64bit/conf/perl-5.26.2/.cpanplus/5.26.2/build/hRwRcigaWs/Alien-OpenSSL-0.15/blib/arch"
    PERL5_CPANPLUS_IS_RUNNING="52429"
    PERL5_CPANPLUS_IS_VERSION="0.9914"
    PERL5_MINISMOKEBOX="0.68"
    PERL5_YACSMOKE_BASE="/usr/home/cpan/pit/64bit/conf/perl-5.26.2"
    PERL_EXTUTILS_AUTOINSTALL="--defaultdeps"
    PERL_LOCAL_LIB_ROOT="/usr/home/cpan/pit/jail/cgr_zxmjSM"
    PERL_MB_OPT="--install_base "/usr/home/cpan/pit/jail/cgr_zxmjSM""
    PERL_MM_OPT="INSTALL_BASE=/usr/home/cpan/pit/jail/cgr_zxmjSM"
    PERL_MM_USE_DEFAULT="1"
  @INC:
    /usr/home/cpan/pit/jail/cgr_zxmjSM/lib/perl5/5.26.2/i386-freebsd-64int
    /usr/home/cpan/pit/jail/cgr_zxmjSM/lib/perl5/5.26.2
    /usr/home/cpan/pit/jail/cgr_zxmjSM/lib/perl5/i386-freebsd-64int
    /usr/home/cpan/pit/jail/cgr_zxmjSM/lib/perl5
    /usr/home/cpan/pit/64bit/conf/perl-5.26.2/.cpanplus/5.26.2/build/hRwRcigaWs/Alien-OpenSSL-0.15/blib/lib
    /usr/home/cpan/pit/64bit/conf/perl-5.26.2/.cpanplus/5.26.2/build/hRwRcigaWs/Alien-OpenSSL-0.15/blib/arch
    /usr/home/cpan/pit/64bit/perl-5.26.2/lib/site_perl/5.26.2/i386-freebsd-64int
    /usr/home/cpan/pit/64bit/perl-5.26.2/lib/site_perl/5.26.2
    /usr/home/cpan/pit/64bit/perl-5.26.2/lib/5.26.2/i386-freebsd-64int
    /usr/home/cpan/pit/64bit/perl-5.26.2/lib/5.26.2