PerlIO-utf8_strict v0.007 Perl 5 v5.20.3 OpenBSD.amd64-openbsd-multi

Status
Pass
From
Nigel Horne
Dist
PerlIO-utf8_strict v0.007
Platform
Perl 5 v5.20.3 OpenBSD.amd64-openbsd-multi
Date
2018-03-24 01:25:00
ID
2bf57a58-2f02-11e8-91ce-d3e3deac0b3f
This distribution has been tested as part of the CPAN Testers
project, supporting the Perl programming language.  See
http://wiki.cpantesters.org/ for more information or email
questions to cpan-testers-discuss@perl.org


--
Dear Leon Timmermans,

This is a computer-generated report for PerlIO-utf8_strict-0.007
on perl 5.20.3, created by CPAN-Reporter-1.2018.

Thank you for uploading your work to CPAN.  Congratulations!
All tests were successful.

Sections of this report:

    * Tester comments
    * Program output
    * Prerequisites
    * Environment and other context

------------------------------
TESTER COMMENTS
------------------------------

Additional comments from tester:

this report is from an automated smoke testing program
and was not reviewed by a human for accuracy

------------------------------
PROGRAM OUTPUT
------------------------------

Output from '/usr/bin/make test':

"/home/njh/perl5/perlbrew/perls/perl-5.20.3-multi/bin/perl5.20.3" -MExtUtils::Command::MM -e 'cp_nonempty' -- utf8_strict.bs blib/arch/auto/PerlIO/utf8_strict/utf8_strict.bs 644
PERL_DL_NONLAZY=1 "/home/njh/perl5/perlbrew/perls/perl-5.20.3-multi/bin/perl5.20.3" "-MExtUtils::Command::MM" "-MTest::Harness" "-e" "undef *Test::Harness::Switches; test_harness(0, 'blib/lib', 'blib/arch')" t/*.t
t/basics.t ............. ok
t/bug.t ................ ok
t/incomplete.t ......... ok
t/non-shortest-form.t .. ok
t/noncharacters.t ...... ok
t/super.t .............. ok
t/surrogates.t ......... ok
t/unicode.t ............ ok
All tests successful.
Files=8, Tests=5816, 14 wallclock secs ( 2.93 usr  0.30 sys +  8.47 cusr  3.08 csys = 14.78 CPU)
Result: PASS

------------------------------
PREREQUISITES
------------------------------

Prerequisite modules loaded:

requires:

    Module                Need  Have    
    --------------------- ----- --------
    perl                  5.008 5.020003
    strict                0     1.08    
    warnings              0     1.23    
    XSLoader              0     0.24    

build_requires:

    Module                Need  Have    
    --------------------- ----- --------
    Carp                  0     1.3301  
    Exporter              0     5.71    
    ExtUtils::MakeMaker   0     7.30    
    File::Spec::Functions 0     3.62    
    IO::File              0     1.16    
    IO::Handle            0     1.35    
    lib                   0     0.63    
    Test::Exception       0     0.43    
    Test::More            0.88  1.302130
    utf8                  0     1.13_01 

configure_requires:

    Module                Need  Have    
    --------------------- ----- --------
    ExtUtils::MakeMaker   0     7.30    
    perl                  5.006 5.020003


------------------------------
ENVIRONMENT AND OTHER CONTEXT
------------------------------

Environment variables:

    AUTOMATED_TESTING = 1
    PATH = /home/njh/perl5/perlbrew/bin:/home/njh/perl5/perlbrew/perls/perl-5.20.3-multi/bin:src/njh/smoker/bin:/usr/bin:/bin:/usr/sbin:/sbin:/usr/X11R6/bin:/usr/local/bin:/usr/local/sbin
    PERL5LIB = /home/njh/.cpan/build/CPAN-Uploader-0.103013-6/blib/arch:/home/njh/.cpan/build/CPAN-Uploader-0.103013-6/blib/lib:/home/njh/.cpan/build/TermReadKey-2.37-18/blib/arch:/home/njh/.cpan/build/TermReadKey-2.37-18/blib/lib:/home/njh/.cpan/build/LWP-Protocol-https-6.07-15/blib/arch:/home/njh/.cpan/build/LWP-Protocol-https-6.07-15/blib/lib:/home/njh/.cpan/build/IO-Socket-SSL-2.056-23/blib/arch:/home/njh/.cpan/build/IO-Socket-SSL-2.056-23/blib/lib:/home/njh/.cpan/build/Net-SSLeay-1.85-23/blib/arch:/home/njh/.cpan/build/Net-SSLeay-1.85-23/blib/lib:/home/njh/.cpan/build/Mozilla-CA-20180117-23/blib/arch:/home/njh/.cpan/build/Mozilla-CA-20180117-23/blib/lib:/home/njh/.cpan/build/Log-Log4perl-1.49-11/blib/arch:/home/njh/.cpan/build/Log-Log4perl-1.49-11/blib/lib:/home/njh/.cpan/build/App-Cmd-0.331-7/blib/arch:/home/njh/.cpan/build/App-Cmd-0.331-7/blib/lib:/home/njh/.cpan/build/String-RewritePrefix-0.007-7/blib/arch:/home/njh/.cpan/build/String-RewritePrefix-0.007-7/blib/lib:/home/njh/.cpan/build/IO-TieCombine-1.005-7/blib/arch:/home/njh/.cpan/build/IO-TieCombine-1.005-7/blib/lib
    PERL5OPT = 
    PERL5_CPANPLUS_IS_RUNNING = 17943
    PERL5_CPAN_IS_RUNNING = 17943
    PERLBREW_HOME = /home/njh/.perlbrew
    PERLBREW_MANPATH = /home/njh/perl5/perlbrew/perls/perl-5.20.3-multi/man
    PERLBREW_PATH = /home/njh/perl5/perlbrew/bin:/home/njh/perl5/perlbrew/perls/perl-5.20.3-multi/bin
    PERLBREW_PERL = perl-5.20.3-multi
    PERLBREW_ROOT = /home/njh/perl5/perlbrew
    PERLBREW_SHELLRC_VERSION = 0.82
    PERLBREW_VERSION = 0.82
    SHELL = /bin/sh

Perl special variables (and OS-specific diagnostics, for MSWin32):

    $^X = /home/njh/perl5/perlbrew/perls/perl-5.20.3-multi/bin/perl5.20.3
    $UID/$EUID = 1000 / 1000
    $GID = 1000 1000 0
    $EGID = 1000 1000 0

Perl module toolchain versions installed:

    Module              Have    
    ------------------- --------
    CPAN                2.16    
    CPAN::Meta          2.143240
    Cwd                 3.62    
    ExtUtils::CBuilder  0.280217
    ExtUtils::Command   7.30    
    ExtUtils::Install   2.06    
    ExtUtils::MakeMaker 7.30    
    ExtUtils::Manifest  1.70    
    ExtUtils::ParseXS   3.24    
    File::Spec          3.62    
    JSON                2.97001 
    JSON::PP            2.97001 
    Module::Build       0.4224  
    Module::Signature   n/a     
    Parse::CPAN::Meta   1.4414  
    Test::Harness       3.39    
    Test::More          1.302130
    YAML                1.24    
    YAML::Syck          1.30    
    version             0.9909  


--

Summary of my perl5 (revision 5 version 20 subversion 3) configuration:
   
  Platform:
    osname=openbsd, osvers=6.2, archname=OpenBSD.amd64-openbsd-multi
    uname='openbsd netgate1.bandsman.co.uk 6.2 generic.mp#2 amd64 '
    config_args='-de -Dprefix=/home/njh/perl5/perlbrew/perls/perl-5.20.3-multi -Dusedevel -Dusemultiplicity -Accflags= -Aeval:scriptdir=/home/njh/perl5/perlbrew/perls/perl-5.20.3-multi/bin'
    hint=recommended, useposix=true, d_sigaction=define
    useithreads=undef, usemultiplicity=define
    use64bitint=define, use64bitall=define, uselongdouble=undef
    usemymalloc=n, bincompat5005=undef
  Compiler:
    cc='cc', ccflags ='-fno-strict-aliasing -pipe -fstack-protector -I/usr/local/include',
    optimize='-O2',
    cppflags='-fno-strict-aliasing -pipe -fstack-protector -I/usr/local/include'
    ccversion='', gccversion='4.2.1 Compatible OpenBSD Clang 4.0.0 (tags/RELEASE_400/final)', gccosandvers=''
    intsize=4, longsize=8, ptrsize=8, doublesize=8, byteorder=12345678
    d_longlong=define, longlongsize=8, d_longdbl=define, longdblsize=16
    ivtype='long', ivsize=8, nvtype='double', nvsize=8, Off_t='off_t', lseeksize=8
    alignbytes=8, prototype=define
  Linker and Libraries:
    ld='cc', ldflags ='-Wl,-E  -fstack-protector -L/usr/local/lib'
    libpth=/usr/lib /usr/local/lib
    libs=-lpthread -lm -lutil -lc
    perllibs=-lpthread -lm -lutil -lc
    libc=/usr/lib/libc.so.90.0, so=so, useshrplib=false, libperl=libperl.a
    gnulibc_version=''
  Dynamic Linking:
    dlsrc=dl_dlopen.xs, dlext=so, d_dlsymun=undef, ccdlflags=' '
    cccdlflags='-DPIC -fPIC ', lddlflags='-shared -fPIC  -L/usr/local/lib -fstack-protector'


Characteristics of this binary (from libperl): 
  Compile-time options: HAS_TIMES MULTIPLICITY PERLIO_LAYERS
                        PERL_DONT_CREATE_GVSV
                        PERL_HASH_FUNC_ONE_AT_A_TIME_HARD
                        PERL_IMPLICIT_CONTEXT PERL_MALLOC_WRAP
                        PERL_NEW_COPY_ON_WRITE PERL_PRESERVE_IVUV
                        PERL_USE_DEVEL USE_64_BIT_ALL USE_64_BIT_INT
                        USE_LARGE_FILES USE_LOCALE USE_LOCALE_COLLATE
                        USE_LOCALE_CTYPE USE_LOCALE_NUMERIC USE_PERLIO
                        USE_PERL_ATOF
  Locally applied patches:
	Devel::PatchPerl 1.48
  Built under openbsd
  Compiled at Jan 21 2018 05:07:46
  %ENV:
    PERL5LIB="/home/njh/.cpan/build/CPAN-Uploader-0.103013-6/blib/arch:/home/njh/.cpan/build/CPAN-Uploader-0.103013-6/blib/lib:/home/njh/.cpan/build/TermReadKey-2.37-18/blib/arch:/home/njh/.cpan/build/TermReadKey-2.37-18/blib/lib:/home/njh/.cpan/build/LWP-Protocol-https-6.07-15/blib/arch:/home/njh/.cpan/build/LWP-Protocol-https-6.07-15/blib/lib:/home/njh/.cpan/build/IO-Socket-SSL-2.056-23/blib/arch:/home/njh/.cpan/build/IO-Socket-SSL-2.056-23/blib/lib:/home/njh/.cpan/build/Net-SSLeay-1.85-23/blib/arch:/home/njh/.cpan/build/Net-SSLeay-1.85-23/blib/lib:/home/njh/.cpan/build/Mozilla-CA-20180117-23/blib/arch:/home/njh/.cpan/build/Mozilla-CA-20180117-23/blib/lib:/home/njh/.cpan/build/Log-Log4perl-1.49-11/blib/arch:/home/njh/.cpan/build/Log-Log4perl-1.49-11/blib/lib:/home/njh/.cpan/build/App-Cmd-0.331-7/blib/arch:/home/njh/.cpan/build/App-Cmd-0.331-7/blib/lib:/home/njh/.cpan/build/String-RewritePrefix-0.007-7/blib/arch:/home/njh/.cpan/build/String-RewritePrefix-0.007-7/blib/lib:/home/njh/.cpan/build/IO-TieCombine-1.005-7/blib/arch:/home/njh/.cpan/build/IO-TieCombine-1.005-7/blib/lib"
    PERL5OPT=""
    PERL5_CPANPLUS_IS_RUNNING="17943"
    PERL5_CPAN_IS_RUNNING="17943"
    PERLBREW_HOME="/home/njh/.perlbrew"
    PERLBREW_MANPATH="/home/njh/perl5/perlbrew/perls/perl-5.20.3-multi/man"
    PERLBREW_PATH="/home/njh/perl5/perlbrew/bin:/home/njh/perl5/perlbrew/perls/perl-5.20.3-multi/bin"
    PERLBREW_PERL="perl-5.20.3-multi"
    PERLBREW_ROOT="/home/njh/perl5/perlbrew"
    PERLBREW_SHELLRC_VERSION="0.82"
    PERLBREW_VERSION="0.82"
  @INC:
    /home/njh/.cpan/build/CPAN-Uploader-0.103013-6/blib/arch
    /home/njh/.cpan/build/CPAN-Uploader-0.103013-6/blib/lib
    /home/njh/.cpan/build/TermReadKey-2.37-18/blib/arch
    /home/njh/.cpan/build/TermReadKey-2.37-18/blib/lib
    /home/njh/.cpan/build/LWP-Protocol-https-6.07-15/blib/arch
    /home/njh/.cpan/build/LWP-Protocol-https-6.07-15/blib/lib
    /home/njh/.cpan/build/IO-Socket-SSL-2.056-23/blib/arch
    /home/njh/.cpan/build/IO-Socket-SSL-2.056-23/blib/lib
    /home/njh/.cpan/build/Net-SSLeay-1.85-23/blib/arch
    /home/njh/.cpan/build/Net-SSLeay-1.85-23/blib/lib
    /home/njh/.cpan/build/Mozilla-CA-20180117-23/blib/arch
    /home/njh/.cpan/build/Mozilla-CA-20180117-23/blib/lib
    /home/njh/.cpan/build/Log-Log4perl-1.49-11/blib/arch
    /home/njh/.cpan/build/Log-Log4perl-1.49-11/blib/lib
    /home/njh/.cpan/build/App-Cmd-0.331-7/blib/arch
    /home/njh/.cpan/build/App-Cmd-0.331-7/blib/lib
    /home/njh/.cpan/build/String-RewritePrefix-0.007-7/blib/arch
    /home/njh/.cpan/build/String-RewritePrefix-0.007-7/blib/lib
    /home/njh/.cpan/build/IO-TieCombine-1.005-7/blib/arch
    /home/njh/.cpan/build/IO-TieCombine-1.005-7/blib/lib
    /home/njh/perl5/perlbrew/perls/perl-5.20.3-multi/lib/site_perl/5.20.3/OpenBSD.amd64-openbsd-multi
    /home/njh/perl5/perlbrew/perls/perl-5.20.3-multi/lib/site_perl/5.20.3
    /home/njh/perl5/perlbrew/perls/perl-5.20.3-multi/lib/5.20.3/OpenBSD.amd64-openbsd-multi
    /home/njh/perl5/perlbrew/perls/perl-5.20.3-multi/lib/5.20.3
    .