IO-Iron v0.13 Perl 5 v5.24.1 x86_64-linux-thread-multi

Status
Pass
From
Nigel Horne
Dist
IO-Iron v0.13
Platform
Perl 5 v5.24.1 x86_64-linux-thread-multi
Date
2019-01-09 00:54:51
ID
2bf26c5a-13a9-11e9-8d91-e54b29884b48
This distribution has been tested as part of the CPAN Testers
project, supporting the Perl programming language.  See
http://wiki.cpantesters.org/ for more information or email
questions to cpan-testers-discuss@perl.org


--
Dear Mikko Koivunalho,

This is a computer-generated report for IO-Iron-0.13
on perl 5.24.1, created by CPAN-Reporter-1.2018.

Thank you for uploading your work to CPAN.  Congratulations!
All tests were successful.

Sections of this report:

    * Tester comments
    * Program output
    * Prerequisites
    * Environment and other context

------------------------------
TESTER COMMENTS
------------------------------

Additional comments from tester:

this report is from an automated smoke testing program
and was not reviewed by a human for accuracy

------------------------------
PROGRAM OUTPUT
------------------------------

Output from '/usr/bin/make test':

PERL_DL_NONLAZY=1 "/home/njh/perl5/perlbrew/perls/perl-5.24.1/bin/perl" "-MExtUtils::Command::MM" "-MTest::Harness" "-e" "undef *Test::Harness::Switches; test_harness(0, 'blib/lib', 'blib/arch')" t/*.t t/Iron/*.t t/IronCache/*.t t/IronMQ/*.t t/IronWorker/*.t
# 
# Versions for all modules listed in MYMETA.json (including optional ones):
# 
# === Configure Requires ===
# 
#     Module              Want Have
#     ------------------- ---- ----
#     ExtUtils::MakeMaker  any 7.34
# 
# === Build Requires ===
# 
#     Module              Want Have
#     ------------------- ---- ----
#     ExtUtils::MakeMaker  any 7.34
# 
# === Test Requires ===
# 
#     Module              Want     Have
#     ------------------- ---- --------
#     Data::Dumper         any    2.161
#     ExtUtils::MakeMaker  any     7.34
#     File::Copy           any     2.31
#     File::Remove         any     1.57
#     File::Spec           any     3.74
#     Log::Any::Test       any    1.049
#     Test::Exception      any     0.43
#     Test::More           any 1.302136
#     lib                  any     0.63
# 
# === Test Recommends ===
# 
#     Module         Want     Have
#     ---------- -------- --------
#     CPAN::Meta 2.120900 2.150010
# 
# === Runtime Requires ===
# 
#     Module             Want     Have
#     ------------------ ---- --------
#     Carp                any     1.50
#     Carp::Assert        any     0.21
#     Carp::Assert::More  any     1.16
#     Const::Fast         any    0.014
#     Data::UUID          any    1.221
#     English             any     1.10
#     Exception::Class    any     1.44
#     Exporter            any     5.72
#     File::HomeDir       any    1.004
#     File::Spec          any     3.74
#     Hash::Util         0.06     0.19
#     JSON::MaybeXS       any 1.003009
#     Log::Any            any    1.049
#     Params::Validate    any     1.28
#     Path::Tiny          any    0.104
#     REST::Client        any      273
#     Scalar::Util        any     1.47
#     Try::Tiny           any     0.28
#     URI::Escape         any     3.31
#     parent              any    0.236
#     strict              any     1.11
#     warnings            any     1.36
# 
t/00-report-prereqs.t ........ ok
# Testing IO::Iron::Common (0.13), Perl 5.024001, /home/njh/perl5/perlbrew/perls/perl-5.24.1/bin/perl
t/Iron/common.t .............. ok
# Testing IO::Iron::IronWorker::Client (0.13), Perl 5.024001, /home/njh/perl5/perlbrew/perls/perl-5.24.1/bin/perl
# test ReadIronMQConfig
# Current dir config filename: ./iron.json
# Extra config filename: t/.IronMQTestConfig.json
# Testing IO::Iron (0.13), Perl 5.024001, /home/njh/perl5/perlbrew/perls/perl-5.24.1/bin/perl
t/Iron/load.t ................ ok
t/Iron/client_readconfig.t ... ok
# Testing IO::Iron::IronCache::Client (0.13), Perl 5.024001, /home/njh/perl5/perlbrew/perls/perl-5.24.1/bin/perl
# Testing IO::Iron::IronCache::Client (0.13) with policies, Perl 5.024001, /home/njh/perl5/perlbrew/perls/perl-5.24.1/bin/perl
t/IronCache/cache_policy.t ... ok
# Testing IO::Iron::IronCache::Client (0.13), Perl 5.024001, /home/njh/perl5/perlbrew/perls/perl-5.24.1/bin/perl
t/IronCache/load.t ........... ok
t/IronCache/cache_policy2.t .. ok
# Testing IO::Iron::IronMQ::Client (0.13), Perl 5.024001, /home/njh/perl5/perlbrew/perls/perl-5.24.1/bin/perl
t/IronMQ/load.t .............. ok
# Testing IO::Iron::IronCache::Client (0.13), Perl 5.024001, /home/njh/perl5/perlbrew/perls/perl-5.24.1/bin/perl
t/IronWorker/load.t .......... ok
All tests successful.
Files=9, Tests=104,  1 wallclock secs ( 0.04 usr  0.00 sys +  1.13 cusr  0.08 csys =  1.25 CPU)
Result: PASS

------------------------------
PREREQUISITES
------------------------------

Prerequisite modules loaded:

requires:

    Module              Need      Have    
    ------------------- --------- --------
    Carp                0         1.50    
    Carp::Assert        0         0.21    
    Carp::Assert::More  0         1.16    
    Const::Fast         0         0.014   
    Data::UUID          0         1.221   
    English             0         1.10    
    Exception::Class    0         1.44    
    Exporter            0         5.72    
    File::HomeDir       0         1.004   
    File::Spec          0         3.74    
    Hash::Util          0.06      0.19    
    JSON::MaybeXS       0         1.003009
    Log::Any            0         1.049   
    Params::Validate    0         1.28    
    parent              0         0.236   
    Path::Tiny          0         0.104   
    perl                5.010000  5.024001
    REST::Client        0         273     
    Scalar::Util        0         1.47    
    strict              0         1.11    
    Try::Tiny           0         0.28    
    URI::Escape         0         3.31    
    warnings            0         1.36    

build_requires:

    Module              Need      Have    
    ------------------- --------- --------
    Data::Dumper        0         2.161   
    ExtUtils::MakeMaker 0         7.34    
    File::Copy          0         2.31    
    File::Remove        0         1.57    
    File::Spec          0         3.74    
    lib                 0         0.63    
    Log::Any::Test      0         1.049   
    Test::Exception     0         0.43    
    Test::More          0         1.302136

configure_requires:

    Module              Need      Have    
    ------------------- --------- --------
    ExtUtils::MakeMaker 0         7.34    
    perl                5.010_000 5.024001


------------------------------
ENVIRONMENT AND OTHER CONTEXT
------------------------------

Environment variables:

    AUTOMATED_TESTING = 1
    HARNESS_OPTIONS = j4
    LANG = en_GB.UTF-8
    LANGUAGE = en_GB:en
    PATH = /home/njh/perl5/perlbrew/bin:/home/njh/perl5/perlbrew/perls/perl-5.24.1/bin:/home/njh/src/njh/smoker/bin:/usr/bin:/bin
    PERL5LIB = /home/njh/.cpan/build/REST-Client-273-8/blib/arch:/home/njh/.cpan/build/REST-Client-273-8/blib/lib:/home/njh/.cpan/build/Const-Fast-0.014-8/blib/arch:/home/njh/.cpan/build/Const-Fast-0.014-8/blib/lib
    PERL5OPT = 
    PERL5_CPANPLUS_IS_RUNNING = 6040
    PERL5_CPAN_IS_RUNNING = 6040
    PERLBREW_HOME = /home/njh/.perlbrew
    PERLBREW_MANPATH = /home/njh/perl5/perlbrew/perls/perl-5.24.1/man
    PERLBREW_PATH = /home/njh/perl5/perlbrew/bin:/home/njh/perl5/perlbrew/perls/perl-5.24.1/bin
    PERLBREW_PERL = perl-5.24.1
    PERLBREW_ROOT = /home/njh/perl5/perlbrew
    PERLBREW_SHELLRC_VERSION = 0.82
    PERLBREW_VERSION = 0.82
    SHELL = /bin/sh
    TEMP = /tmp/user/1000
    TMPDIR = /tmp/user/1000/testwrapper.6026

Perl special variables (and OS-specific diagnostics, for MSWin32):

    $^X = /home/njh/perl5/perlbrew/perls/perl-5.24.1/bin/perl
    $UID/$EUID = 1000 / 1000
    $GID = 1000 4 24 25 29 30 44 46 108 112 1000
    $EGID = 1000 4 24 25 29 30 44 46 108 112 1000

Perl module toolchain versions installed:

    Module              Have    
    ------------------- --------
    CPAN                2.16    
    CPAN::Meta          2.150010
    Cwd                 3.74    
    ExtUtils::CBuilder  0.280230
    ExtUtils::Command   7.34    
    ExtUtils::Install   2.14    
    ExtUtils::MakeMaker 7.34    
    ExtUtils::Manifest  1.71    
    ExtUtils::ParseXS   3.35    
    File::Spec          3.74    
    JSON                4.00    
    JSON::PP            2.94    
    Module::Build       0.4224  
    Module::Signature   n/a     
    Parse::CPAN::Meta   2.150010
    Test::Harness       3.39    
    Test::More          1.302136
    YAML                1.27    
    YAML::Syck          1.30    
    version             0.9918  


--

Summary of my perl5 (revision 5 version 24 subversion 1) configuration:
   
  Platform:
    osname=linux, osvers=4.7.0-1-amd64, archname=x86_64-linux-thread-multi
    uname='linux gateway 4.7.0-1-amd64 #1 smp debian 4.7.5-1 (2016-09-26) x86_64 gnulinux '
    config_args='-de -Dprefix=/home/njh/perl5/perlbrew/perls/perl-5.24.1 -Duseithreads -Dusemultiplicity -Dusedevel -Accflags= -Aeval:scriptdir=/home/njh/perl5/perlbrew/perls/perl-5.24.1/bin'
    hint=recommended, useposix=true, d_sigaction=define
    useithreads=define, usemultiplicity=define
    use64bitint=define, use64bitall=define, uselongdouble=undef
    usemymalloc=n, bincompat5005=undef
  Compiler:
    cc='cc', ccflags ='-D_REENTRANT -D_GNU_SOURCE -fwrapv -fno-strict-aliasing -pipe -fstack-protector-strong -I/usr/local/include -D_LARGEFILE_SOURCE -D_FILE_OFFSET_BITS=64',
    optimize='-O2',
    cppflags='-D_REENTRANT -D_GNU_SOURCE -fwrapv -fno-strict-aliasing -pipe -fstack-protector-strong -I/usr/local/include'
    ccversion='', gccversion='6.2.1 20161124', gccosandvers=''
    intsize=4, longsize=8, ptrsize=8, doublesize=8, byteorder=12345678, doublekind=3
    d_longlong=define, longlongsize=8, d_longdbl=define, longdblsize=16, longdblkind=3
    ivtype='long', ivsize=8, nvtype='double', nvsize=8, Off_t='off_t', lseeksize=8
    alignbytes=8, prototype=define
  Linker and Libraries:
    ld='cc', ldflags =' -fstack-protector-strong -L/usr/local/lib'
    libpth=/usr/local/lib /usr/lib/gcc/x86_64-linux-gnu/6/include-fixed /usr/include/x86_64-linux-gnu /usr/lib /lib/x86_64-linux-gnu /lib/../lib /usr/lib/x86_64-linux-gnu /usr/lib/../lib /lib
    libs=-lpthread -lnsl -lgdbm -ldb -ldl -lm -lcrypt -lutil -lc -lgdbm_compat
    perllibs=-lpthread -lnsl -ldl -lm -lcrypt -lutil -lc
    libc=libc-2.24.so, so=so, useshrplib=false, libperl=libperl.a
    gnulibc_version='2.24'
  Dynamic Linking:
    dlsrc=dl_dlopen.xs, dlext=so, d_dlsymun=undef, ccdlflags='-Wl,-E'
    cccdlflags='-fPIC', lddlflags='-shared -O2 -L/usr/local/lib -fstack-protector-strong'


Characteristics of this binary (from libperl): 
  Compile-time options: HAS_TIMES MULTIPLICITY PERLIO_LAYERS
                        PERL_COPY_ON_WRITE PERL_DONT_CREATE_GVSV
                        PERL_HASH_FUNC_ONE_AT_A_TIME_HARD
                        PERL_IMPLICIT_CONTEXT PERL_MALLOC_WRAP
                        PERL_PRESERVE_IVUV PERL_USE_DEVEL USE_64_BIT_ALL
                        USE_64_BIT_INT USE_ITHREADS USE_LARGE_FILES
                        USE_LOCALE USE_LOCALE_COLLATE USE_LOCALE_CTYPE
                        USE_LOCALE_NUMERIC USE_LOCALE_TIME USE_PERLIO
                        USE_PERL_ATOF USE_REENTRANT_API
  Built under linux
  Compiled at Jan 24 2017 00:39:08
  %ENV:
    PERL5LIB="/home/njh/.cpan/build/REST-Client-273-8/blib/arch:/home/njh/.cpan/build/REST-Client-273-8/blib/lib:/home/njh/.cpan/build/Const-Fast-0.014-8/blib/arch:/home/njh/.cpan/build/Const-Fast-0.014-8/blib/lib"
    PERL5OPT=""
    PERL5_CPANPLUS_IS_RUNNING="6040"
    PERL5_CPAN_IS_RUNNING="6040"
    PERLBREW_HOME="/home/njh/.perlbrew"
    PERLBREW_MANPATH="/home/njh/perl5/perlbrew/perls/perl-5.24.1/man"
    PERLBREW_PATH="/home/njh/perl5/perlbrew/bin:/home/njh/perl5/perlbrew/perls/perl-5.24.1/bin"
    PERLBREW_PERL="perl-5.24.1"
    PERLBREW_ROOT="/home/njh/perl5/perlbrew"
    PERLBREW_SHELLRC_VERSION="0.82"
    PERLBREW_VERSION="0.82"
  @INC:
    /home/njh/.cpan/build/REST-Client-273-8/blib/arch
    /home/njh/.cpan/build/REST-Client-273-8/blib/lib
    /home/njh/.cpan/build/Const-Fast-0.014-8/blib/arch
    /home/njh/.cpan/build/Const-Fast-0.014-8/blib/lib
    /home/njh/perl5/perlbrew/perls/perl-5.24.1/lib/site_perl/5.24.1/x86_64-linux-thread-multi
    /home/njh/perl5/perlbrew/perls/perl-5.24.1/lib/site_perl/5.24.1
    /home/njh/perl5/perlbrew/perls/perl-5.24.1/lib/5.24.1/x86_64-linux-thread-multi
    /home/njh/perl5/perlbrew/perls/perl-5.24.1/lib/5.24.1
    .