Report for YAML-Syck-1.29

Back
From: metabase:user:6970b1ae-1421-11e4-ab07-c64c76713efd
Subject: PASS YAML-Syck-1.29 v5.18.2 Mac OS X
Date: 2014-12-23T04:42:59Z

This distribution has been tested as part of the CPAN Testers
project, supporting the Perl programming language.  See
http://wiki.cpantesters.org/ for more information or email
questions to cpan-testers-discuss@perl.org


--
Dear TODDR,

This is a computer-generated report for YAML-Syck-1.29
on perl 5.18.2, created by App::cpanminus::reporter 0.11 (1.7014).

Thank you for uploading your work to CPAN.  Congratulations!
All tests were successful.

Sections of this report:

    * Tester comments
    * Program output
    * Prerequisites
    * Environment and other context

------------------------------
TESTER COMMENTS
------------------------------

Additional comments from tester:

none provided

------------------------------
PROGRAM OUTPUT
------------------------------

Output from '':

Building and testing YAML-Syck-1.29
cp lib/YAML/Loader/Syck.pm blib/lib/YAML/Loader/Syck.pm
cp lib/YAML/Dumper/Syck.pm blib/lib/YAML/Dumper/Syck.pm
cp lib/YAML/Syck.pm blib/lib/YAML/Syck.pm
cp lib/JSON/Syck.pm blib/lib/JSON/Syck.pm
Running Mkbootstrap for YAML::Syck ()
chmod 644 "Syck.bs"
cc -c  -I. -arch x86_64 -arch i386 -g -pipe -fno-common -DPERL_DARWIN -fno-strict-aliasing -fstack-protector -Os   -DVERSION=\"1.29\" -DXS_VERSION=\"1.29\"  "-I/System/Library/Perl/5.18/darwin-thread-multi-2level/CORE"   bytecode.c
cc -c  -I. -arch x86_64 -arch i386 -g -pipe -fno-common -DPERL_DARWIN -fno-strict-aliasing -fstack-protector -Os   -DVERSION=\"1.29\" -DXS_VERSION=\"1.29\"  "-I/System/Library/Perl/5.18/darwin-thread-multi-2level/CORE"   emitter.c
emitter.c:835:36: warning: passing 'unsigned char *' to parameter of type 'const char *' converts between pointers to integer types with different sign [-Wpointer-sign]
            syck_emitter_write( e, src + i, 1 );
                                   ^~~~~~~
emitter.c:290:49: note: passing argument to parameter 'str' here
syck_emitter_write( SyckEmitter *e, const char *str, long len )
                                                ^
1 warning generated.
emitter.c:835:36: warning: passing 'unsigned char *' to parameter of type 'const char *' converts between pointers to integer types with different sign [-Wpointer-sign]
            syck_emitter_write( e, src + i, 1 );
                                   ^~~~~~~
emitter.c:290:49: note: passing argument to parameter 'str' here
syck_emitter_write( SyckEmitter *e, const char *str, long len )
                                                ^
1 warning generated.
cc -c  -I. -arch x86_64 -arch i386 -g -pipe -fno-common -DPERL_DARWIN -fno-strict-aliasing -fstack-protector -Os   -DVERSION=\"1.29\" -DXS_VERSION=\"1.29\"  "-I/System/Library/Perl/5.18/darwin-thread-multi-2level/CORE"   gram.c
gram.c:1115:16: warning: implicit declaration of function 'sycklex' is invalid in C99 [-Wimplicit-function-declaration]
      yychar = YYLEX;
               ^
gram.c:656:16: note: expanded from macro 'YYLEX'
# define YYLEX yylex (&yylval, YYLEX_PARAM)
               ^
gram.c:51:17: note: expanded from macro 'yylex'
#define yylex   sycklex
                ^
1 warning generated.
gram.c:1115:16: warning: implicit declaration of function 'sycklex' is invalid in C99 [-Wimplicit-function-declaration]
      yychar = YYLEX;
               ^
gram.c:656:16: note: expanded from macro 'YYLEX'
# define YYLEX yylex (&yylval, YYLEX_PARAM)
               ^
gram.c:51:17: note: expanded from macro 'yylex'
#define yylex   sycklex
                ^
1 warning generated.
cc -c  -I. -arch x86_64 -arch i386 -g -pipe -fno-common -DPERL_DARWIN -fno-strict-aliasing -fstack-protector -Os   -DVERSION=\"1.29\" -DXS_VERSION=\"1.29\"  "-I/System/Library/Perl/5.18/darwin-thread-multi-2level/CORE"   handler.c
cc -c  -I. -arch x86_64 -arch i386 -g -pipe -fno-common -DPERL_DARWIN -fno-strict-aliasing -fstack-protector -Os   -DVERSION=\"1.29\" -DXS_VERSION=\"1.29\"  "-I/System/Library/Perl/5.18/darwin-thread-multi-2level/CORE"   implicit.c
cc -c  -I. -arch x86_64 -arch i386 -g -pipe -fno-common -DPERL_DARWIN -fno-strict-aliasing -fstack-protector -Os   -DVERSION=\"1.29\" -DXS_VERSION=\"1.29\"  "-I/System/Library/Perl/5.18/darwin-thread-multi-2level/CORE"   node.c
cc -c  -I. -arch x86_64 -arch i386 -g -pipe -fno-common -DPERL_DARWIN -fno-strict-aliasing -fstack-protector -Os   -DVERSION=\"1.29\" -DXS_VERSION=\"1.29\"  "-I/System/Library/Perl/5.18/darwin-thread-multi-2level/CORE"   syck_.c
syck_.c:501:9: warning: format specifies type 'long' but the argument has type 'int' [-Wformat]
        p->cursor - p->lineptr,
        ^~~~~~~~~~~~~~~~~~~~~~
1 warning generated.
cc -c  -I. -arch x86_64 -arch i386 -g -pipe -fno-common -DPERL_DARWIN -fno-strict-aliasing -fstack-protector -Os   -DVERSION=\"1.29\" -DXS_VERSION=\"1.29\"  "-I/System/Library/Perl/5.18/darwin-thread-multi-2level/CORE"   syck_st.c
cc -c  -I. -arch x86_64 -arch i386 -g -pipe -fno-common -DPERL_DARWIN -fno-strict-aliasing -fstack-protector -Os   -DVERSION=\"1.29\" -DXS_VERSION=\"1.29\"  "-I/System/Library/Perl/5.18/darwin-thread-multi-2level/CORE"   token.c
"/usr/bin/perl" "-Iinc" "/Library/Perl/5.18/ExtUtils/xsubpp"  -typemap "/System/Library/Perl/5.18/ExtUtils/typemap"  Syck.xs > Syck.xsc && mv Syck.xsc Syck.c
cc -c  -I. -arch x86_64 -arch i386 -g -pipe -fno-common -DPERL_DARWIN -fno-strict-aliasing -fstack-protector -Os   -DVERSION=\"1.29\" -DXS_VERSION=\"1.29\"  "-I/System/Library/Perl/5.18/darwin-thread-multi-2level/CORE"   Syck.c
In file included from Syck.xs:5:
./perl_syck.h:838:13: warning: 15 enumeration values not handled in switch: 'SVt_NULL', 'SVt_BIND', 'SVt_IV'... [-Wswitch]
    switch (SvTYPE(sv)) {
            ^
/System/Library/Perl/5.18/darwin-thread-multi-2level/CORE/sv.h:323:20: note: expanded from macro 'SvTYPE'
#define SvTYPE(sv)      ((svtype)((sv)->sv_flags & SVTYPEMASK))
                        ^
In file included from Syck.xs:5:
./perl_syck.h:1069:13: warning: implicit declaration of function 'syck_str_is_unquotable_integer' is invalid in C99 [-Wimplicit-function-declaration]
            && syck_str_is_unquotable_integer(str, len)) /* small enough to safely round-trip */
               ^
In file included from Syck.xs:8:
./perl_syck.h:342:79: warning: data argument not used by format string [-Wformat-extra-args]
                    sv = newSVpv(form((type == NULL) ? "%s" : "%s::%s", lang, type), 0);
                                                       ~~~~                   ^
/System/Library/Perl/5.18/darwin-thread-multi-2level/CORE/embed.h:379:42: note: expanded from macro 'newSVpv'
#define newSVpv(a,b)            Perl_newSVpv(aTHX_ a,b)
                                                   ^
In file included from Syck.xs:8:
./perl_syck.h:396:76: warning: data argument not used by format string [-Wformat-extra-args]
                                                sv_bless(sv, gv_stashpv(form((type == NULL) ? "%s" : "%s::%s", lang, type), TRUE));
                                                                                              ~~~~                   ^
/System/Library/Perl/5.18/darwin-thread-multi-2level/CORE/embed.h:205:48: note: expanded from macro 'gv_stashpv'
#define gv_stashpv(a,b)         Perl_gv_stashpv(aTHX_ a,b)
                                                      ^
/System/Library/Perl/5.18/darwin-thread-multi-2level/CORE/embed.h:561:46: note: expanded from macro 'sv_bless'
#define sv_bless(a,b)           Perl_sv_bless(aTHX_ a,b)
                                                      ^
In file included from Syck.xs:8:
./perl_syck.h:451:88: warning: data argument not used by format string [-Wformat-extra-args]
                                sv_bless(sv, gv_stashpv(form((type == NULL) ? "%s" : "%s::%s", lang, type), TRUE));
                                                                              ~~~~                   ^
/System/Library/Perl/5.18/darwin-thread-multi-2level/CORE/embed.h:205:48: note: expanded from macro 'gv_stashpv'
#define gv_stashpv(a,b)         Perl_gv_stashpv(aTHX_ a,b)
                                                      ^
/System/Library/Perl/5.18/darwin-thread-multi-2level/CORE/embed.h:561:46: note: expanded from macro 'sv_bless'
#define sv_bless(a,b)           Perl_sv_bless(aTHX_ a,b)
                                                      ^
In file included from Syck.xs:8:
./perl_syck.h:497:78: warning: data argument not used by format string [-Wformat-extra-args]
                                                                sv_bless(sv, gv_stashpv(form((type == NULL) ? "%s" : "%s::%s", lang, type), TRUE));
                                                                                                              ~~~~                   ^
/System/Library/Perl/5.18/darwin-thread-multi-2level/CORE/embed.h:205:48: note: expanded from macro 'gv_stashpv'
#define gv_stashpv(a,b)         Perl_gv_stashpv(aTHX_ a,b)
                                                      ^
/System/Library/Perl/5.18/darwin-thread-multi-2level/CORE/embed.h:561:46: note: expanded from macro 'sv_bless'
#define sv_bless(a,b)           Perl_sv_bless(aTHX_ a,b)
                                                      ^
In file included from Syck.xs:8:
./perl_syck.h:545:77: warning: data argument not used by format string [-Wformat-extra-args]
                                                        sv_bless(sv, gv_stashpv(form((type == NULL) ? "%s" : "%s::%s", lang, type), TRUE));
                                                                                                      ~~~~                   ^
/System/Library/Perl/5.18/darwin-thread-multi-2level/CORE/embed.h:205:48: note: expanded from macro 'gv_stashpv'
#define gv_stashpv(a,b)         Perl_gv_stashpv(aTHX_ a,b)
                                                      ^
/System/Library/Perl/5.18/darwin-thread-multi-2level/CORE/embed.h:561:46: note: expanded from macro 'sv_bless'
#define sv_bless(a,b)           Perl_sv_bless(aTHX_ a,b)
                                                      ^
In file included from Syck.xs:8:
./perl_syck.h:603:77: warning: data argument not used by format string [-Wformat-extra-args]
                                                        sv_bless(sv, gv_stashpv(form((type == NULL) ? "%s" : "%s::%s", lang, type), TRUE));
                                                                                                      ~~~~                   ^
/System/Library/Perl/5.18/darwin-thread-multi-2level/CORE/embed.h:205:48: note: expanded from macro 'gv_stashpv'
#define gv_stashpv(a,b)         Perl_gv_stashpv(aTHX_ a,b)
                                                      ^
/System/Library/Perl/5.18/darwin-thread-multi-2level/CORE/embed.h:561:46: note: expanded from macro 'sv_bless'
#define sv_bless(a,b)           Perl_sv_bless(aTHX_ a,b)
                                                      ^
In file included from Syck.xs:8:
./perl_syck.h:838:13: warning: 15 enumeration values not handled in switch: 'SVt_NULL', 'SVt_BIND', 'SVt_IV'... [-Wswitch]
    switch (SvTYPE(sv)) {
            ^
/System/Library/Perl/5.18/darwin-thread-multi-2level/CORE/sv.h:323:20: note: expanded from macro 'SvTYPE'
#define SvTYPE(sv)      ((svtype)((sv)->sv_flags & SVTYPEMASK))
                        ^
In file included from Syck.xs:8:
./perl_syck.h:910:17: warning: 11 enumeration values not handled in switch: 'SVt_NULL', 'SVt_BIND', 'SVt_IV'... [-Wswitch]
        switch (SvTYPE(SvRV(sv))) {
                ^
/System/Library/Perl/5.18/darwin-thread-multi-2level/CORE/sv.h:323:20: note: expanded from macro 'SvTYPE'
#define SvTYPE(sv)      ((svtype)((sv)->sv_flags & SVTYPEMASK))
                        ^
10 warnings generated.
In file included from Syck.xs:5:
./perl_syck.h:838:13: warning: 15 enumeration values not handled in switch: 'SVt_NULL', 'SVt_BIND', 'SVt_IV'... [-Wswitch]
    switch (SvTYPE(sv)) {
            ^
/System/Library/Perl/5.18/darwin-thread-multi-2level/CORE/sv.h:323:20: note: expanded from macro 'SvTYPE'
#define SvTYPE(sv)      ((svtype)((sv)->sv_flags & SVTYPEMASK))
                        ^
In file included from Syck.xs:5:
./perl_syck.h:1069:13: warning: implicit declaration of function 'syck_str_is_unquotable_integer' is invalid in C99 [-Wimplicit-function-declaration]
            && syck_str_is_unquotable_integer(str, len)) /* small enough to safely round-trip */
               ^
In file included from Syck.xs:8:
./perl_syck.h:342:79: warning: data argument not used by format string [-Wformat-extra-args]
                    sv = newSVpv(form((type == NULL) ? "%s" : "%s::%s", lang, type), 0);
                                                       ~~~~                   ^
/System/Library/Perl/5.18/darwin-thread-multi-2level/CORE/embed.h:379:42: note: expanded from macro 'newSVpv'
#define newSVpv(a,b)            Perl_newSVpv(aTHX_ a,b)
                                                   ^
In file included from Syck.xs:8:
./perl_syck.h:396:76: warning: data argument not used by format string [-Wformat-extra-args]
                                                sv_bless(sv, gv_stashpv(form((type == NULL) ? "%s" : "%s::%s", lang, type), TRUE));
                                                                                              ~~~~                   ^
/System/Library/Perl/5.18/darwin-thread-multi-2level/CORE/embed.h:205:48: note: expanded from macro 'gv_stashpv'
#define gv_stashpv(a,b)         Perl_gv_stashpv(aTHX_ a,b)
                                                      ^
/System/Library/Perl/5.18/darwin-thread-multi-2level/CORE/embed.h:561:46: note: expanded from macro 'sv_bless'
#define sv_bless(a,b)           Perl_sv_bless(aTHX_ a,b)
                                                      ^
In file included from Syck.xs:8:
./perl_syck.h:451:88: warning: data argument not used by format string [-Wformat-extra-args]
                                sv_bless(sv, gv_stashpv(form((type == NULL) ? "%s" : "%s::%s", lang, type), TRUE));
                                                                              ~~~~                   ^
/System/Library/Perl/5.18/darwin-thread-multi-2level/CORE/embed.h:205:48: note: expanded from macro 'gv_stashpv'
#define gv_stashpv(a,b)         Perl_gv_stashpv(aTHX_ a,b)
                                                      ^
/System/Library/Perl/5.18/darwin-thread-multi-2level/CORE/embed.h:561:46: note: expanded from macro 'sv_bless'
#define sv_bless(a,b)           Perl_sv_bless(aTHX_ a,b)
                                                      ^
In file included from Syck.xs:8:
./perl_syck.h:497:78: warning: data argument not used by format string [-Wformat-extra-args]
                                                                sv_bless(sv, gv_stashpv(form((type == NULL) ? "%s" : "%s::%s", lang, type), TRUE));
                                                                                                              ~~~~                   ^
/System/Library/Perl/5.18/darwin-thread-multi-2level/CORE/embed.h:205:48: note: expanded from macro 'gv_stashpv'
#define gv_stashpv(a,b)         Perl_gv_stashpv(aTHX_ a,b)
                                                      ^
/System/Library/Perl/5.18/darwin-thread-multi-2level/CORE/embed.h:561:46: note: expanded from macro 'sv_bless'
#define sv_bless(a,b)           Perl_sv_bless(aTHX_ a,b)
                                                      ^
In file included from Syck.xs:8:
./perl_syck.h:545:77: warning: data argument not used by format string [-Wformat-extra-args]
                                                        sv_bless(sv, gv_stashpv(form((type == NULL) ? "%s" : "%s::%s", lang, type), TRUE));
                                                                                                      ~~~~                   ^
/System/Library/Perl/5.18/darwin-thread-multi-2level/CORE/embed.h:205:48: note: expanded from macro 'gv_stashpv'
#define gv_stashpv(a,b)         Perl_gv_stashpv(aTHX_ a,b)
                                                      ^
/System/Library/Perl/5.18/darwin-thread-multi-2level/CORE/embed.h:561:46: note: expanded from macro 'sv_bless'
#define sv_bless(a,b)           Perl_sv_bless(aTHX_ a,b)
                                                      ^
In file included from Syck.xs:8:
./perl_syck.h:603:77: warning: data argument not used by format string [-Wformat-extra-args]
                                                        sv_bless(sv, gv_stashpv(form((type == NULL) ? "%s" : "%s::%s", lang, type), TRUE));
                                                                                                      ~~~~                   ^
/System/Library/Perl/5.18/darwin-thread-multi-2level/CORE/embed.h:205:48: note: expanded from macro 'gv_stashpv'
#define gv_stashpv(a,b)         Perl_gv_stashpv(aTHX_ a,b)
                                                      ^
/System/Library/Perl/5.18/darwin-thread-multi-2level/CORE/embed.h:561:46: note: expanded from macro 'sv_bless'
#define sv_bless(a,b)           Perl_sv_bless(aTHX_ a,b)
                                                      ^
In file included from Syck.xs:8:
./perl_syck.h:838:13: warning: 15 enumeration values not handled in switch: 'SVt_NULL', 'SVt_BIND', 'SVt_IV'... [-Wswitch]
    switch (SvTYPE(sv)) {
            ^
/System/Library/Perl/5.18/darwin-thread-multi-2level/CORE/sv.h:323:20: note: expanded from macro 'SvTYPE'
#define SvTYPE(sv)      ((svtype)((sv)->sv_flags & SVTYPEMASK))
                        ^
In file included from Syck.xs:8:
./perl_syck.h:910:17: warning: 11 enumeration values not handled in switch: 'SVt_NULL', 'SVt_BIND', 'SVt_IV'... [-Wswitch]
        switch (SvTYPE(SvRV(sv))) {
                ^
/System/Library/Perl/5.18/darwin-thread-multi-2level/CORE/sv.h:323:20: note: expanded from macro 'SvTYPE'
#define SvTYPE(sv)      ((svtype)((sv)->sv_flags & SVTYPEMASK))
                        ^
10 warnings generated.
rm -f blib/arch/auto/YAML/Syck/Syck.bundle
cc -mmacosx-version-min=10.10  -arch x86_64 -arch i386 -bundle -undefined dynamic_lookup -fstack-protector bytecode.o emitter.o gram.o handler.o implicit.o node.o syck_.o syck_st.o token.o Syck.o  -o blib/arch/auto/YAML/Syck/Syck.bundle 	\
	     	\
	  
chmod 755 blib/arch/auto/YAML/Syck/Syck.bundle
"/usr/bin/perl" "-Iinc" -MExtUtils::Command::MM -e 'cp_nonempty' -- Syck.bs blib/arch/auto/YAML/Syck/Syck.bs 644
Manifying 2 pod documents
Running Mkbootstrap for YAML::Syck ()
chmod 644 "Syck.bs"
PERL_DL_NONLAZY=1 "/usr/bin/perl" "-MExtUtils::Command::MM" "-MTest::Harness" "-e" "undef *Test::Harness::Switches; test_harness(0, 'inc', 'blib/lib', 'blib/arch')" t/*.t t/*/*.t
t/1-basic.t ................... ok
t/11-loadfile.t ............... ok
t/12-dumpfile.t ............... ok
t/2-scalars.t ................. ok
t/3-objects.t ................. ok
t/4-perl_tag_scheme.t ......... ok
t/bug/doesnt-stringify.t ...... ok
t/bug/rt-49404-double_free.t .. ok
t/bug/rt-54167.t .............. ok
t/json-basic.t ................ ok
t/json-circular-ref.t ......... ok
t/json-crlf.t ................. ok
t/json-dumpinto.t ............. ok
t/json-empty.t ................ ok
t/json-indent.t ............... ok
t/json-loadfile.t ............. ok
t/json-minus.t ................ ok
t/json-newline.t .............. ok
t/json-null.t ................. ok
t/json-numbers.t .............. ok
t/json-refs.t ................. ok
t/json-singlequote.t .......... ok
t/leak.t ...................... ok
t/load-blessed.t .............. ok
t/meta.t ...................... ok
t/yaml-alias.t ................ ok
t/yaml-blessed-ref.t .......... ok
t/yaml-dumpinto.t ............. ok
t/yaml-implicit-warnings.t .... ok
t/yaml-str-colon-first.t ...... ok
t/yaml-tie.t .................. ok
t/yaml-utf.t .................. ok
All tests successful.

Test Summary Report
-------------------
t/json-basic.t              (Wstat: 0 Tests: 104 Failed: 0)
  TODO passed:   81-82, 85-86, 93-94, 97-98
Files=32, Tests=628,  1 wallclock secs ( 0.20 usr  0.06 sys +  1.21 cusr  0.23 csys =  1.70 CPU)
Result: PASS

------------------------------
PREREQUISITES
------------------------------

Prerequisite modules loaded:

    No requirements found

------------------------------
ENVIRONMENT AND OTHER CONTEXT
------------------------------

Environment variables:

    LANG = en_US.UTF-8
    PATH = /usr/local/bin:/usr/bin:/bin:/usr/sbin:/sbin:/Users/dhorner/Downloads/adt-bundle-mac-x86_64-20140321/sdk/tools:/Users/dhorner/Downloads/adt-bundle-mac-x86_64-20140321/sdk/platform-tools
    SHELL = /bin/bash
    TERM = xterm-256color
    VERSIONER_PERL_PREFER_32_BIT = no
    VERSIONER_PERL_VERSION = 5.18

Perl special variables (and OS-specific diagnostics, for MSWin32):

    EGID = 0 0 1 2 3 4 5 8 9 12 20 29 61 80 401 33 98 100 204 398 101
    EUID = 0
    EXECUTABLE_NAME = /usr/bin/perl
    GID = 0 0 1 2 3 4 5 8 9 12 20 29 61 80 401 33 98 100 204 398 101
    UID = 0

Perl module toolchain versions installed:

    Module              Have    
    ------------------- --------
    CPAN                2.05    
    CPAN::Meta          2.143240
    Cwd                 3.47    
    ExtUtils::CBuilder  0.280220
    ExtUtils::Command   1.18    
    ExtUtils::Install   2.04    
    ExtUtils::MakeMaker 7.04    
    ExtUtils::Manifest  1.69    
    ExtUtils::ParseXS   3.24    
    File::Spec          3.47    
    JSON                2.90    
    JSON::PP            2.27300 
    Module::Build       0.4210  
    Module::Signature   n/a     
    Parse::CPAN::Meta   1.4414  
    Test::Harness       3.34    
    Test::More          1.001011
    YAML                1.13    
    YAML::Syck          1.29    
    version             0.9909  


--

Summary of my perl5 (revision 5 version 18 subversion 2) configuration:
   
  Platform:
    osname=darwin, osvers=14.0, archname=darwin-thread-multi-2level
    uname='darwin glow.apple.com 14.0 darwin kernel version 14.0.0: tue aug 19 19:20:45 pdt 2014; root:xnu-2782.1.85~1development_x86_64 x86_64 '
    config_args='-ds -e -Dprefix=/usr -Dccflags=-g  -pipe  -Dldflags= -Dman3ext=3pm -Duseithreads -Duseshrplib -Dinc_version_list=none -Dcc=cc'
    hint=recommended, useposix=true, d_sigaction=define
    useithreads=define, usemultiplicity=define
    useperlio=define, d_sfio=undef, uselargefiles=define, usesocks=undef
    use64bitint=define, use64bitall=define, uselongdouble=undef
    usemymalloc=n, bincompat5005=undef
  Compiler:
    cc='cc', ccflags ='-arch x86_64 -arch i386 -g -pipe -fno-common -DPERL_DARWIN -fno-strict-aliasing -fstack-protector',
    optimize='-Os',
    cppflags='-g -pipe -fno-common -DPERL_DARWIN -fno-strict-aliasing -fstack-protector'
    ccversion='', gccversion='4.2.1 Compatible Apple LLVM 6.0 (clang-600.0.39)', gccosandvers=''
    intsize=4, longsize=8, ptrsize=8, doublesize=8, byteorder=12345678
    d_longlong=define, longlongsize=8, d_longdbl=define, longdblsize=16
    ivtype='long', ivsize=8, nvtype='double', nvsize=8, Off_t='off_t', lseeksize=8
    alignbytes=8, prototype=define
  Linker and Libraries:
    ld='cc -mmacosx-version-min=10.10', ldflags ='-arch x86_64 -arch i386 -fstack-protector'
    libpth=/usr/lib /usr/local/lib
    libs= 
    perllibs=
    libc=, so=dylib, useshrplib=true, libperl=libperl.dylib
    gnulibc_version=''
  Dynamic Linking:
    dlsrc=dl_dlopen.xs, dlext=bundle, d_dlsymun=undef, ccdlflags=' '
    cccdlflags=' ', lddlflags='-arch x86_64 -arch i386 -bundle -undefined dynamic_lookup -fstack-protector'


Characteristics of this binary (from libperl): 
  Compile-time options: HAS_TIMES MULTIPLICITY PERLIO_LAYERS
                        PERL_DONT_CREATE_GVSV
                        PERL_HASH_FUNC_ONE_AT_A_TIME_HARD
                        PERL_IMPLICIT_CONTEXT PERL_MALLOC_WRAP
                        PERL_PRESERVE_IVUV PERL_SAWAMPERSAND USE_64_BIT_ALL
                        USE_64_BIT_INT USE_ITHREADS USE_LARGE_FILES
                        USE_LOCALE USE_LOCALE_COLLATE USE_LOCALE_CTYPE
                        USE_LOCALE_NUMERIC USE_PERLIO USE_PERL_ATOF
                        USE_REENTRANT_API
  Locally applied patches:
	/Library/Perl/Updates/<version> comes before system perl directories
	installprivlib and installarchlib points to the Updates directory
  Built under darwin
  Compiled at Sep  9 2014 18:59:52
  @INC:
    /Library/Perl/5.18/darwin-thread-multi-2level
    /Library/Perl/5.18
    /Network/Library/Perl/5.18/darwin-thread-multi-2level
    /Network/Library/Perl/5.18
    /Library/Perl/Updates/5.18.2/darwin-thread-multi-2level
    /Library/Perl/Updates/5.18.2
    /System/Library/Perl/5.18/darwin-thread-multi-2level
    /System/Library/Perl/5.18
    /System/Library/Perl/Extras/5.18/darwin-thread-multi-2level
    /System/Library/Perl/Extras/5.18
    .