App-DBCritic v0.023 Perl 5 v5.18.4 amd64-freebsd

Status
Pass
From
Slaven Rezić (SREZIC)
Dist
App-DBCritic v0.023
Platform
Perl 5 v5.18.4 amd64-freebsd
Date
2019-10-18 13:14:09
ID
2bce3180-f1a9-11e9-9b6b-1b1c1f24ea8f
This distribution has been tested as part of the CPAN Testers
project, supporting the Perl programming language.  See
http://wiki.cpantesters.org/ for more information or email
questions to cpan-testers-discuss@perl.org


--
Dear Mark Gardner,

This is a computer-generated report for App-DBCritic-0.023
on perl 5.18.4, created by CPAN-Reporter-1.2018.

Thank you for uploading your work to CPAN.  Congratulations!
All tests were successful.

Sections of this report:

    * Tester comments
    * Program output
    * Prerequisites
    * Environment and other context

------------------------------
TESTER COMMENTS
------------------------------

Additional comments from tester:

none provided

------------------------------
PROGRAM OUTPUT
------------------------------

Output from '/usr/bin/make test':

PERL_DL_NONLAZY=1 "/usr/perl5.18.4p/bin/perl" "-MExtUtils::Command::MM" "-MTest::Harness" "-e" "undef *Test::Harness::Switches; test_harness(0, 'blib/lib', 'blib/arch')" t/*.t t/policy/*.t
t/00-compile.t ......................... ok
# Testing with Perl 5.018004, /usr/perl5.18.4p/bin/perl
#     Algorithm::Combinatorics version is 0.27
#     Carp version is 1.38
#     Const::Fast version is 0.014
#     DBI version is 1.641
#     DBICx::TestDatabase version is 0.05
#     DBIx::Class version is 0.082841
#     DBIx::Class::Core version is undefined
#     DBIx::Class::Schema version is undefined
#     DBIx::Class::Schema::Loader version is 0.07049
#     Data::Compare version is 1.25
#     Devel::Symdump version is 2.18
#     English version is 1.06_01
#     ExtUtils::MakeMaker version is 7.34
#     File::Spec version is 3.75
#     FindBin version is 1.51
#     Getopt::Long::Descriptive version is 0.102
#     IO::Handle version is 1.39
#     IPC::Open3 version is 1.13
#     List::MoreUtils version is 0.428
#     List::Util version is 1.5
#     Modern::Perl version is 1.20170117
#     Module::Pluggable version is 5.2
#     Moo version is 2.003004
#     Moo::Role version is 2.003004
#     Path::Class version is 0.37
#     Scalar::Util version is 1.5
#     Sub::Quote version is 2.005001
#     Test::More version is 1.302167
#     Test::Most version is 0.35
#     Test::Script::Run version is 0.08
#     base version is 2.18
#     local::lib version is 2.000024
#     namespace::autoclean version is 0.29
#     overload version is 1.22
#     strict version is 1.07
#     utf8 version is 1.10
#     warnings version is 1.18
t/000-report-versions.t ................ ok
t/author-critic.t ...................... skipped: these tests are for testing by the author
t/author-eol.t ......................... skipped: these tests are for testing by the author
t/author-minimum-version.t ............. skipped: these tests are for testing by the author
t/author-mojibake.t .................... skipped: these tests are for testing by the author
t/author-no-tabs.t ..................... skipped: these tests are for testing by the author
t/author-pod-coverage.t ................ skipped: these tests are for testing by the author
t/author-pod-linkcheck.t ............... skipped: these tests are for testing by the author
t/author-pod-syntax.t .................. skipped: these tests are for testing by the author
t/author-portability.t ................. skipped: these tests are for testing by the author
t/author-synopsis.t .................... skipped: these tests are for testing by the author
t/author-test-version.t ................ skipped: these tests are for testing by the author
Attempting to create directory /home/cpansand/.cpan/build/2019090407/App-DBCritic-0.023-1/t/schema
t/loader.t ............................. ok
Attempting to create directory /home/cpansand/.cpan/build/2019090407/App-DBCritic-0.023-1/t/policy/bidirectional_relationship
t/policy/bidirectional_relationship.t .. ok
Attempting to create directory /home/cpansand/.cpan/build/2019090407/App-DBCritic-0.023-1/t/policy/duplicate_relationships
t/policy/duplicate_relationships.t ..... ok
Attempting to create directory /home/cpansand/.cpan/build/2019090407/App-DBCritic-0.023-1/t/policy/no_primary_key
t/policy/no_primary_key.t .............. ok
Attempting to create directory /home/cpansand/.cpan/build/2019090407/App-DBCritic-0.023-1/t/policy/nullable_text_column
t/policy/nullable_text_column.t ........ ok
t/release-changes_has_content.t ........ skipped: these tests are for release candidate testing
t/release-cpan-changes.t ............... skipped: these tests are for release candidate testing
t/release-dist-manifest.t .............. skipped: these tests are for release candidate testing
t/release-distmeta.t ................... skipped: these tests are for release candidate testing
t/release-kwalitee.t ................... skipped: these tests are for release candidate testing
t/release-meta-json.t .................. skipped: these tests are for release candidate testing
t/release-unused-vars.t ................ skipped: these tests are for release candidate testing
t/schema.t ............................. ok
t/script.t ............................. ok
All tests successful.
Files=27, Tests=57,  6 wallclock secs ( 0.08 usr  0.04 sys +  4.36 cusr  1.09 csys =  5.56 CPU)
Result: PASS

------------------------------
PREREQUISITES
------------------------------

Prerequisite modules loaded:

requires:

    Module                      Need    Have      
    --------------------------- ------- ----------
    Algorithm::Combinatorics    0       0.27      
    Carp                        0       1.38      
    Const::Fast                 0       0.014     
    Data::Compare               0       1.25      
    DBI                         0       1.641     
    DBIx::Class                 0.08125 0.082841  
    DBIx::Class::Schema::Loader 0.07007 0.07049   
    Devel::Symdump              0       2.18      
    English                     0       1.06_01   
    Getopt::Long::Descriptive   0       0.102     
    List::MoreUtils             0       0.428     
    List::Util                  1.33    1.50      
    Modern::Perl                0       1.20170117
    Module::Pluggable           0       5.2       
    Moo                         0       2.003004  
    Moo::Role                   0       2.003004  
    namespace::autoclean        0       0.29      
    overload                    0       1.22      
    perl                        5.012   5.018004  
    Scalar::Util                0       1.50      
    strict                      0       1.07      
    Sub::Quote                  0       2.005001  
    utf8                        0       1.10      

build_requires:

    Module                      Need    Have      
    --------------------------- ------- ----------
    base                        0       2.18      
    DBICx::TestDatabase         0       0.05      
    DBIx::Class::Core           0       0         
    DBIx::Class::Schema         0       0         
    ExtUtils::MakeMaker         0       7.34      
    File::Spec                  0       3.75      
    FindBin                     0       1.51      
    IO::Handle                  0       1.39      
    IPC::Open3                  0       1.13      
    local::lib                  0       2.000024  
    Path::Class                 0       0.37      
    Test::More                  0.94    1.302167  
    Test::Most                  0       0.35      
    Test::Script::Run           0       0.08      
    warnings                    0       1.18      

configure_requires:

    Module                      Need    Have      
    --------------------------- ------- ----------
    ExtUtils::MakeMaker         0       7.34      


------------------------------
ENVIRONMENT AND OTHER CONTEXT
------------------------------

Environment variables:

    PATH = /usr/local/bin:/usr/bin:/bin:/usr/local/sbin:/usr/sbin:/sbin:/home/cpansand/bin/sh:/home/cpansand/bin:/usr/games:/home/cpansand/devel:/home/eserte/src/srezic-misc/scripts
    PERL5LIB = /home/cpansand/.cpan/build/2019090407/Test-Script-Run-0.08-1/blib/arch:/home/cpansand/.cpan/build/2019090407/Test-Script-Run-0.08-1/blib/lib
    PERL5OPT = 
    PERL5_CPANPLUS_IS_RUNNING = 11575
    PERL5_CPAN_IS_RUNNING = 11575
    PERL5_CPAN_IS_RUNNING_IN_RECURSION = 10546,11575
    PERL_BATCH = yes
    PERL_CANARY_STABILITY_NOPROMPT = 1
    PERL_CPAN_REPORTER_CONFIG = /var/tmp/cpansmoker-1023/2019090407/cpanreporter_000_config.ini
    PERL_EXTUTILS_AUTOINSTALL = --defaultdeps
    SHELL = /bin/sh
    TMPDIR = /var/tmp/cpansmoker-1023/2019090407

Perl special variables (and OS-specific diagnostics, for MSWin32):

    $^X = /usr/perl5.18.4p/bin/perl
    $UID/$EUID = 1023 / 1023
    $GID = 1023 1023
    $EGID = 1023 1023

Perl module toolchain versions installed:

    Module              Have    
    ------------------- --------
    CPAN                2.16    
    CPAN::Meta          2.150010
    Cwd                 3.75    
    ExtUtils::CBuilder  0.280231
    ExtUtils::Command   7.34    
    ExtUtils::Install   2.06    
    ExtUtils::MakeMaker 7.34    
    ExtUtils::Manifest  1.70    
    ExtUtils::ParseXS   3.35    
    File::Spec          3.75    
    JSON                4.02    
    JSON::PP            4.02    
    Module::Build       0.4229  
    Module::Signature   0.81    
    Parse::CPAN::Meta   2.150010
    Test::Harness       3.42    
    Test::More          1.302167
    YAML                1.29    
    YAML::Syck          1.30    
    version             0.9924  


--

Summary of my perl5 (revision 5 version 18 subversion 4) configuration:
   
  Platform:
    osname=freebsd, osvers=11.1-stable, archname=amd64-freebsd
    uname='freebsd ali3.bbbike.org 11.1-stable freebsd 11.1-stable #0 b7ba9aef7e5(stable11): wed oct 11 00:23:27 utc 2017 root@ali3.bbbike.org:usrobjhomeprojectsfreebsdsysgeneric amd64 '
    config_args='-ds -e -Dprefix=/usr/perl5.18.4p -Dcf_email=srezic@cpan.org -Doptimize=-O2 -pipe'
    hint=recommended, useposix=true, d_sigaction=define
    useithreads=undef, usemultiplicity=undef
    useperlio=define, d_sfio=undef, uselargefiles=define, usesocks=undef
    use64bitint=define, use64bitall=define, uselongdouble=undef
    usemymalloc=n, bincompat5005=undef
  Compiler:
    cc='cc', ccflags ='-DHAS_FPSETMASK -DHAS_FLOATINGPOINT_H -fno-strict-aliasing -pipe -fstack-protector -I/usr/local/include',
    optimize='-O2 -pipe',
    cppflags='-DHAS_FPSETMASK -DHAS_FLOATINGPOINT_H -fno-strict-aliasing -pipe -fstack-protector -I/usr/local/include'
    ccversion='', gccversion='4.2.1 Compatible FreeBSD Clang 5.0.0 (tags/RELEASE_500/final 312559)', gccosandvers=''
    intsize=4, longsize=8, ptrsize=8, doublesize=8, byteorder=12345678
    d_longlong=define, longlongsize=8, d_longdbl=define, longdblsize=16
    ivtype='long', ivsize=8, nvtype='double', nvsize=8, Off_t='off_t', lseeksize=8
    alignbytes=8, prototype=define
  Linker and Libraries:
    ld='cc', ldflags ='-pthread -Wl,-E  -fstack-protector -L/usr/local/lib'
    libpth=/usr/lib /usr/local/lib
    libs=-lgdbm -lm -lcrypt -lutil -lc
    perllibs=-lm -lcrypt -lutil -lc
    libc=, so=so, useshrplib=false, libperl=libperl.a
    gnulibc_version=''
  Dynamic Linking:
    dlsrc=dl_dlopen.xs, dlext=so, d_dlsymun=undef, ccdlflags=' '
    cccdlflags='-DPIC -fPIC', lddlflags='-shared  -L/usr/local/lib -fstack-protector'


Characteristics of this binary (from libperl): 
  Compile-time options: HAS_TIMES PERLIO_LAYERS PERL_DONT_CREATE_GVSV
                        PERL_HASH_FUNC_ONE_AT_A_TIME_HARD PERL_MALLOC_WRAP
                        PERL_PRESERVE_IVUV PERL_SAWAMPERSAND USE_64_BIT_ALL
                        USE_64_BIT_INT USE_LARGE_FILES USE_LOCALE
                        USE_LOCALE_COLLATE USE_LOCALE_CTYPE
                        USE_LOCALE_NUMERIC USE_PERLIO USE_PERL_ATOF
  Built under freebsd
  Compiled at Oct 19 2017 14:17:00
  %ENV:
    PERL5LIB="/home/cpansand/.cpan/build/2019090407/Test-Script-Run-0.08-1/blib/arch:/home/cpansand/.cpan/build/2019090407/Test-Script-Run-0.08-1/blib/lib"
    PERL5OPT=""
    PERL5_CPANPLUS_IS_RUNNING="11575"
    PERL5_CPAN_IS_RUNNING="11575"
    PERL5_CPAN_IS_RUNNING_IN_RECURSION="10546,11575"
    PERL_BATCH="yes"
    PERL_CANARY_STABILITY_NOPROMPT="1"
    PERL_CPAN_REPORTER_CONFIG="/var/tmp/cpansmoker-1023/2019090407/cpanreporter_000_config.ini"
    PERL_EXTUTILS_AUTOINSTALL="--defaultdeps"
  @INC:
    /home/cpansand/.cpan/build/2019090407/Test-Script-Run-0.08-1/blib/arch
    /home/cpansand/.cpan/build/2019090407/Test-Script-Run-0.08-1/blib/lib
    /usr/perl5.18.4p/lib/site_perl/5.18.4/amd64-freebsd
    /usr/perl5.18.4p/lib/site_perl/5.18.4
    /usr/perl5.18.4p/lib/5.18.4/amd64-freebsd
    /usr/perl5.18.4p/lib/5.18.4
    .