Module-Faker v0.022 Perl 5 v5.31.9 amd64-netbsd
- Status
- Pass
- From
- Carlos Guevara
- Dist
-
Module-Faker v0.022
- Platform
- Perl 5 v5.31.9 amd64-netbsd
- Date
- 2020-01-26 08:02:17
- ID
- 2bc82224-4012-11ea-a8f1-1b0b654d0f8b
This distribution has been tested as part of the CPAN Testers
project, supporting the Perl programming language. See
http://wiki.cpantesters.org/ for more information or email
questions to cpan-testers-discuss@perl.org
--
Dear Ricardo SIGNES,
This is a computer-generated report for Module-Faker-0.022
on perl 5.31.9, created by CPAN-Reporter-1.2018.
Thank you for uploading your work to CPAN. Congratulations!
All tests were successful.
Sections of this report:
* Tester comments
* Program output
* Prerequisites
* Environment and other context
------------------------------
TESTER COMMENTS
------------------------------
Additional comments from tester:
none provided
------------------------------
PROGRAM OUTPUT
------------------------------
Output from '/usr/bin/make test':
PERL_DL_NONLAZY=1 "/home/cpan/bin/perl-blead/bin/perl5.31.9" "-MExtUtils::Command::MM" "-MTest::Harness" "-e" "undef *Test::Harness::Switches; test_harness(0, 'blib/lib', 'blib/arch')" t/*.t
#
# Versions for all modules listed in MYMETA.json (including optional ones):
#
# === Configure Requires ===
#
# Module Want Have
# ------------------- ---- ----
# ExtUtils::MakeMaker any 7.44
#
# === Build Requires ===
#
# Module Want Have
# ------------------- ---- ----
# ExtUtils::MakeMaker any 7.44
#
# === Test Requires ===
#
# Module Want Have
# ------------------- ---- --------
# Cwd any 3.78
# ExtUtils::MakeMaker any 7.44
# File::Spec any 3.78
# JSON::PP any 4.04
# Path::Class 0.06 0.37
# Test::More 0.96 1.302171
#
# === Test Recommends ===
#
# Module Want Have
# ---------- -------- --------
# CPAN::Meta 2.120900 2.150010
#
# === Runtime Requires ===
#
# Module Want Have
# ---------------------------- -------- --------
# Archive::Any::Create any 0.03
# CPAN::DistnameInfo any 0.12
# CPAN::Meta 2.130880 2.150010
# CPAN::Meta::Converter any 2.150010
# CPAN::Meta::Merge any 2.150010
# CPAN::Meta::Requirements any 2.140
# Carp any 1.50
# Data::OptList any 0.110
# Encode any 3.02
# File::Next any 1.18
# File::Path any 2.16
# File::Temp any 0.2309
# Getopt::Long::Descriptive any 0.104
# Moose 0.33 2.2012
# Moose::Role any 2.2012
# Moose::Util::TypeConstraints any 2.2012
# Parse::CPAN::Meta 1.4401 2.150010
# Path::Class 0.06 0.37
# Storable any 3.18
# Text::Template any 1.58
# strict any 1.11
# warnings any 1.46
#
t/00-report-prereqs.t .. ok
t/append-utf8.t ........ ok
t/append.t ............. ok
t/basic.t .............. ok
t/makefile-pl.t ........ ok
t/meta-files.t ......... ok
t/omit-file.t .......... ok
t/provide-order.t ...... ok
t/requires.t ........... ok
All tests successful.
Files=9, Tests=33, 7 wallclock secs ( 0.04 usr 0.05 sys + 4.89 cusr 1.16 csys = 6.14 CPU)
Result: PASS
------------------------------
PREREQUISITES
------------------------------
Prerequisite modules loaded:
requires:
Module Need Have
---------------------------- -------- --------
Archive::Any::Create 0 0.03
Carp 0 1.50
CPAN::DistnameInfo 0 0.12
CPAN::Meta 2.130880 2.150010
CPAN::Meta::Converter 0 2.150010
CPAN::Meta::Merge 0 2.150010
CPAN::Meta::Requirements 0 2.140
Data::OptList 0 0.110
Encode 0 3.02
File::Next 0 1.18
File::Path 0 2.16
File::Temp 0 0.2309
Getopt::Long::Descriptive 0 0.104
Moose 0.33 2.2012
Moose::Role 0 2.2012
Moose::Util::TypeConstraints 0 2.2012
Parse::CPAN::Meta 1.4401 2.150010
Path::Class 0.06 0.37
perl 5.014000 5.031009
Storable 0 3.18
strict 0 1.11
Text::Template 0 1.58
warnings 0 1.46
build_requires:
Module Need Have
---------------------------- -------- --------
Cwd 0 3.78
ExtUtils::MakeMaker 0 7.44
File::Spec 0 3.78
JSON::PP 0 4.04
Path::Class 0.06 0.37
Test::More 0.96 1.302171
configure_requires:
Module Need Have
---------------------------- -------- --------
ExtUtils::MakeMaker 0 7.44
------------------------------
ENVIRONMENT AND OTHER CONTEXT
------------------------------
Environment variables:
LC_ALL = C
NONINTERACTIVE_TESTING = 1
PATH = /home/cpan/bin/perl-blead/bin:/home/cpan/bin:/home/cpan/bin:/bin:/sbin:/usr/bin:/usr/sbin:/usr/X11R7/bin:/usr/pkg/bin:/usr/pkg/sbin:/usr/games:/usr/local/bin:/usr/local/sbin
PERL5LIB =
PERL5OPT =
PERL5_CPANPLUS_IS_RUNNING = 21285
PERL5_CPAN_IS_RUNNING = 21285
PERL_MM_USE_DEFAULT = 1
PERL_USE_UNSAFE_INC = 1
PERL_VERSION = blead
SHELL = /usr/pkg/bin/bash
TERM = screen
TMPDIR = /home/cpan/tmp
Perl special variables (and OS-specific diagnostics, for MSWin32):
$^X = /home/cpan/bin/perl-blead/bin/perl5.31.9
$UID/$EUID = 1001 / 1001
$GID = 100 100
$EGID = 100 100
Perl module toolchain versions installed:
Module Have
------------------- --------
CPAN 2.27
CPAN::Meta 2.150010
Cwd 3.78
ExtUtils::CBuilder 0.280234
ExtUtils::Command 7.44
ExtUtils::Install 2.14
ExtUtils::MakeMaker 7.44
ExtUtils::Manifest 1.72
ExtUtils::ParseXS 3.40
File::Spec 3.78
JSON 4.02
JSON::PP 4.04
Module::Build 0.4229
Module::Signature n/a
Parse::CPAN::Meta 2.150010
Test::Harness 3.42
Test::More 1.302171
YAML 1.29
YAML::Syck 1.31
version 0.9924
--
Summary of my perl5 (revision 5 version 31 subversion 9) configuration:
Commit id: fd9c22e56536c51f0c621c365b440c3ca01c1ce4
Platform:
osname=netbsd
osvers=8.1
archname=amd64-netbsd
uname='netbsd cjg-netbsd8 8.1 netbsd 8.1 (generic) #0: fri may 31 08:43:59 utc 2019 mkrepro@mkrepro.netbsd.org:usrsrcsysarchamd64compilegeneric amd64 '
config_args='-des -Dprefix=~/bin/perl-blead -Dscriptdir=~/bin/perl-blead/bin -Dusedevel -Duse64bitall'
hint=recommended
useposix=true
d_sigaction=define
useithreads=undef
usemultiplicity=undef
use64bitint=define
use64bitall=define
uselongdouble=undef
usemymalloc=n
default_inc_excludes_dot=define
bincompat5005=undef
Compiler:
cc='cc'
ccflags ='-fwrapv -fno-strict-aliasing -pipe -fstack-protector-strong -I/usr/pkg/include -D_FORTIFY_SOURCE=2'
optimize='-O'
cppflags='-fwrapv -fno-strict-aliasing -pipe -fstack-protector-strong -I/usr/pkg/include'
ccversion=''
gccversion='5.5.0'
gccosandvers=''
intsize=4
longsize=8
ptrsize=8
doublesize=8
byteorder=12345678
doublekind=3
d_longlong=define
longlongsize=8
d_longdbl=define
longdblsize=16
longdblkind=3
ivtype='long'
ivsize=8
nvtype='double'
nvsize=8
Off_t='off_t'
lseeksize=8
alignbytes=8
prototype=define
Linker and Libraries:
ld='cc'
ldflags =' -Wl,-rpath,/usr/pkg/lib -Wl,-rpath,/usr/local/lib -fstack-protector-strong -L/usr/pkg/lib'
libpth=/usr/include/gcc-5 /usr/lib /usr/pkg/lib /lib
libs=-lpthread -lm -lcrypt -lutil -lc -lposix
perllibs=-lpthread -lm -lcrypt -lutil -lc -lposix
libc=/lib/libc.so
so=so
useshrplib=false
libperl=libperl.a
gnulibc_version=''
Dynamic Linking:
dlsrc=dl_dlopen.xs
dlext=so
d_dlsymun=undef
ccdlflags='-Wl,-E '
cccdlflags='-DPIC -fPIC '
lddlflags='-shared -L/usr/pkg/lib -fstack-protector-strong'
Characteristics of this binary (from libperl):
Compile-time options:
HAS_TIMES
PERLIO_LAYERS
PERL_COPY_ON_WRITE
PERL_DONT_CREATE_GVSV
PERL_MALLOC_WRAP
PERL_OP_PARENT
PERL_PRESERVE_IVUV
PERL_USE_DEVEL
USE_64_BIT_ALL
USE_64_BIT_INT
USE_LARGE_FILES
USE_LOCALE
USE_LOCALE_COLLATE
USE_LOCALE_CTYPE
USE_LOCALE_NUMERIC
USE_LOCALE_TIME
USE_PERLIO
USE_PERL_ATOF
Built under netbsd
Compiled at Jan 25 2020 20:46:59
%ENV:
PERL5LIB=""
PERL5OPT=""
PERL5_CPANPLUS_IS_RUNNING="21285"
PERL5_CPAN_IS_RUNNING="21285"
PERL_MM_USE_DEFAULT="1"
PERL_USE_UNSAFE_INC="1"
PERL_VERSION="blead"
@INC:
/home/cpan/bin/perl-blead/lib/site_perl/5.31.9/amd64-netbsd
/home/cpan/bin/perl-blead/lib/site_perl/5.31.9
/home/cpan/bin/perl-blead/lib/5.31.9/amd64-netbsd
/home/cpan/bin/perl-blead/lib/5.31.9
.