Report for Module-PrintUsed-0.06

Back
From: metabase:user:314402c4-2aae-11df-837a-5e0a49663a4f
Subject: PASS Module-PrintUsed-0.06 v5.20.3 RC2 GNU/Linux
Date: 2015-09-01T19:46:43Z

This distribution has been tested as part of the CPAN Testers
project, supporting the Perl programming language.  See
http://wiki.cpantesters.org/ for more information or email
questions to cpan-testers-discuss@perl.org


--
Dear Christian Renz,

This is a computer-generated report for Module-PrintUsed-0.06
on perl 5.20.3, created by CPAN-Reporter-1.2015.

Thank you for uploading your work to CPAN.  Congratulations!
All tests were successful.

Sections of this report:

    * Tester comments
    * Program output
    * Prerequisites
    * Environment and other context

------------------------------
TESTER COMMENTS
------------------------------

Additional comments from tester:

none provided

------------------------------
PROGRAM OUTPUT
------------------------------

Output from '/usr/bin/make test':

PERL_DL_NONLAZY=1 /opt/perl-5.20.3-RC2/bin/perl "-MExtUtils::Command::MM" "-MTest::Harness" "-e" "undef *Test::Harness::Switches; test_harness(0, 'blib/lib', 'blib/arch')" t/*.t

Modules used by t/1-use.t:
 - Carp                      1.3301   /opt/perl-5.20.3-RC2/lib/5.20.3/Carp.pm
 - Exporter                  5.71     /opt/perl-5.20.3-RC2/lib/5.20.3/Exporter.pm
 - Exporter::Heavy           5.71     /opt/perl-5.20.3-RC2/lib/5.20.3/Exporter/Heavy.pm
 - Module::PrintUsed         0.06     /tmpfs/.cpan-build/2015090118/Module-PrintUsed-0.06-sF7GNO/blib/lib/Module/PrintUsed.pm
 - Test                      1.26     /opt/perl-5.20.3-RC2/lib/5.20.3/Test.pm
 - strict                    1.08     /opt/perl-5.20.3-RC2/lib/5.20.3/strict.pm
 - vars                      1.03     /opt/perl-5.20.3-RC2/lib/5.20.3/vars.pm
 - warnings                  1.23     /opt/perl-5.20.3-RC2/lib/5.20.3/warnings.pm
 - warnings::register        1.03     /opt/perl-5.20.3-RC2/lib/5.20.3/warnings/register.pm

t/1-use.t ......... ok

Modules used by t/2-modules.t:
 - Carp                      1.3301   /opt/perl-5.20.3-RC2/lib/5.20.3/Carp.pm
 - Exporter                  5.71     /opt/perl-5.20.3-RC2/lib/5.20.3/Exporter.pm
 - Exporter::Heavy           5.71     /opt/perl-5.20.3-RC2/lib/5.20.3/Exporter/Heavy.pm
 - Module::PrintUsed         0.06     /tmpfs/.cpan-build/2015090118/Module-PrintUsed-0.06-sF7GNO/blib/lib/Module/PrintUsed.pm
 - Test                      1.26     /opt/perl-5.20.3-RC2/lib/5.20.3/Test.pm
 - strict                    1.08     /opt/perl-5.20.3-RC2/lib/5.20.3/strict.pm
 - vars                      1.03     /opt/perl-5.20.3-RC2/lib/5.20.3/vars.pm
 - warnings                  1.23     /opt/perl-5.20.3-RC2/lib/5.20.3/warnings.pm
 - warnings::register        1.03     /opt/perl-5.20.3-RC2/lib/5.20.3/warnings/register.pm

t/2-modules.t ..... ok
t/meta.t .......... ok

Modules used by t/pod-coverage.t:
 - B                         1.48     /opt/perl-5.20.3-RC2/lib/5.20.3/x86_64-linux/B.pm
 - Carp                      1.3301   /opt/perl-5.20.3-RC2/lib/5.20.3/Carp.pm
 - Config                    5.020003 /opt/perl-5.20.3-RC2/lib/5.20.3/x86_64-linux/Config.pm
 - Config_git.pl                      /opt/perl-5.20.3-RC2/lib/5.20.3/x86_64-linux/Config_git.pl
 - Config_heavy.pl                    /opt/perl-5.20.3-RC2/lib/5.20.3/x86_64-linux/Config_heavy.pl
 - Cwd                       3.48_01  /opt/perl-5.20.3-RC2/lib/5.20.3/x86_64-linux/Cwd.pm
 - Devel::Symdump            2.15     /opt/perl-5.20.3-RC2/lib/site_perl/5.20.3/Devel/Symdump.pm
 - DynaLoader                1.25     /opt/perl-5.20.3-RC2/lib/5.20.3/x86_64-linux/DynaLoader.pm
 - Exporter                  5.71     /opt/perl-5.20.3-RC2/lib/5.20.3/Exporter.pm
 - Exporter::Heavy           5.71     /opt/perl-5.20.3-RC2/lib/5.20.3/Exporter/Heavy.pm
 - File::Basename            2.85     /opt/perl-5.20.3-RC2/lib/5.20.3/File/Basename.pm
 - File::Find                1.27     /opt/perl-5.20.3-RC2/lib/5.20.3/File/Find.pm
 - File::Spec                3.48_01  /opt/perl-5.20.3-RC2/lib/5.20.3/x86_64-linux/File/Spec.pm
 - File::Spec::Unix          3.48_01  /opt/perl-5.20.3-RC2/lib/5.20.3/x86_64-linux/File/Spec/Unix.pm
 - List::Util                1.38     /opt/perl-5.20.3-RC2/lib/5.20.3/x86_64-linux/List/Util.pm
 - Module::PrintUsed         0.06     /tmpfs/.cpan-build/2015090118/Module-PrintUsed-0.06-sF7GNO/blib/lib/Module/PrintUsed.pm
 - PerlIO                    1.09     /opt/perl-5.20.3-RC2/lib/5.20.3/PerlIO.pm
 - Pod::Coverage             0.23     /opt/perl-5.20.3-RC2/lib/site_perl/5.20.3/Pod/Coverage.pm
 - Pod::Find                 1.62     /opt/perl-5.20.3-RC2/lib/5.20.3/Pod/Find.pm
 - Pod::InputObjects         1.62     /opt/perl-5.20.3-RC2/lib/5.20.3/Pod/InputObjects.pm
 - Pod::Parser               1.62     /opt/perl-5.20.3-RC2/lib/5.20.3/Pod/Parser.pm
 - Scalar::Util              1.38     /opt/perl-5.20.3-RC2/lib/5.20.3/x86_64-linux/Scalar/Util.pm
 - Test::Builder             1.001014 /opt/perl-5.20.3-RC2/lib/site_perl/5.20.3/Test/Builder.pm
 - Test::Builder::Module     1.001014 /opt/perl-5.20.3-RC2/lib/site_perl/5.20.3/Test/Builder/Module.pm
 - Test::More                1.001014 /opt/perl-5.20.3-RC2/lib/site_perl/5.20.3/Test/More.pm
 - Test::Pod::Coverage       1.10     /opt/perl-5.20.3-RC2/lib/site_perl/5.20.3/Test/Pod/Coverage.pm
 - XSLoader                  0.17     /opt/perl-5.20.3-RC2/lib/5.20.3/XSLoader.pm
 - base                      2.22     /opt/perl-5.20.3-RC2/lib/5.20.3/base.pm
 - constant                  1.31     /opt/perl-5.20.3-RC2/lib/5.20.3/constant.pm
 - overload                  1.22     /opt/perl-5.20.3-RC2/lib/5.20.3/overload.pm
 - overloading               0.02     /opt/perl-5.20.3-RC2/lib/5.20.3/overloading.pm
 - re                        0.26     /opt/perl-5.20.3-RC2/lib/5.20.3/x86_64-linux/re.pm
 - strict                    1.08     /opt/perl-5.20.3-RC2/lib/5.20.3/strict.pm
 - vars                      1.03     /opt/perl-5.20.3-RC2/lib/5.20.3/vars.pm
 - warnings                  1.23     /opt/perl-5.20.3-RC2/lib/5.20.3/warnings.pm
 - warnings::register        1.03     /opt/perl-5.20.3-RC2/lib/5.20.3/warnings/register.pm

t/pod-coverage.t .. ok
t/pod.t ........... ok
All tests successful.
Files=5, Tests=8,  0 wallclock secs ( 0.02 usr  0.03 sys +  0.12 cusr  0.03 csys =  0.20 CPU)
Result: PASS

------------------------------
PREREQUISITES
------------------------------

Prerequisite modules loaded:

requires:

    Module              Need  Have    
    ------------------- ----- --------
    perl                5.006 5.020003

build_requires:

    Module              Need  Have    
    ------------------- ----- --------
    ExtUtils::MakeMaker 0     6.98    

configure_requires:

    Module              Need  Have    
    ------------------- ----- --------
    ExtUtils::MakeMaker 0     6.98    


------------------------------
ENVIRONMENT AND OTHER CONTEXT
------------------------------

Environment variables:

    DBIC_NO_WARN_BAD_PERL = 1
    LANG = C
    PATH = /usr/local/bin:/usr/bin:/bin:/usr/local/sbin:/usr/sbin:/sbin:/home/eserte/bin/linux-gnu:/home/eserte/bin/sh:/home/eserte/bin:/usr/games:/home/eserte/devel:/home/eserte/src/srezic-misc/scripts
    PERL5LIB = 
    PERL5OPT = 
    PERL5_CPANPLUS_IS_RUNNING = 25209
    PERL5_CPAN_IS_RUNNING = 25209
    PERL5_CPAN_IS_RUNNING_IN_RECURSION = 25094,25209
    PERLDOC = -MPod::Perldoc::ToTextOverstrike
    PERL_BATCH = yes
    PERL_CANARY_STABILITY_NOPROMPT = 1
    PERL_CPAN_REPORTER_CONFIG = /var/tmp/cpansmoker-1001/2015090118/cpanreporter_003_config.ini
    PERL_EXTUTILS_AUTOINSTALL = --defaultdeps
    SHELL = /bin/zsh
    TERM = screen
    TMPDIR = /var/tmp/cpansmoker-1001/2015090118

Perl special variables (and OS-specific diagnostics, for MSWin32):

    $^X = /opt/perl-5.20.3-RC2/bin/perl
    $UID/$EUID = 1001 / 1001
    $GID = 1001 109 1001
    $EGID = 1001 109 1001

Perl module toolchain versions installed:

    Module              Have    
    ------------------- --------
    CPAN                2.05    
    CPAN::Meta          2.150005
    Cwd                 3.48_01 
    ExtUtils::CBuilder  0.280217
    ExtUtils::Command   1.18    
    ExtUtils::Install   1.67    
    ExtUtils::MakeMaker 6.98    
    ExtUtils::Manifest  1.70    
    ExtUtils::ParseXS   3.24    
    File::Spec          3.48_01 
    JSON                2.90    
    JSON::PP            2.27203 
    Module::Build       0.4214  
    Module::Signature   n/a     
    Parse::CPAN::Meta   1.4414  
    Test::Harness       3.30    
    Test::More          1.001014
    YAML                1.15    
    YAML::Syck          1.29    
    version             0.9909  


--

Summary of my perl5 (revision 5 version 20 subversion 3) configuration:
   
  Platform:
    osname=linux, osvers=3.2.0-4-amd64, archname=x86_64-linux
    uname='linux eserte 3.2.0-4-amd64 #1 smp debian 3.2.68-1+deb7u3 x86_64 gnulinux '
    config_args='-ds -e -Dprefix=/opt/perl-5.20.3-RC2 -Dcf_email=srezic@cpan.org'
    hint=recommended, useposix=true, d_sigaction=define
    useithreads=undef, usemultiplicity=undef
    use64bitint=define, use64bitall=define, uselongdouble=undef
    usemymalloc=n, bincompat5005=undef
  Compiler:
    cc='cc', ccflags ='-fwrapv -fno-strict-aliasing -pipe -fstack-protector -I/usr/local/include -D_LARGEFILE_SOURCE -D_FILE_OFFSET_BITS=64',
    optimize='-O2',
    cppflags='-fwrapv -fno-strict-aliasing -pipe -fstack-protector -I/usr/local/include'
    ccversion='', gccversion='4.7.2', gccosandvers=''
    intsize=4, longsize=8, ptrsize=8, doublesize=8, byteorder=12345678
    d_longlong=define, longlongsize=8, d_longdbl=define, longdblsize=16
    ivtype='long', ivsize=8, nvtype='double', nvsize=8, Off_t='off_t', lseeksize=8
    alignbytes=8, prototype=define
  Linker and Libraries:
    ld='cc', ldflags =' -fstack-protector -L/usr/local/lib'
    libpth=/usr/local/lib /usr/lib/gcc/x86_64-linux-gnu/4.7/include-fixed /usr/include/x86_64-linux-gnu /usr/lib /lib/x86_64-linux-gnu /lib/../lib /usr/lib/x86_64-linux-gnu /usr/lib/../lib /lib
    libs=-lpthread -lnsl -ldb -ldl -lm -lcrypt -lutil -lc
    perllibs=-lpthread -lnsl -ldl -lm -lcrypt -lutil -lc
    libc=libc-2.13.so, so=so, useshrplib=false, libperl=libperl.a
    gnulibc_version='2.13'
  Dynamic Linking:
    dlsrc=dl_dlopen.xs, dlext=so, d_dlsymun=undef, ccdlflags='-Wl,-E'
    cccdlflags='-fPIC', lddlflags='-shared -O2 -L/usr/local/lib -fstack-protector'


Characteristics of this binary (from libperl): 
  Compile-time options: HAS_TIMES PERLIO_LAYERS PERL_DONT_CREATE_GVSV
                        PERL_HASH_FUNC_ONE_AT_A_TIME_HARD PERL_MALLOC_WRAP
                        PERL_NEW_COPY_ON_WRITE PERL_PRESERVE_IVUV
                        USE_64_BIT_ALL USE_64_BIT_INT USE_LARGE_FILES
                        USE_LOCALE USE_LOCALE_COLLATE USE_LOCALE_CTYPE
                        USE_LOCALE_NUMERIC USE_PERLIO USE_PERL_ATOF
  Locally applied patches:
	RC2
  Built under linux
  Compiled at Sep  1 2015 18:14:29
  %ENV:
    PERL5LIB=""
    PERL5OPT=""
    PERL5_CPANPLUS_IS_RUNNING="25209"
    PERL5_CPAN_IS_RUNNING="25209"
    PERL5_CPAN_IS_RUNNING_IN_RECURSION="25094,25209"
    PERLDOC="-MPod::Perldoc::ToTextOverstrike"
    PERL_BATCH="yes"
    PERL_CANARY_STABILITY_NOPROMPT="1"
    PERL_CPAN_REPORTER_CONFIG="/var/tmp/cpansmoker-1001/2015090118/cpanreporter_003_config.ini"
    PERL_EXTUTILS_AUTOINSTALL="--defaultdeps"
  @INC:
    /opt/perl-5.20.3-RC2/lib/site_perl/5.20.3/x86_64-linux
    /opt/perl-5.20.3-RC2/lib/site_perl/5.20.3
    /opt/perl-5.20.3-RC2/lib/5.20.3/x86_64-linux
    /opt/perl-5.20.3-RC2/lib/5.20.3
    .