Web-Request v0.11 Perl 5 v5.28.0 OpenBSD.amd64-openbsd-thread-multi

Status
Pass
From
Alceu Rodrigues de Freitas Junior
Dist
Web-Request v0.11
Platform
Perl 5 v5.28.0 OpenBSD.amd64-openbsd-thread-multi
Date
2018-08-14 20:46:51
ID
2ba73254-a003-11e8-b484-eea1511e36b6
This distribution has been tested as part of the CPAN Testers
project, supporting the Perl programming language.  See
http://wiki.cpantesters.org/ for more information or email
questions to cpan-testers-discuss@perl.org


--
Dear Jesse Luehrs,

This is a computer-generated report for Web-Request-0.11
on perl 5.28.0, created by CPAN-Reporter-1.2018.

Thank you for uploading your work to CPAN.  Congratulations!
All tests were successful.

Sections of this report:

    * Tester comments
    * Program output
    * Prerequisites
    * Environment and other context

------------------------------
TESTER COMMENTS
------------------------------

Additional comments from tester:

this report is from an automated smoke testing program
and was not reviewed by a human for accuracy

------------------------------
PROGRAM OUTPUT
------------------------------

Output from '/usr/bin/make test':

PERL_DL_NONLAZY=1 "/home/goku/perl5/perlbrew/perls/perl-5.28.0/bin/perl" "-MExtUtils::Command::MM" "-MTest::Harness" "-e" "undef *Test::Harness::Switches; test_harness(0, 'blib/lib', 'blib/arch')" t/*.t
t/00-compile.t ................. ok
t/base.t ....................... ok
t/body.t ....................... ok
t/content-on-get.t ............. ok
t/content.t .................... ok
t/cookie.t ..................... ok
t/double_port.t ................ ok
t/encoding.t ................... ok
t/hostname.t ................... ok
t/many_upload.t ................ ok
t/multi_read.t ................. ok
t/new.t ........................ ok
t/parameters.t ................. ok
t/params.t ..................... ok
t/path_info.t .................. ok
t/path_info_escaped.t .......... ok
t/readbody.t ................... ok
t/request_uri.t ................ ok
t/response-body.t .............. ok
t/response-compatible.t ........ ok
t/response-cookie.t ............ ok
t/response-new.t ............... ok
t/response-redirect.t .......... ok
t/response-streaming-cookie.t .. ok
t/response-streaming-utf8.t .... ok
t/response-streaming.t ......... ok
t/response-to_app.t ............ ok
t/response.t ................... ok
t/upload-basename.t ............ ok
t/upload-large.t ............... ok
t/upload.t ..................... ok
t/uri.t ........................ ok
t/uri_utf8.t ................... ok
All tests successful.
Files=33, Tests=244, 29 wallclock secs ( 0.12 usr  0.38 sys + 19.33 cusr  6.86 csys = 26.69 CPU)
Result: PASS

------------------------------
PREREQUISITES
------------------------------

Prerequisite modules loaded:

requires:

    Module                       Need Have    
    ---------------------------- ---- --------
    Encode                       0    2.98    
    File::Spec::Unix             0    3.74    
    HTTP::Body                   0    1.22    
    HTTP::Headers                0    6.18    
    HTTP::Message::PSGI          0    0       
    Module::Runtime              0    0.016   
    Moose                        0    2.2011  
    Moose::Util::TypeConstraints 0    2.2011  
    Plack::Util                  0    0       
    Stream::Buffered             0    0.03    
    strict                       0    1.11    
    URI                          0    1.74    
    URI::Escape                  0    3.31    
    warnings                     0    1.42    

build_requires:

    Module                       Need Have    
    ---------------------------- ---- --------
    Data::Dumper                 0    2.170   
    File::Find                   0    1.34    
    File::Temp                   0    0.2306  
    FindBin                      0    1.51    
    HTTP::Request                0    6.18    
    HTTP::Request::Common        0    6.18    
    IO::String                   0    1.08    
    Plack::App::URLMap           0    0       
    Plack::Test                  0    0       
    Test::More                   0.88 1.302139
    Try::Tiny                    0    0.30    
    utf8                         0    1.21    

configure_requires:

    Module                       Need Have    
    ---------------------------- ---- --------
    ExtUtils::MakeMaker          6.30 7.34    


------------------------------
ENVIRONMENT AND OTHER CONTEXT
------------------------------

Environment variables:

    AUTOMATED_TESTING = 1
    DBD_MYSQL_TESTDB = test
    DBD_MYSQL_TESTHOST = localhost
    DBD_MYSQL_TESTPASSWORD = 
    DBD_MYSQL_TESTPORT = 3306
    DBD_MYSQL_TESTUSER = goku
    EXTENDED_TESTING = 1
    PATH = /home/goku/perl5/perlbrew/bin:/home/goku/perl5/perlbrew/perls/perl-5.28.0/bin:/home/goku/bin:/usr/bin:/bin:/usr/sbin:/sbin:/usr/X11R6/bin:/usr/local/bin:/usr/local/sbin
    PERL5LIB = 
    PERL5OPT = 
    PERL5_CPANPLUS_IS_RUNNING = 14553
    PERL5_CPAN_IS_RUNNING = 14553
    PERL5_CPAN_IS_RUNNING_IN_RECURSION = 80648,14553
    PERLBREW_HOME = /home/goku/.perlbrew
    PERLBREW_MANPATH = /home/goku/perl5/perlbrew/perls/perl-5.28.0/man
    PERLBREW_PATH = /home/goku/perl5/perlbrew/bin:/home/goku/perl5/perlbrew/perls/perl-5.28.0/bin
    PERLBREW_PERL = perl-5.28.0
    PERLBREW_ROOT = /home/goku/perl5/perlbrew
    PERLBREW_SHELLRC_VERSION = 0.84
    PERLBREW_VERSION = 0.84
    PERL_CR_SMOKER_CURRENT = Web-Request-Role-JSON-1.005
    PERL_EXTUTILS_AUTOINSTALL = --defaultdeps
    PERL_MM_USE_DEFAULT = 1
    PERL_USE_UNSAFE_INC = 1
    SHELL = /usr/local/bin/bash
    TERM = xterm

Perl special variables (and OS-specific diagnostics, for MSWin32):

    $^X = /home/goku/perl5/perlbrew/perls/perl-5.28.0/bin/perl
    $UID/$EUID = 1002 / 1002
    $GID = 1002 1002 1001
    $EGID = 1002 1002 1001

Perl module toolchain versions installed:

    Module              Have    
    ------------------- --------
    CPAN                2.20    
    CPAN::Meta          2.150010
    Cwd                 3.74    
    ExtUtils::CBuilder  0.280230
    ExtUtils::Command   7.34    
    ExtUtils::Install   2.14    
    ExtUtils::MakeMaker 7.34    
    ExtUtils::Manifest  1.71    
    ExtUtils::ParseXS   3.36_03 
    File::Spec          3.74    
    JSON                2.97001 
    JSON::PP            2.97001 
    Module::Build       0.42_28 
    Module::Signature   0.81    
    Parse::CPAN::Meta   2.150010
    Test::Harness       3.42    
    Test::More          1.302139
    YAML                1.26    
    YAML::Syck          n/a     
    version             0.9924  


--

Summary of my perl5 (revision 5 version 28 subversion 0) configuration:
   
  Platform:
    osname=openbsd
    osvers=6.3
    archname=OpenBSD.amd64-openbsd-thread-multi
    uname='openbsd cpan-smoker-openbsd 6.3 generic.mp#107 amd64 '
    config_args='-de -Dprefix=/home/goku/perl5/perlbrew/perls/perl-5.28.0 -Dman1dir=none -Dman3dir=none -Dusethreads -Aeval:scriptdir=/home/goku/perl5/perlbrew/perls/perl-5.28.0/bin'
    hint=recommended
    useposix=true
    d_sigaction=define
    useithreads=define
    usemultiplicity=define
    use64bitint=define
    use64bitall=define
    uselongdouble=undef
    usemymalloc=n
    default_inc_excludes_dot=define
    bincompat5005=undef
  Compiler:
    cc='cc'
    ccflags ='-pthread -fno-strict-aliasing -pipe -fstack-protector-strong -I/usr/local/include -D_FORTIFY_SOURCE=2'
    optimize='-O2'
    cppflags='-pthread -fno-strict-aliasing -pipe -fstack-protector-strong -I/usr/local/include'
    ccversion=''
    gccversion='4.2.1 Compatible OpenBSD Clang 5.0.1 (tags/RELEASE_501/final)'
    gccosandvers=''
    intsize=4
    longsize=8
    ptrsize=8
    doublesize=8
    byteorder=12345678
    doublekind=3
    d_longlong=define
    longlongsize=8
    d_longdbl=define
    longdblsize=16
    longdblkind=3
    ivtype='long'
    ivsize=8
    nvtype='double'
    nvsize=8
    Off_t='off_t'
    lseeksize=8
    alignbytes=8
    prototype=define
  Linker and Libraries:
    ld='cc'
    ldflags ='-pthread -Wl,-E  -fstack-protector-strong -L/usr/local/lib'
    libpth=/usr/lib /usr/local/lib
    libs=-lpthread -lm -lutil -lc
    perllibs=-lpthread -lm -lutil -lc
    libc=/usr/lib/libc.so.92.3
    so=so
    useshrplib=false
    libperl=libperl.a
    gnulibc_version=''
  Dynamic Linking:
    dlsrc=dl_dlopen.xs
    dlext=so
    d_dlsymun=undef
    ccdlflags=' '
    cccdlflags='-DPIC -fPIC '
    lddlflags='-shared -fPIC  -L/usr/local/lib -fstack-protector-strong'


Characteristics of this binary (from libperl): 
  Compile-time options:
    HAS_TIMES
    MULTIPLICITY
    PERLIO_LAYERS
    PERL_COPY_ON_WRITE
    PERL_DONT_CREATE_GVSV
    PERL_IMPLICIT_CONTEXT
    PERL_MALLOC_WRAP
    PERL_OP_PARENT
    PERL_PRESERVE_IVUV
    USE_64_BIT_ALL
    USE_64_BIT_INT
    USE_ITHREADS
    USE_LARGE_FILES
    USE_LOCALE
    USE_LOCALE_COLLATE
    USE_LOCALE_CTYPE
    USE_LOCALE_NUMERIC
    USE_LOCALE_TIME
    USE_PERLIO
    USE_PERL_ATOF
    USE_REENTRANT_API
  Locally applied patches:
    Devel::PatchPerl 1.48
  Built under openbsd
  Compiled at Aug  2 2018 17:44:44
  %ENV:
    PERL5LIB=""
    PERL5OPT=""
    PERL5_CPANPLUS_IS_RUNNING="14553"
    PERL5_CPAN_IS_RUNNING="14553"
    PERL5_CPAN_IS_RUNNING_IN_RECURSION="80648,14553"
    PERLBREW_HOME="/home/goku/.perlbrew"
    PERLBREW_MANPATH="/home/goku/perl5/perlbrew/perls/perl-5.28.0/man"
    PERLBREW_PATH="/home/goku/perl5/perlbrew/bin:/home/goku/perl5/perlbrew/perls/perl-5.28.0/bin"
    PERLBREW_PERL="perl-5.28.0"
    PERLBREW_ROOT="/home/goku/perl5/perlbrew"
    PERLBREW_SHELLRC_VERSION="0.84"
    PERLBREW_VERSION="0.84"
    PERL_CR_SMOKER_CURRENT="Web-Request-Role-JSON-1.005"
    PERL_EXTUTILS_AUTOINSTALL="--defaultdeps"
    PERL_MM_USE_DEFAULT="1"
    PERL_USE_UNSAFE_INC="1"
  @INC:
    /home/goku/perl5/perlbrew/perls/perl-5.28.0/lib/site_perl/5.28.0/OpenBSD.amd64-openbsd-thread-multi
    /home/goku/perl5/perlbrew/perls/perl-5.28.0/lib/site_perl/5.28.0
    /home/goku/perl5/perlbrew/perls/perl-5.28.0/lib/5.28.0/OpenBSD.amd64-openbsd-thread-multi
    /home/goku/perl5/perlbrew/perls/perl-5.28.0/lib/5.28.0
    .