Back
From: metabase:user:322078bc-2aae-11df-837a-5e0a49663a4f
Subject: PASS Search-ContextGraph-0.15 v5.12.2 FreeBSD
Date: 2012-03-18T17:02:40Z
This distribution has been tested as part of the CPAN Testers
project, supporting the Perl programming language. See
http://wiki.cpantesters.org/ for more information or email
questions to cpan-testers-discuss@perl.org
--
Dear MCEGLOWS,
This is a computer-generated error report created automatically by
CPANPLUS, version 0.9120. Testers personal comments may appear
at the end of this report.
Thank you for uploading your work to CPAN. Congratulations!
All tests were successful.
TEST RESULTS:
Below is the error stack from stage 'make test':
PERL_DL_NONLAZY=1 /usr/home/cpan/pit/bare/perl-5.12.2/bin/perl "-MExtUtils::Command::MM" "-e" "test_harness(0, 'blib/lib', 'blib/arch')" t/*.t
t/accessors.t ....... ok
t/add_subtract.t .... ok
t/dump.t ............ ok
t/find_by_title.t ... ok
t/has.t ............. ok
t/intersection.t .... ok
t/invariance.t ...... ok
t/merge.t ........... ok
Using MLDBM: test at /usr/home/cpan/pit/bare/conf/perl-5.12.2/.cpanplus/5.12.2/build/Search-ContextGraph-0.15/blib/lib/Search/ContextGraph.pm line 224.
t/mldbm.t ........... ok
t/rebalancing.t ..... ok
t/simple_search.t ... ok
t/term_doc_lists.t .. ok
t/update.t .......... ok
All tests successful.
Files=13, Tests=159, 5 wallclock secs ( 0.04 usr 0.06 sys + 3.59 cusr 0.20 csys = 3.89 CPU)
Result: PASS
PERL_DL_NONLAZY=1 /usr/home/cpan/pit/bare/perl-5.12.2/bin/perl "-Iblib/lib" "-Iblib/arch" test.pl
ok 1 - have Search::ContextGraph object
ok 2 - only two matches
ok 3 - contains first document
ok 4 - contains third document
ok 5 - correct relevance on search doc \#1
ok 6 - correct relevance on search doc \#3
ok 7 - repeating search does not change results
ok 8 - complained about duplicate title
ok 9 - able to add more documents
ok 10 - document count is correct
ok 11 - word count is correct
ok 12 - word list is correct
ok 13 - singleton search did not change
ok 14 - raw search gives same result
ok 15 - result changed for non-singleton search
ok 16 - find similar search correct
ok 17 - find similar search correct
ok 18 - able to store object to file
ok 19 - reload object from stored file
ok 20 - remove stored file
ok 21 - reloaded search object works fine
ok 22 - able to load TDM file
ok 23 - correct document count
ok 24 - correct term count
ok 25 - Got right number of results
ok 26 - mixed search got right doc value
ok 27 - mixed search got right term value
1..27
PREREQUISITES:
Here is a list of prerequisites you specified and versions we
managed to load:
Module Name Have Want
ExtUtils::MakeMaker 6.62 0
MLDBM 2.04 0.1
Test::More 0.98 0
Perl module toolchain versions installed:
Module Name Have
CPANPLUS 0.9120
CPANPLUS::Dist::Build 0.62
Cwd 3.33
ExtUtils::CBuilder 0.280205
ExtUtils::Command 1.16
ExtUtils::Install 1.55
ExtUtils::MakeMaker 6.62
ExtUtils::Manifest 1.60
ExtUtils::ParseXS 3.15
File::Spec 3.33
Module::Build 0.40
Test::Harness 3.23
Test::More 0.98
version 0.96
******************************** NOTE ********************************
The comments above are created mechanically, possibly without manual
checking by the sender. As there are many people performing automatic
tests on each upload to CPAN, it is likely that you will receive
identical messages about the same problem.
If you believe that the message is mistaken, please reply to the first
one with correction and/or additional informations, and do not take
it personally. We appreciate your patience. :)
**********************************************************************
Additional comments:
This report was machine-generated by CPANPLUS::Dist::YACSmoke 0.70.
Powered by minismokebox version 0.54
------------------------------
ENVIRONMENT AND OTHER CONTEXT
------------------------------
Environment variables:
AUTOMATED_TESTING = 1
PATH = /sbin:/bin:/usr/sbin:/usr/bin:/usr/games:/usr/local/sbin:/usr/local/bin:/home/cpan/bin
PERL5LIB = :/usr/home/cpan/pit/bare/conf/perl-5.12.2/.cpanplus/5.12.2/build/MLDBM-2.04/blib/lib:/usr/home/cpan/pit/bare/conf/perl-5.12.2/.cpanplus/5.12.2/build/MLDBM-2.04/blib/arch:/usr/home/cpan/pit/bare/conf/perl-5.12.2/.cpanplus/5.12.2/build/Search-ContextGraph-0.15/blib/lib:/usr/home/cpan/pit/bare/conf/perl-5.12.2/.cpanplus/5.12.2/build/Search-ContextGraph-0.15/blib/arch
PERL5_CPANPLUS_IS_RUNNING = 47941
PERL5_CPANPLUS_IS_VERSION = 0.9120
PERL5_MINISMOKEBOX = 0.54
PERL5_YACSMOKE_BASE = /usr/home/cpan/pit/bare/conf/perl-5.12.2
PERL_EXTUTILS_AUTOINSTALL = --defaultdeps
PERL_MM_USE_DEFAULT = 1
SHELL = /usr/local/bin/bash
TERM = screen
Perl special variables (and OS-specific diagnostics, for MSWin32):
Perl: $^X = /usr/home/cpan/pit/bare/perl-5.12.2/bin/perl
UID: $< = 1002
EUID: $> = 1002
GID: $( = 1002 1002
EGID: $) = 1002 1002
-------------------------------
--
Summary of my perl5 (revision 5 version 12 subversion 2) configuration:
Platform:
osname=freebsd, osvers=9.0-release, archname=amd64-freebsd
uname='freebsd fremen 9.0-release freebsd 9.0-release #0: tue jan 3 07:46:30 utc 2012 root@farrell.cse.buffalo.edu:usrobjusrsrcsysgeneric amd64 '
config_args='-des -Dprefix=/usr/home/cpan/pit/bare/perl-5.12.2'
hint=recommended, useposix=true, d_sigaction=define
useithreads=undef, usemultiplicity=undef
useperlio=define, d_sfio=undef, uselargefiles=define, usesocks=undef
use64bitint=define, use64bitall=define, uselongdouble=undef
usemymalloc=n, bincompat5005=undef
Compiler:
cc='cc', ccflags ='-DHAS_FPSETMASK -DHAS_FLOATINGPOINT_H -fno-strict-aliasing -pipe -fstack-protector -I/usr/local/include',
optimize='-O',
cppflags='-DHAS_FPSETMASK -DHAS_FLOATINGPOINT_H -fno-strict-aliasing -pipe -fstack-protector -I/usr/local/include'
ccversion='', gccversion='4.2.1 20070831 patched [FreeBSD]', gccosandvers=''
intsize=4, longsize=8, ptrsize=8, doublesize=8, byteorder=12345678
d_longlong=define, longlongsize=8, d_longdbl=define, longdblsize=16
ivtype='long', ivsize=8, nvtype='double', nvsize=8, Off_t='off_t', lseeksize=8
alignbytes=8, prototype=define
Linker and Libraries:
ld='cc', ldflags ='-Wl,-E -fstack-protector -L/usr/local/lib'
libpth=/usr/lib /usr/local/lib
libs=-lgdbm -lm -lcrypt -lutil -lc
perllibs=-lm -lcrypt -lutil -lc
libc=, so=so, useshrplib=false, libperl=libperl.a
gnulibc_version=''
Dynamic Linking:
dlsrc=dl_dlopen.xs, dlext=so, d_dlsymun=undef, ccdlflags=' '
cccdlflags='-DPIC -fPIC', lddlflags='-shared -L/usr/local/lib -fstack-protector'
Characteristics of this binary (from libperl):
Compile-time options: PERL_DONT_CREATE_GVSV PERL_MALLOC_WRAP USE_64_BIT_ALL
USE_64_BIT_INT USE_LARGE_FILES USE_PERLIO
USE_PERL_ATOF
Built under freebsd
Compiled at Jan 11 2012 22:16:01
%ENV:
PERL5LIB=":/usr/home/cpan/pit/bare/conf/perl-5.12.2/.cpanplus/5.12.2/build/MLDBM-2.04/blib/lib:/usr/home/cpan/pit/bare/conf/perl-5.12.2/.cpanplus/5.12.2/build/MLDBM-2.04/blib/arch:/usr/home/cpan/pit/bare/conf/perl-5.12.2/.cpanplus/5.12.2/build/Search-ContextGraph-0.15/blib/lib:/usr/home/cpan/pit/bare/conf/perl-5.12.2/.cpanplus/5.12.2/build/Search-ContextGraph-0.15/blib/arch"
PERL5_CPANPLUS_IS_RUNNING="47941"
PERL5_CPANPLUS_IS_VERSION="0.9120"
PERL5_MINISMOKEBOX="0.54"
PERL5_YACSMOKE_BASE="/usr/home/cpan/pit/bare/conf/perl-5.12.2"
PERL_EXTUTILS_AUTOINSTALL="--defaultdeps"
PERL_MM_USE_DEFAULT="1"
@INC:
/usr/home/cpan/pit/bare/conf/perl-5.12.2/.cpanplus/5.12.2/build/MLDBM-2.04/blib/lib
/usr/home/cpan/pit/bare/conf/perl-5.12.2/.cpanplus/5.12.2/build/MLDBM-2.04/blib/arch
/usr/home/cpan/pit/bare/conf/perl-5.12.2/.cpanplus/5.12.2/build/Search-ContextGraph-0.15/blib/lib
/usr/home/cpan/pit/bare/conf/perl-5.12.2/.cpanplus/5.12.2/build/Search-ContextGraph-0.15/blib/arch
/usr/home/cpan/pit/bare/perl-5.12.2/lib/site_perl/5.12.2/amd64-freebsd
/usr/home/cpan/pit/bare/perl-5.12.2/lib/site_perl/5.12.2
/usr/home/cpan/pit/bare/perl-5.12.2/lib/5.12.2/amd64-freebsd
/usr/home/cpan/pit/bare/perl-5.12.2/lib/5.12.2
.