Report for Catalyst-Model-CacheFunky-Loader-0.06

Back
From: metabase:user:320bfe00-2aae-11df-837a-5e0a49663a4f
Subject: PASS Catalyst-Model-CacheFunky-Loader-0.06 v5.20.3 GNU/Linux
Date: 2017-03-16T05:48:24Z

This distribution has been tested as part of the CPAN Testers
project, supporting the Perl programming language.  See
http://wiki.cpantesters.org/ for more information or email
questions to cpan-testers-discuss@perl.org


--
Dear Tomohiro Teranishi,

This is a computer-generated report for Catalyst-Model-CacheFunky-Loader-0.06
on perl 5.20.3, created by CPAN-Reporter-1.2018.

Thank you for uploading your work to CPAN.  Congratulations!
All tests were successful.

Sections of this report:

    * Tester comments
    * Program output
    * Prerequisites
    * Environment and other context

------------------------------
TESTER COMMENTS
------------------------------

Additional comments from tester:

this report is from an automated smoke testing program
and was not reviewed by a human for accuracy

------------------------------
PROGRAM OUTPUT
------------------------------

Output from '/usr/bin/make test':

"/home/sand/src/perl/repoperls/installed-perls/host/k93msid/v5.20.3/2d7c/bin/perl" "-Iinc" Makefile.PL --config= --installdeps=Cache::Funky,0,Module::Recursive::Require,0.04
Cannot determine perl version info from lib/Catalyst/Model/CacheFunky/Loader.pm
PERL_DL_NONLAZY=1 "/home/sand/src/perl/repoperls/installed-perls/host/k93msid/v5.20.3/2d7c/bin/perl" "-MExtUtils::Command::MM" "-MTest::Harness" "-e" "undef *Test::Harness::Switches; test_harness(0, 'inc', 'blib/lib', 'blib/arch')" t/00-load.t t/01_app.t t/boilerplate.t t/pod-coverage.t t/pod.t t/spelling.t
# Testing Catalyst::Model::CacheFunky::Loader 0.06, Perl 5.020003, /home/sand/src/perl/repoperls/installed-perls/host/k93msid/v5.20.3/2d7c/bin/perl
t/00-load.t ....... ok
[debug] Debug messages enabled
[debug] Statistics enabled
Catalyst::Model::CacheFunky::Loader uses NEXT, which is deprecated. Please see the Class::C3::Adopt::NEXT documentation for details. NEXT used  at /tmp/loop_over_bdir-9399-NIF8_L/Catalyst-Model-CacheFunky-Loader-0.06-0/blib/lib/Catalyst/Model/CacheFunky/Loader.pm line 13.
[debug] Loaded plugins:
.-----------------------------------------------------------------------------.
| Catalyst::Plugin::ConfigLoader  0.34                                        |
'-----------------------------------------------------------------------------'

[debug] Loaded PSGI Middleware:
.-----------------------------------------------------------------------------.
| Catalyst::Middleware::Stash                                                 |
| Plack::Middleware::HTTPExceptions                                           |
| Plack::Middleware::RemoveRedundantBody  0.04                                |
| Plack::Middleware::FixMissingBodyInRedirect  0.12                           |
| Plack::Middleware::ContentLength                                            |
| Plack::Middleware::MethodOverride  0.15                                     |
| Plack::Middleware::Head                                                     |
'-----------------------------------------------------------------------------'

[debug] Loaded Request Data Handlers:
.-----------------------------------------------------------------------------.
| application/x-www-form-urlencoded                                           |
| application/json                                                            |
'-----------------------------------------------------------------------------'

[debug] Loaded dispatcher "Catalyst::Dispatcher"
[debug] Loaded engine "Catalyst::Engine"
[debug] Found home "/tmp/loop_over_bdir-9399-NIF8_L/Catalyst-Model-CacheFunky-Loader-0.06-0/t/lib/TestApp"
[debug] Loaded components:
.------------------------------------------------------------------+----------.
| Class                                                            | Type     |
+------------------------------------------------------------------+----------+
| TestApp::Controller::Root                                        | instance |
| TestApp::Model::Funky                                            | instance |
| TestApp::Model::Funky::Context                                   | class    |
| TestApp::Model::Funky::Date                                      | class    |
'------------------------------------------------------------------+----------'

[debug] Loaded Private actions:
.----------------------+--------------------------------------+---------------.
| Private              | Class                                | Method        |
+----------------------+--------------------------------------+---------------+
| /default             | TestApp::Controller::Root            | default       |
| /context             | TestApp::Controller::Root            | context       |
| /date                | TestApp::Controller::Root            | date          |
'----------------------+--------------------------------------+---------------'

[debug] Loaded Path actions:
.--------------------------------------+--------------------------------------.
| Path                                 | Private                              |
+--------------------------------------+--------------------------------------+
| /context/...                         | /context                             |
| /date/...                            | /date                                |
'--------------------------------------+--------------------------------------'

[info] TestApp powered by Catalyst 5.90114
[info] *** Request 1 (0.500/s) [11823] [Thu Mar 16 05:48:05 2017] ***
[debug] Path is "date"
[debug] "GET" request for "date" from "127.0.0.1"
[debug] Response Code: 200; Content-Type: unknown; Content-Length: unknown
[info] Request took 1.008868s (0.991/s)
.-------------------------------------------------------------+-----------.
| Action                                                      | Time      |
+-------------------------------------------------------------+-----------+
| /date                                                       | 1.000344s |
'-------------------------------------------------------------+-----------'

[info] *** Request 2 (0.667/s) [11823] [Thu Mar 16 05:48:06 2017] ***
[debug] Path is "context"
[debug] "GET" request for "context" from "127.0.0.1"
[debug] Response Code: 200; Content-Type: unknown; Content-Length: unknown
[info] Request took 0.002593s (385.654/s)
.-------------------------------------------------------------+-----------.
| Action                                                      | Time      |
+-------------------------------------------------------------+-----------+
| /context                                                    | 0.000418s |
'-------------------------------------------------------------+-----------'

t/01_app.t ........ ok
t/boilerplate.t ... ok
t/pod-coverage.t .. ok
t/pod.t ........... ok
t/spelling.t ...... ok
All tests successful.
Files=6, Tests=9,  8 wallclock secs ( 0.03 usr  0.04 sys +  1.99 cusr  0.30 csys =  2.36 CPU)
Result: PASS

------------------------------
PREREQUISITES
------------------------------

Prerequisite modules loaded:

requires:

    Module                         Need Have    
    ------------------------------ ---- --------
    Cache::Funky                   0    0.06    
    Catalyst                       0    5.90114 
    Catalyst::Plugin::ConfigLoader 0    0.34    
    Module::Recursive::Require     0.04 0.04    
    Test::More                     0    1.302077
    Test::Spelling                 0    0.20    

build_requires:

    Module                         Need Have    
    ------------------------------ ---- --------
    ExtUtils::MakeMaker            0    7.25_01 


------------------------------
ENVIRONMENT AND OTHER CONTEXT
------------------------------

Environment variables:

    AUTOMATED_TESTING = 1
    LANG = en_US.UTF-8
    PATH = /home/sand/bin:/usr/local/bin:/usr/bin:/bin:/usr/games:/usr/local/perl/bin:/usr/X11/bin:/sbin:/usr/sbin
    PERL5LIB = 
    PERL5OPT = 
    PERL5_CPANPLUS_IS_RUNNING = 9401
    PERL5_CPAN_IS_RUNNING = 9401
    PERL_CANARY_STABILITY_NOPROMPT = 1
    PERL_MM_USE_DEFAULT = 1
    PERL_USE_UNSAFE_INC = 1
    SHELL = /usr/bin/zsh
    TERM = screen

Perl special variables (and OS-specific diagnostics, for MSWin32):

    $^X = /home/sand/src/perl/repoperls/installed-perls/host/k93msid/v5.20.3/2d7c/bin/perl
    $UID/$EUID = 1005 / 1005
    $GID = 1005 1005
    $EGID = 1005 1005

Perl module toolchain versions installed:

    Module              Have    
    ------------------- --------
    CPAN                2.17    
    CPAN::Meta          2.150010
    Cwd                 3.62    
    ExtUtils::CBuilder  0.280224
    ExtUtils::Command   7.25_01 
    ExtUtils::Install   2.04    
    ExtUtils::MakeMaker 7.25_01 
    ExtUtils::Manifest  1.70    
    ExtUtils::ParseXS   3.30    
    File::Spec          3.62    
    JSON                2.91_04 
    JSON::PP            2.27400 
    Module::Build       0.4220  
    Module::Signature   0.81    
    Parse::CPAN::Meta   2.150010
    Test::Harness       3.38    
    Test::More          1.302077
    YAML                1.20    
    YAML::Syck          1.29    
    version             0.9917  


--

Summary of my perl5 (revision 5 version 20 subversion 3) configuration:
  Derived from: b67331aafd6eff33e3fd904c45e811f69cbfb0b2
  Platform:
    osname=linux, osvers=4.8.0-2-amd64, archname=x86_64-linux-ld
    uname='linux k93msid 4.8.0-2-amd64 #1 smp debian 4.8.11-1 (2016-12-02) x86_64 gnulinux '
    config_args='-Dprefix=/home/sand/src/perl/repoperls/installed-perls/host/k93msid/v5.20.3/2d7c -Dmyhostname=k93msid -Dinstallusrbinperl=n -Uversiononly -Dusedevel -des -Ui_db -Dlibswanted=cl pthread socket inet nsl gdbm dbm malloc dl ld sun m crypt sec util c cposix posix ucb BSD gdbm_compat -Uuseithreads -Duselongdouble -DDEBUGGING=-g'
    hint=recommended, useposix=true, d_sigaction=define
    useithreads=undef, usemultiplicity=undef
    use64bitint=define, use64bitall=define, uselongdouble=define
    usemymalloc=n, bincompat5005=undef
  Compiler:
    cc='cc', ccflags ='-fwrapv -fno-strict-aliasing -pipe -fstack-protector -I/usr/local/include -D_LARGEFILE_SOURCE -D_FILE_OFFSET_BITS=64',
    optimize='-O2 -g',
    cppflags='-fwrapv -fno-strict-aliasing -pipe -fstack-protector -I/usr/local/include'
    ccversion='', gccversion='6.2.1 20161124', gccosandvers=''
    intsize=4, longsize=8, ptrsize=8, doublesize=8, byteorder=12345678
    d_longlong=define, longlongsize=8, d_longdbl=define, longdblsize=16
    ivtype='long', ivsize=8, nvtype='long double', nvsize=16, Off_t='off_t', lseeksize=8
    alignbytes=16, prototype=define
  Linker and Libraries:
    ld='cc', ldflags =' -fstack-protector -L/usr/local/lib'
    libpth=/usr/local/lib /usr/lib/gcc/x86_64-linux-gnu/6/include-fixed /usr/include/x86_64-linux-gnu /usr/lib /lib/x86_64-linux-gnu /lib/../lib /usr/lib/x86_64-linux-gnu /usr/lib/../lib /lib
    libs=-lpthread -lnsl -ldl -lm -lcrypt -lutil -lc
    perllibs=-lpthread -lnsl -ldl -lm -lcrypt -lutil -lc
    libc=libc-2.24.so, so=so, useshrplib=false, libperl=libperl.a
    gnulibc_version='2.24'
  Dynamic Linking:
    dlsrc=dl_dlopen.xs, dlext=so, d_dlsymun=undef, ccdlflags='-Wl,-E'
    cccdlflags='-fPIC', lddlflags='-shared -O2 -g -L/usr/local/lib -fstack-protector'


Characteristics of this binary (from libperl): 
  Compile-time options: HAS_TIMES PERLIO_LAYERS PERL_DONT_CREATE_GVSV
                        PERL_HASH_FUNC_ONE_AT_A_TIME_HARD PERL_MALLOC_WRAP
                        PERL_NEW_COPY_ON_WRITE PERL_PRESERVE_IVUV
                        PERL_USE_DEVEL USE_64_BIT_ALL USE_64_BIT_INT
                        USE_LARGE_FILES USE_LOCALE USE_LOCALE_COLLATE
                        USE_LOCALE_CTYPE USE_LOCALE_NUMERIC USE_LONG_DOUBLE
                        USE_PERLIO USE_PERL_ATOF
  Locally applied patches:
	uncommitted-changes
  Built under linux
  Compiled at Dec 14 2016 19:10:48
  %ENV:
    PERL5LIB=""
    PERL5OPT=""
    PERL5_CPANPLUS_IS_RUNNING="9401"
    PERL5_CPAN_IS_RUNNING="9401"
    PERL_CANARY_STABILITY_NOPROMPT="1"
    PERL_MM_USE_DEFAULT="1"
    PERL_USE_UNSAFE_INC="1"
  @INC:
    /home/sand/src/perl/repoperls/installed-perls/host/k93msid/v5.20.3/2d7c/lib/site_perl/5.20.3/x86_64-linux-ld
    /home/sand/src/perl/repoperls/installed-perls/host/k93msid/v5.20.3/2d7c/lib/site_perl/5.20.3
    /home/sand/src/perl/repoperls/installed-perls/host/k93msid/v5.20.3/2d7c/lib/5.20.3/x86_64-linux-ld
    /home/sand/src/perl/repoperls/installed-perls/host/k93msid/v5.20.3/2d7c/lib/5.20.3
    .