Back
From: metabase:user:30f4dfbe-2aae-11df-837a-5e0a49663a4f
Subject: PASS Parse-CPAN-Authors-2.27 v5.13.4 GNU/Linux
Date: 2010-09-12T17:50:02Z
This distribution has been tested as part of the CPAN Testers
project, supporting the Perl programming language. See
http://wiki.cpantesters.org/ for more information or email
questions to cpan-testers-discuss@perl.org
--
Dear Leon Brocard,
This is a computer-generated report for Parse-CPAN-Authors-2.27
on perl 5.13.4 patch v5.13.4-128-g49f8dfb, created by CPAN-Reporter-1.1801.
Thank you for uploading your work to CPAN. Congratulations!
All tests were successful.
Sections of this report:
* Tester comments
* Program output
* Prerequisites
* Environment and other context
------------------------------
TESTER COMMENTS
------------------------------
Additional comments from tester:
this report is from an automated smoke testing program
and was not reviewed by a human for accuracy
------------------------------
PROGRAM OUTPUT
------------------------------
Output from './Build test':
t/pod.t ........... ok
t/pod_coverage.t .. ok
t/simple.t ........ ok
All tests successful.
Files=3, Tests=47, 0 wallclock secs ( 0.05 usr 0.00 sys + 0.32 cusr 0.03 csys = 0.40 CPU)
Result: PASS
------------------------------
PREREQUISITES
------------------------------
Prerequisite modules loaded:
requires:
Module Need Have
--------------------- ---- ----
Class::Accessor::Fast 0 0.34
IO::Zlib 0 1.10
Test::Exception 0 0.29
Test::More 0 0.96
------------------------------
ENVIRONMENT AND OTHER CONTEXT
------------------------------
Environment variables:
AUTOMATED_TESTING = 1
LANG = en_GB.UTF-8
PATH = /usr/local/sbin:/usr/local/bin:/usr/sbin:/usr/bin:/sbin:/bin
PERL5LIB = /.cpan/build/Test-UseAllModules-0.12-AfxDaA/blib/arch:/.cpan/build/Test-UseAllModules-0.12-AfxDaA/blib/lib:/.cpan/build/Parse-CPAN-Packages-2.31-YedibT/blib/arch:/.cpan/build/Parse-CPAN-Packages-2.31-YedibT/blib/lib
PERL5OPT =
PERL5_CPANPLUS_IS_RUNNING = 32043
PERL5_CPAN_IS_RUNNING = 32043
PERL5_MINISMOKEBOX = 0.30
PERL_EXTUTILS_AUTOINSTALL = --defaultdeps
PERL_MM_USE_DEFAULT = 1
SHELL = /bin/sh
TERM = linux
Perl special variables (and OS-specific diagnostics, for MSWin32):
$^X = /usr/local/bin/perl5.13.4
$UID/$EUID = 0 / 0
$GID = 0 0
$EGID = 0 0
Perl module toolchain versions installed:
Module Have
------------------- -------
CPAN 1.94_57
Cwd 3.31
ExtUtils::CBuilder 0.2703
ExtUtils::Command 1.16
ExtUtils::Install 1.55
ExtUtils::MakeMaker 6.57_01
ExtUtils::Manifest 1.58
ExtUtils::ParseXS 2.2207
File::Spec 3.31_01
Module::Build 0.3607
Module::Signature 0.65
Test::Harness 3.22
Test::More 0.96
YAML 0.72
YAML::Syck 1.14
version 0.82
--
Summary of my perl5 (revision 5 version 13 subversion 4 patch v5.13.4-128-g49f8dfb) configuration:
Snapshot of: 49f8dfb64c1d8667b2e8eb706ff6148917608d37
Platform:
osname=linux, osvers=2.6.32-5-686, archname=i686-linux-thread-multi-64int-ld
uname='linux gateway.bandsman.co.uk 2.6.32-5-686 #1 smp thu aug 12 13:38:27 utc 2010 i686 gnulinux '
config_args='-des -Dusedevel -Duseithreads -Dusemorebits -DDEBUGGING'
hint=recommended, useposix=true, d_sigaction=define
useithreads=define, usemultiplicity=define
useperlio=define, d_sfio=undef, uselargefiles=define, usesocks=undef
use64bitint=define, use64bitall=undef, uselongdouble=define
usemymalloc=n, bincompat5005=undef
Compiler:
cc='cc', ccflags ='-D_REENTRANT -D_GNU_SOURCE -DDEBUGGING -DDEBUGGING -fno-strict-aliasing -pipe -fstack-protector -I/usr/local/include -D_LARGEFILE_SOURCE -D_FILE_OFFSET_BITS=64',
optimize='-O2 -g',
cppflags='-D_REENTRANT -D_GNU_SOURCE -DDEBUGGING -DDEBUGGING -fno-strict-aliasing -pipe -fstack-protector -I/usr/local/include'
ccversion='', gccversion='4.4.5 20100816 (prerelease)', gccosandvers=''
intsize=4, longsize=4, ptrsize=4, doublesize=8, byteorder=12345678
d_longlong=define, longlongsize=8, d_longdbl=define, longdblsize=12
ivtype='long long', ivsize=8, nvtype='long double', nvsize=12, Off_t='off_t', lseeksize=8
alignbytes=4, prototype=define
Linker and Libraries:
ld='cc', ldflags =' -fstack-protector -L/usr/local/lib'
libpth=/usr/local/lib /lib /usr/lib
libs=-lnsl -lgdbm -ldb -ldl -lm -lcrypt -lutil -lpthread -lc -lgdbm_compat
perllibs=-lnsl -ldl -lm -lcrypt -lutil -lpthread -lc
libc=/lib/libc-2.11.2.so, so=so, useshrplib=false, libperl=libperl.a
gnulibc_version='2.11.2'
Dynamic Linking:
dlsrc=dl_dlopen.xs, dlext=so, d_dlsymun=undef, ccdlflags='-Wl,-E'
cccdlflags='-fPIC', lddlflags='-shared -O2 -g -L/usr/local/lib -fstack-protector'
Characteristics of this binary (from libperl):
Compile-time options: DEBUGGING MULTIPLICITY PERL_DONT_CREATE_GVSV
PERL_IMPLICIT_CONTEXT PERL_MALLOC_WRAP
PERL_TRACK_MEMPOOL PERL_USE_DEVEL USE_64_BIT_INT
USE_ITHREADS USE_LARGE_FILES USE_LONG_DOUBLE
USE_PERLIO USE_PERL_ATOF USE_REENTRANT_API
Locally applied patches:
SMOKE49f8dfb64c1d8667b2e8eb706ff6148917608d37
Built under linux
Compiled at Sep 4 2010 16:32:28
%ENV:
PERL5LIB="/.cpan/build/Test-UseAllModules-0.12-AfxDaA/blib/arch:/.cpan/build/Test-UseAllModules-0.12-AfxDaA/blib/lib:/.cpan/build/Parse-CPAN-Packages-2.31-YedibT/blib/arch:/.cpan/build/Parse-CPAN-Packages-2.31-YedibT/blib/lib"
PERL5OPT=""
PERL5_CPANPLUS_IS_RUNNING="32043"
PERL5_CPAN_IS_RUNNING="32043"
PERL5_MINISMOKEBOX="0.30"
PERL_EXTUTILS_AUTOINSTALL="--defaultdeps"
PERL_MM_USE_DEFAULT="1"
@INC:
/.cpan/build/Test-UseAllModules-0.12-AfxDaA/blib/arch
/.cpan/build/Test-UseAllModules-0.12-AfxDaA/blib/lib
/.cpan/build/Parse-CPAN-Packages-2.31-YedibT/blib/arch
/.cpan/build/Parse-CPAN-Packages-2.31-YedibT/blib/lib
/usr/local/lib/perl5/site_perl/5.13.4/i686-linux-thread-multi-64int-ld
/usr/local/lib/perl5/site_perl/5.13.4
/usr/local/lib/perl5/5.13.4/i686-linux-thread-multi-64int-ld
/usr/local/lib/perl5/5.13.4
.