Alien-libudev v0.15 Perl 5 v5.28.2 x86_64-linux

Status
Pass
From
Slaven Rezić (SREZIC)
Dist
Alien-libudev v0.15
Platform
Perl 5 v5.28.2 x86_64-linux
Date
2019-09-29 20:03:13
ID
2b64df64-e2f4-11e9-a207-e68b1f24ea8f
This distribution has been tested as part of the CPAN Testers
project, supporting the Perl programming language.  See
http://wiki.cpantesters.org/ for more information or email
questions to cpan-testers-discuss@perl.org


--
Dear Ahmad Fatoum,

This is a computer-generated report for Alien-libudev-0.15
on perl 5.28.2, created by CPAN-Reporter-1.2018.

Thank you for uploading your work to CPAN.  Congratulations!
All tests were successful.

Sections of this report:

    * Tester comments
    * Program output
    * Prerequisites
    * Environment and other context

------------------------------
TESTER COMMENTS
------------------------------

Additional comments from tester:

none provided

------------------------------
PROGRAM OUTPUT
------------------------------

Output from '/usr/bin/make test':

"/opt/perl-5.28.2/bin/perl" -MAlien::Build::MM=cmd -e test
Alien::Build::Plugin::PkgConfig::Negotiate> Using PkgConfig plugin: PkgConfig::CommandLine
PERL_DL_NONLAZY=1 "/opt/perl-5.28.2/bin/perl" "-MExtUtils::Command::MM" "-MTest::Harness" "-e" "undef *Test::Harness::Switches; test_harness(0, 'blib/lib', 'blib/arch')" t/*.t
t/00-compile.t ......... ok
# 
# Versions for all modules listed in MYMETA.json (including optional ones):
# 
# === Configure Requires ===
# 
#     Module              Want Have
#     ------------------- ---- ----
#     Alien::Build        0.32 1.89
#     Alien::Build::MM    0.32 1.89
#     ExtUtils::MakeMaker 6.52 7.38
# 
# === Build Requires ===
# 
#     Module                                        Want     Have
#     -------------------------------------------- ----- --------
#     Alien::Build                                  0.32     1.89
#     Alien::Build::MM                              0.32     1.89
#     Alien::Build::Plugin::Gather::IsolateDynamic  0.48     1.89
#     Alien::autoconf                               0.03     0.14
#     Alien::gperf                                 0.005    0.005
#     Alien::libtool                                0.02     0.12
#     Alien::m4                                     0.11     0.17
#     Archive::Zip                                   any     1.66
#     Config                                         any 5.028002
#     ExtUtils::MakeMaker                           6.52     7.38
#     HTTP::Tiny                                   0.044    0.076
#     IO::Socket::SSL                               1.56    2.066
#     Mojo::DOM58                                   1.00    2.000
#     Net::SSLeay                                   1.49     1.88
#     Sort::Versions                                 any     1.62
#     URI                                            any     1.76
#     URI::Escape                                    any     3.31
# 
# === Test Requires ===
# 
#     Module              Want     Have
#     ------------------- ---- --------
#     ExtUtils::MakeMaker 6.52     7.38
#     File::Spec           any     3.75
#     IO::Handle           any     1.39
#     IPC::Open3           any     1.20
#     Test::More           any 1.302168
# 
# === Test Recommends ===
# 
#     Module         Want     Have
#     ---------- -------- --------
#     CPAN::Meta 2.120900 2.150010
# 
# === Runtime Requires ===
# 
#     Module       Want Have
#     ------------ ---- ----
#     Alien::Build 0.25 1.89
# 
t/00-report-prereqs.t .. ok
t/init.t ............... skipped: test requires Test::CChecker
All tests successful.
Files=3, Tests=2,  0 wallclock secs ( 0.01 usr  0.02 sys +  0.24 cusr  0.10 csys =  0.37 CPU)
Result: PASS

------------------------------
PREREQUISITES
------------------------------

Prerequisite modules loaded:

requires:

    Module                                       Need  Have    
    -------------------------------------------- ----- --------
    Alien::Build                                 0.25  1.89    
    perl                                         5.008 5.028002

build_requires:

    Module                                       Need  Have    
    -------------------------------------------- ----- --------
    Alien::autoconf                              0.03  0.14    
    Alien::Build                                 0.32  1.89    
    Alien::Build::MM                             0.32  1.89    
    Alien::Build::Plugin::Gather::IsolateDynamic 0.48  1.89    
    Alien::gperf                                 0.005 0.005   
    Alien::libtool                               0.02  0.12    
    Alien::m4                                    0.11  0.17    
    Archive::Zip                                 0     1.66    
    Config                                       0     5.028002
    ExtUtils::MakeMaker                          6.52  7.38    
    File::Spec                                   0     3.75    
    HTTP::Tiny                                   0.044 0.076   
    IO::Handle                                   0     1.39    
    IO::Socket::SSL                              1.56  2.066   
    IPC::Open3                                   0     1.20    
    Mojo::DOM58                                  1.00  2.000   
    Net::SSLeay                                  1.49  1.88    
    Sort::Versions                               0     1.62    
    Test::More                                   0     1.302168
    URI                                          0     1.76    
    URI::Escape                                  0     3.31    

configure_requires:

    Module                                       Need  Have    
    -------------------------------------------- ----- --------
    Alien::Build                                 0.32  1.89    
    Alien::Build::MM                             0.32  1.89    
    ExtUtils::MakeMaker                          6.52  7.38    
    perl                                         5.006 5.028002


------------------------------
ENVIRONMENT AND OTHER CONTEXT
------------------------------

Environment variables:

    LANG = C
    PATH = /usr/local/bin:/usr/bin:/bin:/usr/local/sbin:/usr/sbin:/sbin:/home/cpansand/bin/linux-gnu:/home/cpansand/bin/sh:/home/cpansand/bin:/usr/games:/home/cpansand/devel:/home/eserte/src/srezic-misc/scripts
    PERL5LIB = /home/cpansand/.cpan/build/2019092919/Alien-gperf-0.005-2/blib/arch:/home/cpansand/.cpan/build/2019092919/Alien-gperf-0.005-2/blib/lib
    PERL5OPT = 
    PERL5_CPANPLUS_IS_RUNNING = 24224
    PERL5_CPAN_IS_RUNNING = 24224
    PERL5_CPAN_IS_RUNNING_IN_RECURSION = 1661,24224
    PERLDOC = -MPod::Perldoc::ToTextOverstrike
    PERL_BATCH = yes
    PERL_CANARY_STABILITY_NOPROMPT = 1
    PERL_CPAN_REPORTER_CONFIG = /var/tmp/cpansmoker-1023/2019092919/cpanreporter_000_config.ini
    PERL_EXTUTILS_AUTOINSTALL = --defaultdeps
    PERL_USE_UNSAFE_INC = 1
    SHELL = /usr/bin/zsh
    TERM = screen
    TMPDIR = /var/tmp/cpansmoker-1023/2019092919

Perl special variables (and OS-specific diagnostics, for MSWin32):

    $^X = /opt/perl-5.28.2/bin/perl
    $UID/$EUID = 1023 / 1023
    $GID = 1023 1023
    $EGID = 1023 1023

Perl module toolchain versions installed:

    Module              Have    
    ------------------- --------
    CPAN                2.20    
    CPAN::Meta          2.150010
    Cwd                 3.75    
    ExtUtils::CBuilder  0.280231
    ExtUtils::Command   7.38    
    ExtUtils::Install   2.14    
    ExtUtils::MakeMaker 7.38    
    ExtUtils::Manifest  1.70    
    ExtUtils::ParseXS   3.39    
    File::Spec          3.75    
    JSON                4.02    
    JSON::PP            2.97001 
    Module::Build       0.4229  
    Module::Signature   0.83    
    Parse::CPAN::Meta   2.150010
    Test::Harness       3.42    
    Test::More          1.302168
    YAML                1.29    
    YAML::Syck          1.31    
    version             0.9923  


--

Summary of my perl5 (revision 5 version 28 subversion 2) configuration:
   
  Platform:
    osname=linux
    osvers=4.19.0-5-amd64
    archname=x86_64-linux
    uname='linux debian10 4.19.0-5-amd64 #1 smp debian 4.19.37-5+deb10u1 (2019-07-19) x86_64 gnulinux '
    config_args='-ds -e -Dprefix=/opt/perl-5.28.2 -Dcf_email=srezic@cpan.org'
    hint=recommended
    useposix=true
    d_sigaction=define
    useithreads=undef
    usemultiplicity=undef
    use64bitint=define
    use64bitall=define
    uselongdouble=undef
    usemymalloc=n
    default_inc_excludes_dot=define
    bincompat5005=undef
  Compiler:
    cc='cc'
    ccflags ='-fwrapv -fno-strict-aliasing -pipe -fstack-protector-strong -I/usr/local/include -D_LARGEFILE_SOURCE -D_FILE_OFFSET_BITS=64'
    optimize='-O2'
    cppflags='-fwrapv -fno-strict-aliasing -pipe -fstack-protector-strong -I/usr/local/include'
    ccversion=''
    gccversion='8.3.0'
    gccosandvers=''
    intsize=4
    longsize=8
    ptrsize=8
    doublesize=8
    byteorder=12345678
    doublekind=3
    d_longlong=define
    longlongsize=8
    d_longdbl=define
    longdblsize=16
    longdblkind=3
    ivtype='long'
    ivsize=8
    nvtype='double'
    nvsize=8
    Off_t='off_t'
    lseeksize=8
    alignbytes=8
    prototype=define
  Linker and Libraries:
    ld='cc'
    ldflags =' -fstack-protector-strong -L/usr/local/lib'
    libpth=/usr/local/lib /usr/lib/gcc/x86_64-linux-gnu/8/include-fixed /usr/include/x86_64-linux-gnu /usr/lib /lib/x86_64-linux-gnu /lib/../lib /usr/lib/x86_64-linux-gnu /usr/lib/../lib /lib
    libs=-lpthread -lnsl -ldl -lm -lcrypt -lutil -lc
    perllibs=-lpthread -lnsl -ldl -lm -lcrypt -lutil -lc
    libc=libc-2.28.so
    so=so
    useshrplib=false
    libperl=libperl.a
    gnulibc_version='2.28'
  Dynamic Linking:
    dlsrc=dl_dlopen.xs
    dlext=so
    d_dlsymun=undef
    ccdlflags='-Wl,-E'
    cccdlflags='-fPIC'
    lddlflags='-shared -O2 -L/usr/local/lib -fstack-protector-strong'


Characteristics of this binary (from libperl): 
  Compile-time options:
    HAS_TIMES
    PERLIO_LAYERS
    PERL_COPY_ON_WRITE
    PERL_DONT_CREATE_GVSV
    PERL_MALLOC_WRAP
    PERL_OP_PARENT
    PERL_PRESERVE_IVUV
    USE_64_BIT_ALL
    USE_64_BIT_INT
    USE_LARGE_FILES
    USE_LOCALE
    USE_LOCALE_COLLATE
    USE_LOCALE_CTYPE
    USE_LOCALE_NUMERIC
    USE_LOCALE_TIME
    USE_PERLIO
    USE_PERL_ATOF
  Built under linux
  Compiled at Aug  6 2019 09:45:29
  %ENV:
    PERL5LIB="/home/cpansand/.cpan/build/2019092919/Alien-gperf-0.005-2/blib/arch:/home/cpansand/.cpan/build/2019092919/Alien-gperf-0.005-2/blib/lib"
    PERL5OPT=""
    PERL5_CPANPLUS_IS_RUNNING="24224"
    PERL5_CPAN_IS_RUNNING="24224"
    PERL5_CPAN_IS_RUNNING_IN_RECURSION="1661,24224"
    PERLDOC="-MPod::Perldoc::ToTextOverstrike"
    PERL_BATCH="yes"
    PERL_CANARY_STABILITY_NOPROMPT="1"
    PERL_CPAN_REPORTER_CONFIG="/var/tmp/cpansmoker-1023/2019092919/cpanreporter_000_config.ini"
    PERL_EXTUTILS_AUTOINSTALL="--defaultdeps"
    PERL_USE_UNSAFE_INC="1"
  @INC:
    /home/cpansand/.cpan/build/2019092919/Alien-gperf-0.005-2/blib/arch
    /home/cpansand/.cpan/build/2019092919/Alien-gperf-0.005-2/blib/lib
    /opt/perl-5.28.2/lib/site_perl/5.28.2/x86_64-linux
    /opt/perl-5.28.2/lib/site_perl/5.28.2
    /opt/perl-5.28.2/lib/5.28.2/x86_64-linux
    /opt/perl-5.28.2/lib/5.28.2
    .