Back
From: metabase:user:320bfe00-2aae-11df-837a-5e0a49663a4f
Subject: PASS XHTML-MediaWiki-0.11 v5.17.6 GNU/Linux
Date: 2013-05-13T04:04:12Z
This distribution has been tested as part of the CPAN Testers
project, supporting the Perl programming language. See
http://wiki.cpantesters.org/ for more information or email
questions to cpan-testers-discuss@perl.org
--
Dear G. Allen Morris III,
This is a computer-generated report for XHTML-MediaWiki-0.11
on perl 5.17.6, created by CPAN-Reporter-1.2009.
Thank you for uploading your work to CPAN. Congratulations!
All tests were successful.
Sections of this report:
* Tester comments
* Program output
* Prerequisites
* Environment and other context
------------------------------
TESTER COMMENTS
------------------------------
Additional comments from tester:
this report is from an automated smoke testing program
and was not reviewed by a human for accuracy
------------------------------
PROGRAM OUTPUT
------------------------------
Output from './Build test':
Unescaped left brace in regex is deprecated, passed through in regex; marked by <-- HERE in m/{{ <-- HERE \s*([a-zA-Z0-9][a-z0-9|]*)\s*}}/ at /tmp/loop_over_bdir-2630-H7DQAe/XHTML-MediaWiki-0.11-yzsdvh/blib/lib/XHTML/MediaWiki.pm line 1052.
t/blending.t ...... ok
Unescaped left brace in regex is deprecated, passed through in regex; marked by <-- HERE in m/{{ <-- HERE \s*([a-zA-Z0-9][a-z0-9|]*)\s*}}/ at /tmp/loop_over_bdir-2630-H7DQAe/XHTML-MediaWiki-0.11-yzsdvh/blib/lib/XHTML/MediaWiki.pm line 1052.
t/cdata.t ......... ok
t/changes.t ....... ok
Unescaped left brace in regex is deprecated, passed through in regex; marked by <-- HERE in m/{{ <-- HERE \s*([a-zA-Z0-9][a-z0-9|]*)\s*}}/ at /tmp/loop_over_bdir-2630-H7DQAe/XHTML-MediaWiki-0.11-yzsdvh/blib/lib/XHTML/MediaWiki.pm line 1052.
t/comment.t ....... ok
Unescaped left brace in regex is deprecated, passed through in regex; marked by <-- HERE in m/{{ <-- HERE \s*([a-zA-Z0-9][a-z0-9|]*)\s*}}/ at /tmp/loop_over_bdir-2630-H7DQAe/XHTML-MediaWiki-0.11-yzsdvh/blib/lib/XHTML/MediaWiki.pm line 1052.
t/div.t ........... ok
Unescaped left brace in regex is deprecated, passed through in regex; marked by <-- HERE in m/{{ <-- HERE \s*([a-zA-Z0-9][a-z0-9|]*)\s*}}/ at /tmp/loop_over_bdir-2630-H7DQAe/XHTML-MediaWiki-0.11-yzsdvh/blib/lib/XHTML/MediaWiki.pm line 1052.
t/footnotes.t ..... ok
Unescaped left brace in regex is deprecated, passed through in regex; marked by <-- HERE in m/{{ <-- HERE \s*([a-zA-Z0-9][a-z0-9|]*)\s*}}/ at /tmp/loop_over_bdir-2630-H7DQAe/XHTML-MediaWiki-0.11-yzsdvh/blib/lib/XHTML/MediaWiki.pm line 1052.
t/headers.t ....... ok
Unescaped left brace in regex is deprecated, passed through in regex; marked by <-- HERE in m/{{ <-- HERE \s*([a-zA-Z0-9][a-z0-9|]*)\s*}}/ at /tmp/loop_over_bdir-2630-H7DQAe/XHTML-MediaWiki-0.11-yzsdvh/blib/lib/XHTML/MediaWiki.pm line 1052.
t/html.t .......... ok
Unescaped left brace in regex is deprecated, passed through in regex; marked by <-- HERE in m/{{ <-- HERE \s*([a-zA-Z0-9][a-z0-9|]*)\s*}}/ at /tmp/loop_over_bdir-2630-H7DQAe/XHTML-MediaWiki-0.11-yzsdvh/blib/lib/XHTML/MediaWiki.pm line 1052.
t/line.t .......... ok
Unescaped left brace in regex is deprecated, passed through in regex; marked by <-- HERE in m/{{ <-- HERE \s*([a-zA-Z0-9][a-z0-9|]*)\s*}}/ at /tmp/loop_over_bdir-2630-H7DQAe/XHTML-MediaWiki-0.11-yzsdvh/blib/lib/XHTML/MediaWiki.pm line 1052.
t/links.t ......... ok
Unescaped left brace in regex is deprecated, passed through in regex; marked by <-- HERE in m/{{ <-- HERE \s*([a-zA-Z0-9][a-z0-9|]*)\s*}}/ at /tmp/loop_over_bdir-2630-H7DQAe/XHTML-MediaWiki-0.11-yzsdvh/blib/lib/XHTML/MediaWiki.pm line 1052.
t/misc.t .......... ok
Unescaped left brace in regex is deprecated, passed through in regex; marked by <-- HERE in m/{{ <-- HERE \s*([a-zA-Z0-9][a-z0-9|]*)\s*}}/ at /tmp/loop_over_bdir-2630-H7DQAe/XHTML-MediaWiki-0.11-yzsdvh/blib/lib/XHTML/MediaWiki.pm line 1052.
t/nowiki.t ........ ok
Unescaped left brace in regex is deprecated, passed through in regex; marked by <-- HERE in m/{{ <-- HERE \s*([a-zA-Z0-9][a-z0-9|]*)\s*}}/ at /tmp/loop_over_bdir-2630-H7DQAe/XHTML-MediaWiki-0.11-yzsdvh/blib/lib/XHTML/MediaWiki.pm line 1052.
t/ordered.t ....... ok
Unescaped left brace in regex is deprecated, passed through in regex; marked by <-- HERE in m/{{ <-- HERE \s*([a-zA-Z0-9][a-z0-9|]*)\s*}}/ at /tmp/loop_over_bdir-2630-H7DQAe/XHTML-MediaWiki-0.11-yzsdvh/blib/lib/XHTML/MediaWiki.pm line 1052.
t/para_break.t .... ok
Unescaped left brace in regex is deprecated, passed through in regex; marked by <-- HERE in m/{{ <-- HERE \s*([a-zA-Z0-9][a-z0-9|]*)\s*}}/ at /tmp/loop_over_bdir-2630-H7DQAe/XHTML-MediaWiki-0.11-yzsdvh/blib/lib/XHTML/MediaWiki.pm line 1052.
t/paragraph.t ..... ok
t/pod.t ........... ok
t/pod_coverage.t .. ok
Unescaped left brace in regex is deprecated, passed through in regex; marked by <-- HERE in m/{{ <-- HERE \s*([a-zA-Z0-9][a-z0-9|]*)\s*}}/ at /tmp/loop_over_bdir-2630-H7DQAe/XHTML-MediaWiki-0.11-yzsdvh/blib/lib/XHTML/MediaWiki.pm line 1052.
t/pre.t ........... ok
Unescaped left brace in regex is deprecated, passed through in regex; marked by <-- HERE in m/{{ <-- HERE \s*([a-zA-Z0-9][a-z0-9|]*)\s*}}/ at /tmp/loop_over_bdir-2630-H7DQAe/XHTML-MediaWiki-0.11-yzsdvh/blib/lib/XHTML/MediaWiki.pm line 1052.
t/prewiki.t ....... ok
Unescaped left brace in regex is deprecated, passed through in regex; marked by <-- HERE in m/{{ <-- HERE \s*([a-zA-Z0-9][a-z0-9|]*)\s*}}/ at /tmp/loop_over_bdir-2630-H7DQAe/XHTML-MediaWiki-0.11-yzsdvh/blib/lib/XHTML/MediaWiki.pm line 1052.
t/template.t ...... ok
Unescaped left brace in regex is deprecated, passed through in regex; marked by <-- HERE in m/{{ <-- HERE \s*([a-zA-Z0-9][a-z0-9|]*)\s*}}/ at /tmp/loop_over_bdir-2630-H7DQAe/XHTML-MediaWiki-0.11-yzsdvh/blib/lib/XHTML/MediaWiki.pm line 1052.
t/test02.t ........ ok
Unescaped left brace in regex is deprecated, passed through in regex; marked by <-- HERE in m/{{ <-- HERE \s*([a-zA-Z0-9][a-z0-9|]*)\s*}}/ at /tmp/loop_over_bdir-2630-H7DQAe/XHTML-MediaWiki-0.11-yzsdvh/blib/lib/XHTML/MediaWiki.pm line 1052.
t/unordered.t ..... ok
All tests successful.
Files=22, Tests=49, 6 wallclock secs ( 0.06 usr 0.02 sys + 1.57 cusr 0.24 csys = 1.89 CPU)
Result: PASS
------------------------------
PREREQUISITES
------------------------------
Prerequisite modules loaded:
requires:
Module Need Have
---------------- --------- --------
HTML::Parser 0 3.71
Params::Validate 0.85 1.07
perl 5.006_001 5.017006
URI::Escape 0 3.31
build_requires:
Module Need Have
---------------- --------- --------
Test::XML 0 0.08
configure_requires:
Module Need Have
---------------- --------- --------
Module::Build 0.36 0.4005
------------------------------
ENVIRONMENT AND OTHER CONTEXT
------------------------------
Environment variables:
AUTOMATED_TESTING = 1
LANG = en_US.UTF-8
LANGUAGE = en_US:en
PATH = /usr/lib/ccache:/home/sand/bin:/usr/local/bin:/usr/bin:/bin:/usr/bin/X11:/usr/games:/usr/local/perl/bin:/usr/X11/bin:/sbin:/usr/sbin
PERL5LIB =
PERL5OPT =
PERL5_CPANPLUS_IS_RUNNING = 2631
PERL5_CPAN_IS_RUNNING = 2631
PERL_MM_USE_DEFAULT = 1
SHELL = /usr/bin/zsh
TERM = screen
Perl special variables (and OS-specific diagnostics, for MSWin32):
$^X = /home/sand/src/perl/repoperls/installed-perls/perl/v5.17.6/127e/bin/perl
$UID/$EUID = 1005 / 1005
$GID = 1005 1005
$EGID = 1005 1005
Perl module toolchain versions installed:
Module Have
------------------- --------
CPAN 2.00
CPAN::Meta 2.130880
Cwd 3.40
ExtUtils::CBuilder 0.280209
ExtUtils::Command 1.17
ExtUtils::Install 1.58
ExtUtils::MakeMaker 6.67_01
ExtUtils::Manifest 1.62
ExtUtils::ParseXS 3.18_03
File::Spec 3.40
JSON 2.57
JSON::PP 2.27201
Module::Build 0.4005
Module::Signature 0.70
Parse::CPAN::Meta 1.4404
Test::Harness 3.28
Test::More 0.98
YAML 0.84
YAML::Syck 1.25
version 0.9902
--
Summary of my perl5 (revision 5 version 17 subversion 6) configuration:
Commit id: 15c17f169ef0db20cf821f6005d06ec88d93d250
Platform:
osname=linux, osvers=3.2.0-4-amd64, archname=x86_64-linux-ld
uname='linux k83 3.2.0-4-amd64 #1 smp debian 3.2.35-2 x86_64 gnulinux '
config_args='-Dprefix=/home/src/perl/repoperls/installed-perls/perl/v5.17.6/127e -Dmyhostname=k83 -Dinstallusrbinperl=n -Uversiononly -Dusedevel -des -Ui_db -Uuseithreads -Duselongdouble -DDEBUGGING=-g'
hint=recommended, useposix=true, d_sigaction=define
useithreads=undef, usemultiplicity=undef
useperlio=define, d_sfio=undef, uselargefiles=define, usesocks=undef
use64bitint=define, use64bitall=define, uselongdouble=define
usemymalloc=n, bincompat5005=undef
Compiler:
cc='cc', ccflags ='-fno-strict-aliasing -pipe -fstack-protector -I/usr/local/include -D_LARGEFILE_SOURCE -D_FILE_OFFSET_BITS=64',
optimize='-O2 -g',
cppflags='-fno-strict-aliasing -pipe -fstack-protector -I/usr/local/include'
ccversion='', gccversion='4.7.2', gccosandvers=''
intsize=4, longsize=8, ptrsize=8, doublesize=8, byteorder=12345678
d_longlong=define, longlongsize=8, d_longdbl=define, longdblsize=16
ivtype='long', ivsize=8, nvtype='long double', nvsize=16, Off_t='off_t', lseeksize=8
alignbytes=16, prototype=define
Linker and Libraries:
ld='cc', ldflags =' -fstack-protector -L/usr/local/lib'
libpth=/usr/local/lib /lib/x86_64-linux-gnu /lib/../lib /usr/lib/x86_64-linux-gnu /usr/lib/../lib /lib /usr/lib
libs=-lnsl -ldb -ldl -lm -lcrypt -lutil -lc
perllibs=-lnsl -ldl -lm -lcrypt -lutil -lc
libc=, so=so, useshrplib=false, libperl=libperl.a
gnulibc_version='2.13'
Dynamic Linking:
dlsrc=dl_dlopen.xs, dlext=so, d_dlsymun=undef, ccdlflags='-Wl,-E'
cccdlflags='-fPIC', lddlflags='-shared -O2 -g -L/usr/local/lib -fstack-protector'
Characteristics of this binary (from libperl):
Compile-time options: HAS_TIMES PERLIO_LAYERS PERL_DONT_CREATE_GVSV
PERL_MALLOC_WRAP PERL_PRESERVE_IVUV PERL_USE_DEVEL
USE_64_BIT_ALL USE_64_BIT_INT USE_LARGE_FILES
USE_LOCALE USE_LOCALE_COLLATE USE_LOCALE_CTYPE
USE_LOCALE_NUMERIC USE_LONG_DOUBLE USE_PERLIO
USE_PERL_ATOF
Built under linux
Compiled at Dec 30 2012 13:08:02
%ENV:
PERL5LIB=""
PERL5OPT=""
PERL5_CPANPLUS_IS_RUNNING="2631"
PERL5_CPAN_IS_RUNNING="2631"
PERL_MM_USE_DEFAULT="1"
@INC:
/home/src/perl/repoperls/installed-perls/perl/v5.17.6/127e/lib/site_perl/5.17.6/x86_64-linux-ld
/home/src/perl/repoperls/installed-perls/perl/v5.17.6/127e/lib/site_perl/5.17.6
/home/src/perl/repoperls/installed-perls/perl/v5.17.6/127e/lib/5.17.6/x86_64-linux-ld
/home/src/perl/repoperls/installed-perls/perl/v5.17.6/127e/lib/5.17.6
.