Back
From: metabase:user:30f4dfbe-2aae-11df-837a-5e0a49663a4f
Subject: PASS MozRepl-0.06 v5.12.0 GNU/Linux
Date: 2011-12-22T19:43:06Z
This distribution has been tested as part of the CPAN Testers
project, supporting the Perl programming language. See
http://wiki.cpantesters.org/ for more information or email
questions to cpan-testers-discuss@perl.org
--
Dear Toru Yamaguchi,
This is a computer-generated report for MozRepl-0.06
on perl 5.12.0, created by CPAN-Reporter-1.2003.
Thank you for uploading your work to CPAN. Congratulations!
All tests were successful.
Sections of this report:
* Tester comments
* Program output
* Prerequisites
* Environment and other context
------------------------------
TESTER COMMENTS
------------------------------
Additional comments from tester:
this report is from an automated smoke testing program
and was not reviewed by a human for accuracy
------------------------------
PROGRAM OUTPUT
------------------------------
Output from '/usr/bin/make test':
/home/njh/perl5/perlbrew/perls/perl-5.12.0/bin/perl "-Iinc" Makefile.PL --config= --installdeps=Data::JavaScript::Anon,0,Module::Pluggable::Fast,0,Template,0,Template::Provider::FromDATA,0,Text::SimpleTable,0
PERL_DL_NONLAZY=1 /home/njh/perl5/perlbrew/perls/perl-5.12.0/bin/perl "-MExtUtils::Command::MM" "-e" "test_harness(0, 'inc', 'blib/lib', 'blib/arch')" t/00-load.t t/10-plugin-repl-enter.t t/11-plugin-repl-search.t t/12-plugin-repl-inspect.t t/13-plugin-repl-load.t t/14-plugin-repl-rename.t t/15-plugin-repl-print.t t/16-plugin-repl-home.t t/17-plugin-repl-back.t t/18-plugin-repl-util-help_url_for.t t/19-plugin-repl-util-doc_for.t t/20-plugin-json.t t/pod-coverage.t t/pod.t
# Testing MozRepl 0.06
t/00-load.t ........................... ok
[DEBUG] MozRepl logging enabled
[DEBUG]
---- Client arguments ----
.----------------------+------------------------------------------.
| client_arg_name | client_arg_value |
+----------------------+------------------------------------------+
| host | localhost |
| port | 4242 |
| timeout | 10 |
| extra_client_args | {} |
'----------------------+------------------------------------------'
t/10-plugin-repl-enter.t .............. ok
[DEBUG] MozRepl logging enabled
[DEBUG]
---- Client arguments ----
.----------------------+------------------------------------------.
| client_arg_name | client_arg_value |
+----------------------+------------------------------------------+
| host | localhost |
| port | 4242 |
| timeout | 10 |
| extra_client_args | {} |
'----------------------+------------------------------------------'
t/11-plugin-repl-search.t ............. ok
[DEBUG] MozRepl logging enabled
[DEBUG]
---- Client arguments ----
.----------------------+------------------------------------------.
| client_arg_name | client_arg_value |
+----------------------+------------------------------------------+
| host | localhost |
| port | 4242 |
| timeout | 10 |
| extra_client_args | {} |
'----------------------+------------------------------------------'
t/12-plugin-repl-inspect.t ............ ok
[DEBUG] MozRepl logging enabled
[DEBUG]
---- Client arguments ----
.----------------------+------------------------------------------.
| client_arg_name | client_arg_value |
+----------------------+------------------------------------------+
| host | localhost |
| port | 4242 |
| timeout | 10 |
| extra_client_args | {} |
'----------------------+------------------------------------------'
t/13-plugin-repl-load.t ............... ok
[DEBUG] MozRepl logging enabled
[DEBUG]
---- Client arguments ----
.----------------------+------------------------------------------.
| client_arg_name | client_arg_value |
+----------------------+------------------------------------------+
| host | localhost |
| port | 4242 |
| timeout | 10 |
| extra_client_args | {} |
'----------------------+------------------------------------------'
t/14-plugin-repl-rename.t ............. ok
[DEBUG] MozRepl logging enabled
[DEBUG]
---- Client arguments ----
.----------------------+------------------------------------------.
| client_arg_name | client_arg_value |
+----------------------+------------------------------------------+
| host | localhost |
| port | 4242 |
| timeout | 10 |
| extra_client_args | {} |
'----------------------+------------------------------------------'
t/15-plugin-repl-print.t .............. ok
[DEBUG] MozRepl logging enabled
[DEBUG]
---- Client arguments ----
.----------------------+------------------------------------------.
| client_arg_name | client_arg_value |
+----------------------+------------------------------------------+
| host | localhost |
| port | 4242 |
| timeout | 10 |
| extra_client_args | {} |
'----------------------+------------------------------------------'
t/16-plugin-repl-home.t ............... ok
[DEBUG] MozRepl logging enabled
[DEBUG]
---- Client arguments ----
.----------------------+------------------------------------------.
| client_arg_name | client_arg_value |
+----------------------+------------------------------------------+
| host | localhost |
| port | 4242 |
| timeout | 10 |
| extra_client_args | {} |
'----------------------+------------------------------------------'
t/17-plugin-repl-back.t ............... ok
[DEBUG] MozRepl logging enabled
[DEBUG]
---- Client arguments ----
.----------------------+------------------------------------------.
| client_arg_name | client_arg_value |
+----------------------+------------------------------------------+
| host | localhost |
| port | 4242 |
| timeout | 10 |
| extra_client_args | {} |
'----------------------+------------------------------------------'
t/18-plugin-repl-util-help_url_for.t .. ok
[DEBUG] MozRepl logging enabled
[DEBUG]
---- Client arguments ----
.----------------------+------------------------------------------.
| client_arg_name | client_arg_value |
+----------------------+------------------------------------------+
| host | localhost |
| port | 4242 |
| timeout | 10 |
| extra_client_args | {} |
'----------------------+------------------------------------------'
t/19-plugin-repl-util-doc_for.t ....... ok
[DEBUG] MozRepl logging enabled
[DEBUG]
---- Client arguments ----
.----------------------+------------------------------------------.
| client_arg_name | client_arg_value |
+----------------------+------------------------------------------+
| host | localhost |
| port | 4242 |
| timeout | 10 |
| extra_client_args | {} |
'----------------------+------------------------------------------'
t/20-plugin-json.t .................... ok
t/pod-coverage.t ...................... ok
t/pod.t ............................... ok
All tests successful.
Files=14, Tests=74, 2 wallclock secs ( 0.06 usr 0.03 sys + 1.41 cusr 0.24 csys = 1.74 CPU)
Result: PASS
------------------------------
PREREQUISITES
------------------------------
Prerequisite modules loaded:
requires:
Module Need Have
---------------------------- ---- ----
Carp::Clan 0 6.04
Class::Accessor::Fast 0 0.34
Class::Data::Inheritable 0 0.08
Data::Dump 0 1.21
Data::JavaScript::Anon 0 1.03
File::Spec 0 3.33
Module::Pluggable::Fast 0 0.19
Net::Telnet 0 3.03
Template 0 2.22
Template::Provider::FromDATA 0 0.12
Text::SimpleTable 0 2.03
UNIVERSAL::require 0 0.13
URI 0 1.59
build_requires:
Module Need Have
---------------------------- ---- ----
ExtUtils::MakeMaker 0 6.62
------------------------------
ENVIRONMENT AND OTHER CONTEXT
------------------------------
Environment variables:
AUTOMATED_TESTING = 1
LANG = en_GB.UTF-8
PATH = /home/njh/perl5/perlbrew/bin:/home/njh/perl5/perlbrew/perls/perl-5.12.0/bin:/usr/bin:/bin
PERL5LIB = /var/tmp/cpan-njh-build/Data-JavaScript-Anon-1.03-40ZZv9/blib/arch:/var/tmp/cpan-njh-build/Data-JavaScript-Anon-1.03-40ZZv9/blib/lib:/var/tmp/cpan-njh-build/Class-Default-1.51-_JNAv9/blib/arch:/var/tmp/cpan-njh-build/Class-Default-1.51-_JNAv9/blib/lib:/var/tmp/cpan-njh-build/Text-SimpleTable-2.03-99jNDs/blib/arch:/var/tmp/cpan-njh-build/Text-SimpleTable-2.03-99jNDs/blib/lib:/var/tmp/cpan-njh-build/Template-Provider-FromDATA-0.12-1bmjJF/blib/arch:/var/tmp/cpan-njh-build/Template-Provider-FromDATA-0.12-1bmjJF/blib/lib:/var/tmp/cpan-njh-build/Template-Toolkit-2.22-sEZYx6/blib/arch:/var/tmp/cpan-njh-build/Template-Toolkit-2.22-sEZYx6/blib/lib:/var/tmp/cpan-njh-build/AppConfig-1.66-fjJ4j4/blib/arch:/var/tmp/cpan-njh-build/AppConfig-1.66-fjJ4j4/blib/lib:/var/tmp/cpan-njh-build/Module-Pluggable-Fast-0.19-k73sWS/blib/arch:/var/tmp/cpan-njh-build/Module-Pluggable-Fast-0.19-k73sWS/blib/lib
PERL5OPT =
PERL5_CPANPLUS_IS_RUNNING = 13588
PERL5_CPAN_IS_RUNNING = 13588
PERL5_MINISMOKEBOX = 0.54
PERL_EXTUTILS_AUTOINSTALL = --defaultdeps
PERL_MM_USE_DEFAULT = 1
SHELL = /bin/sh
Perl special variables (and OS-specific diagnostics, for MSWin32):
$^X = /home/njh/perl5/perlbrew/perls/perl-5.12.0/bin/perl
$UID/$EUID = 1000 / 1000
$GID = 1000 20 24 25 29 44 46 1000
$EGID = 1000 20 24 25 29 44 46 1000
Perl module toolchain versions installed:
Module Have
------------------- --------
CPAN 1.9800
CPAN::Meta 2.112621
Cwd 3.33
ExtUtils::CBuilder 0.280202
ExtUtils::Command 1.17
ExtUtils::Install 1.55
ExtUtils::MakeMaker 6.62
ExtUtils::Manifest 1.60
ExtUtils::ParseXS 3.07
File::Spec 3.33
JSON 2.53
JSON::PP 2.27200
Module::Build 0.3800
Module::Signature n/a
Parse::CPAN::Meta 1.4401
Test::Harness 3.23
Test::More 0.98
YAML 0.77
YAML::Syck 1.19
version 0.95
--
Summary of my perl5 (revision 5 version 12 subversion 0) configuration:
Platform:
osname=linux, osvers=2.6.39-2-686-pae, archname=i686-linux-thread-multi
uname='linux gateway.bandsman.co.uk 2.6.39-2-686-pae #1 smp tue jul 5 03:48:49 utc 2011 i686 gnulinux '
config_args='-de -Dprefix=/home/njh/perl5/perlbrew/perls/perl-5.12.0 -Duseithreads -D_FORTIFY_SOURCE=2 -Accflags=-O2'
hint=recommended, useposix=true, d_sigaction=define
useithreads=define, usemultiplicity=define
useperlio=define, d_sfio=undef, uselargefiles=define, usesocks=undef
use64bitint=undef, use64bitall=undef, uselongdouble=undef
usemymalloc=n, bincompat5005=undef
Compiler:
cc='cc', ccflags ='-D_REENTRANT -D_GNU_SOURCE -O2 -fno-strict-aliasing -pipe -fstack-protector -I/usr/local/include -D_LARGEFILE_SOURCE -D_FILE_OFFSET_BITS=64',
optimize='-O2',
cppflags='-D_REENTRANT -D_GNU_SOURCE -O2 -fno-strict-aliasing -pipe -fstack-protector -I/usr/local/include'
ccversion='', gccversion='4.6.1', gccosandvers=''
intsize=4, longsize=4, ptrsize=4, doublesize=8, byteorder=1234
d_longlong=define, longlongsize=8, d_longdbl=define, longdblsize=12
ivtype='long', ivsize=4, nvtype='double', nvsize=8, Off_t='off_t', lseeksize=8
alignbytes=4, prototype=define
Linker and Libraries:
ld='cc', ldflags =' -fstack-protector -L/usr/local/lib'
libpth=/usr/local/lib /lib/i386-linux-gnu /usr/lib/i386-linux-gnu /lib /usr/lib
libs=-lnsl -lgdbm -ldb -ldl -lm -lcrypt -lutil -lpthread -lc -lgdbm_compat
perllibs=-lnsl -ldl -lm -lcrypt -lutil -lpthread -lc
libc=, so=so, useshrplib=false, libperl=libperl.a
gnulibc_version='2.13'
Dynamic Linking:
dlsrc=dl_dlopen.xs, dlext=so, d_dlsymun=undef, ccdlflags='-Wl,-E'
cccdlflags='-fPIC', lddlflags='-shared -O2 -L/usr/local/lib -fstack-protector'
Characteristics of this binary (from libperl):
Compile-time options: MULTIPLICITY PERL_DONT_CREATE_GVSV
PERL_IMPLICIT_CONTEXT PERL_MALLOC_WRAP USE_ITHREADS
USE_LARGE_FILES USE_PERLIO USE_PERL_ATOF
USE_REENTRANT_API
Built under linux
Compiled at Jul 28 2011 15:28:31
%ENV:
PERL5LIB="/var/tmp/cpan-njh-build/Data-JavaScript-Anon-1.03-40ZZv9/blib/arch:/var/tmp/cpan-njh-build/Data-JavaScript-Anon-1.03-40ZZv9/blib/lib:/var/tmp/cpan-njh-build/Class-Default-1.51-_JNAv9/blib/arch:/var/tmp/cpan-njh-build/Class-Default-1.51-_JNAv9/blib/lib:/var/tmp/cpan-njh-build/Text-SimpleTable-2.03-99jNDs/blib/arch:/var/tmp/cpan-njh-build/Text-SimpleTable-2.03-99jNDs/blib/lib:/var/tmp/cpan-njh-build/Template-Provider-FromDATA-0.12-1bmjJF/blib/arch:/var/tmp/cpan-njh-build/Template-Provider-FromDATA-0.12-1bmjJF/blib/lib:/var/tmp/cpan-njh-build/Template-Toolkit-2.22-sEZYx6/blib/arch:/var/tmp/cpan-njh-build/Template-Toolkit-2.22-sEZYx6/blib/lib:/var/tmp/cpan-njh-build/AppConfig-1.66-fjJ4j4/blib/arch:/var/tmp/cpan-njh-build/AppConfig-1.66-fjJ4j4/blib/lib:/var/tmp/cpan-njh-build/Module-Pluggable-Fast-0.19-k73sWS/blib/arch:/var/tmp/cpan-njh-build/Module-Pluggable-Fast-0.19-k73sWS/blib/lib"
PERL5OPT=""
PERL5_CPANPLUS_IS_RUNNING="13588"
PERL5_CPAN_IS_RUNNING="13588"
PERL5_MINISMOKEBOX="0.54"
PERL_EXTUTILS_AUTOINSTALL="--defaultdeps"
PERL_MM_USE_DEFAULT="1"
@INC:
/var/tmp/cpan-njh-build/Data-JavaScript-Anon-1.03-40ZZv9/blib/arch
/var/tmp/cpan-njh-build/Data-JavaScript-Anon-1.03-40ZZv9/blib/lib
/var/tmp/cpan-njh-build/Class-Default-1.51-_JNAv9/blib/arch
/var/tmp/cpan-njh-build/Class-Default-1.51-_JNAv9/blib/lib
/var/tmp/cpan-njh-build/Text-SimpleTable-2.03-99jNDs/blib/arch
/var/tmp/cpan-njh-build/Text-SimpleTable-2.03-99jNDs/blib/lib
/var/tmp/cpan-njh-build/Template-Provider-FromDATA-0.12-1bmjJF/blib/arch
/var/tmp/cpan-njh-build/Template-Provider-FromDATA-0.12-1bmjJF/blib/lib
/var/tmp/cpan-njh-build/Template-Toolkit-2.22-sEZYx6/blib/arch
/var/tmp/cpan-njh-build/Template-Toolkit-2.22-sEZYx6/blib/lib
/var/tmp/cpan-njh-build/AppConfig-1.66-fjJ4j4/blib/arch
/var/tmp/cpan-njh-build/AppConfig-1.66-fjJ4j4/blib/lib
/var/tmp/cpan-njh-build/Module-Pluggable-Fast-0.19-k73sWS/blib/arch
/var/tmp/cpan-njh-build/Module-Pluggable-Fast-0.19-k73sWS/blib/lib
/home/njh/perl5/perlbrew/perls/perl-5.12.0/lib/site_perl/5.12.0/i686-linux-thread-multi
/home/njh/perl5/perlbrew/perls/perl-5.12.0/lib/site_perl/5.12.0
/home/njh/perl5/perlbrew/perls/perl-5.12.0/lib/5.12.0/i686-linux-thread-multi
/home/njh/perl5/perlbrew/perls/perl-5.12.0/lib/5.12.0
.